From mboxrd@z Thu Jan 1 00:00:00 1970 Return-Path: Received: from mails.dpdk.org (mails.dpdk.org [217.70.189.124]) by inbox.dpdk.org (Postfix) with ESMTP id 99D5946221 for ; Fri, 14 Feb 2025 08:11:31 +0100 (CET) Received: from mails.dpdk.org (localhost [127.0.0.1]) by mails.dpdk.org (Postfix) with ESMTP id 6F5914064A; Fri, 14 Feb 2025 08:11:31 +0100 (CET) Received: from mail-pj1-f99.google.com (mail-pj1-f99.google.com [209.85.216.99]) by mails.dpdk.org (Postfix) with ESMTP id 56F4240263 for ; Fri, 14 Feb 2025 08:11:30 +0100 (CET) Received: by mail-pj1-f99.google.com with SMTP id 98e67ed59e1d1-2fc1f410186so1927976a91.0 for ; Thu, 13 Feb 2025 23:11:30 -0800 (PST) DKIM-Signature: v=1; a=rsa-sha256; c=relaxed/relaxed; d=iol.unh.edu; s=unh-iol; t=1739517089; x=1740121889; darn=dpdk.org; h=cc:to:from:subject:message-id:date:from:to:cc:subject:date :message-id:reply-to; bh=bnZDJwjduYeJzcP36gzMPcl2+0fJujbsjo2Hg8ZKc/U=; b=dpQ98DUbwTzzJFr57xFEpTQDyw6lGAGK/LQfkTdrTqj0pnQ/ngONXo5A0HzwD0hLGH inTrj9MwbPHh4p47fwUeLK+SjR1LpCWhcSqyXsRGQoWuJqUMlMQbYhcb1/iqry5mzPdA +GwnkWs0OBzMpz8EK0a72JEhKCnI1I4+DZ7Rk= X-Google-DKIM-Signature: v=1; a=rsa-sha256; c=relaxed/relaxed; d=1e100.net; s=20230601; t=1739517089; x=1740121889; h=cc:to:from:subject:message-id:date:x-gm-message-state:from:to:cc :subject:date:message-id:reply-to; bh=bnZDJwjduYeJzcP36gzMPcl2+0fJujbsjo2Hg8ZKc/U=; b=HxgdYr60f17NLvNKL+dyMNk8eqQmslZk/0RtmsfnUsLMRSLqmit4gplunBIg+Tenk2 7Ojtwa2yQx1cF0LvRVgK77DMTScQMPu3GUMNzmoXWKlukaNIFEVauYnZsHs86thYyMCQ Uu7lAJy4i29PGaCo5Y7a96rxZ7qzyO5kGcg0zwkDZzB3aAU+TA2BlPb5ah2phK7UBYjZ sjFHz0uyjaVsXXF+12kqjgbwDPiCYB4C8HkKvIuhmE8J6b7GH6UWsIkmqBSlmg5E/yrV 7R0fGs0pn2Jc3eULQB72sAKgOD++N9HqaSFDSl0VlJPjhLaewz/cqYg7QyqonbTUCoI0 SQQw== X-Gm-Message-State: AOJu0YxOU9ECKBCCzTExo+gsx8hpd9uK5UjJbTdaLINxXv2KnU3aPHqc 0EGn7H8FcAlPB2+6RViBqXT9b+47vjemcbs4O7FRW9MbxXiGNsDKitwtzI4fFzzsCbvfx1a9Vd4 PhbB0yqyFMoXINosCSE0mdc6V4Fv/1/xfkOuIFqheM0hYrbtE X-Gm-Gg: ASbGncug1lJA7/8rhxsmY9fWv5O6bpeeulQK5rPdFl0hqVjXj5rRgaCh6YV/KZwl9h+ 5QF8YtphpElwQyWJSFQL44cTj6imxgaZw66QFpEveDtbu0/j8aBbZYZ8vIsFYmcD6Bh/XSppCoD VHVIj/kUX7AzqYSPgeokxVVTkpQ024kJy6VGrWlhfqgp1Vl1cVclkDEp2FIIu2adHVlMPjStITs gZLeqZoKwaff6JFIjpa0GZBE2mTlgxEWWRupejGYLwHJxB2zrKN6KjXkoBTADFvekzXlilVbRTB CLPAuzFptJnwBMxjXN409rOcXVuEwJNJwskGPebkUw== X-Google-Smtp-Source: AGHT+IHu9t3/QZIdRCwIJoLztSQ56g74oYq5G2g0jnxdm50bcBe7oicIhN/tNtKtoNM9LtPsQH+uwqyYBWB1 X-Received: by 2002:aa7:9912:0:b0:732:5875:eb95 with SMTP id d2e1a72fcca58-7325875ee4fmr234819b3a.4.1739517089327; Thu, 13 Feb 2025 23:11:29 -0800 (PST) Received: from postal.iol.unh.edu (postal.iol.unh.edu. [2606:4100:3880:1234::84]) by smtp-relay.gmail.com with ESMTPS id 41be03b00d2f7-adb59d6fac2sm158747a12.29.2025.02.13.23.11.29 (version=TLS1_2 cipher=ECDHE-ECDSA-AES128-GCM-SHA256 bits=128/128); Thu, 13 Feb 2025 23:11:29 -0800 (PST) X-Relaying-Domain: iol.unh.edu Date: Thu, 13 Feb 2025 23:11:29 -0800 (PST) Message-ID: <67aeeca1.630a0220.1a02bb.837bSMTPIN_ADDED_MISSING@mx.google.com> Received: from [172.21.0.6] (unknown [172.18.0.240]) by postal.iol.unh.edu (Postfix) with ESMTP id 6FEEB6052471; Fri, 14 Feb 2025 02:11:28 -0500 (EST) Subject: |SUCCESS| [GIT MASTER] f2eea2f37a82bb73fb01d56350708f7d70e21379 From: dpdklab@iol.unh.edu To: Test Report Cc: dpdk-test-reports@iol.unh.edu, Xueming Li , Christian Ehrhardt , Kevin Traynor , Luca Boccassi Content-Type: text/plain X-BeenThere: test-report@dpdk.org X-Mailman-Version: 2.1.29 Precedence: list List-Id: automatic DPDK test reports List-Unsubscribe: , List-Archive: List-Post: List-Help: List-Subscribe: , Errors-To: test-report-bounces@dpdk.org _Testing PASS_ Branch: tags/v24.11 f2eea2f37a82bb73fb01d56350708f7d70e21379 --> testing pass Upstream job id: Generic-Unit-Test-DPDK#314947 Test environment and result as below: +-------------------+----------------+ | Environment | dpdk_unit_test | +===================+================+ | CentOS Stream 9 | PASS | +-------------------+----------------+ | Debian Bullseye | PASS | +-------------------+----------------+ | CentOS Stream 10 | PASS | +-------------------+----------------+ | Fedora 40 | PASS | +-------------------+----------------+ | Fedora 40 (Clang) | PASS | +-------------------+----------------+ | Debian 12 | PASS | +-------------------+----------------+ | Fedora 41 | PASS | +-------------------+----------------+ | RHEL9 | PASS | +-------------------+----------------+ | RHEL8 | PASS | +-------------------+----------------+ | Fedora 41 (Clang) | PASS | +-------------------+----------------+ | Ubuntu 20.04 | PASS | +-------------------+----------------+ | Ubuntu 22.04 | PASS | +-------------------+----------------+ | Ubuntu 24.04 | PASS | +-------------------+----------------+ CentOS Stream 9 Kernel: Depends on container host Compiler: gcc 11.5.0 20240719 (Red Hat 11.5.0-2) Debian Bullseye Kernel: Depends on container host Compiler: gcc (Debian 10.2.1-6) 10.2.1 20210110 CentOS Stream 10 Kernel: Depends on container host Compiler: gcc 14.2.1 20241104 (Red Hat 14.2.1-6) Fedora 40 Kernel: Depends on container host Compiler: gcc 14.2.1 20240912 (Red Hat 14.2.1-3) Fedora 40 (Clang) Kernel: Depends on container host Compiler: clang 18.1.8 (Fedora 18.1.8-1.fc40) Debian 12 Kernel: Depends on container host Compiler: gcc (Debian 12.2.0-14) 12.2.0 Fedora 41 Kernel: Depends on container host Compiler: gcc 14.2.1 20240912 (Red Hat 14.2.1-3) RHEL9 Kernel: Depends on container host Compiler: gcc 11.5.0 20240719 (Red Hat 11.5.0-2) RHEL8 Kernel: Depends on container host Compiler: gcc 8.5.0 20210514 (Red Hat 8.5.0-22) Fedora 41 (Clang) Kernel: Depends on container host Compiler: clang 19.1.5 (Fedora 19.1.5-1.fc41) Ubuntu 20.04 Kernel: Depends on container host Compiler: gcc (Ubuntu 9.4.0-1ubuntu1~20.04.2) 9.4.0 Ubuntu 22.04 Kernel: Depends on container host Compiler: gcc (Ubuntu 11.4.0-1ubuntu1~22.04) 11.4.0 Ubuntu 24.04 Kernel: Depends on container host Compiler: gcc (Ubuntu 13.3.0-6ubuntu2~24.04) 13.3.0 To view detailed results, visit: https://lab.dpdk.org/results/dashboard/tarballs/32575/ UNH-IOL DPDK Community Lab To manage your email subscriptions, visit: https://lab.dpdk.org/results/dashboard/preferences/subscriptions/