From mboxrd@z Thu Jan 1 00:00:00 1970 Return-Path: Received: from mails.dpdk.org (mails.dpdk.org [217.70.189.124]) by inbox.dpdk.org (Postfix) with ESMTP id E8CBE46221 for ; Fri, 14 Feb 2025 09:34:57 +0100 (CET) Received: from mails.dpdk.org (localhost [127.0.0.1]) by mails.dpdk.org (Postfix) with ESMTP id CF0344064A; Fri, 14 Feb 2025 09:34:57 +0100 (CET) Received: from mail-pj1-f98.google.com (mail-pj1-f98.google.com [209.85.216.98]) by mails.dpdk.org (Postfix) with ESMTP id 2DFBE40263 for ; Fri, 14 Feb 2025 09:34:56 +0100 (CET) Received: by mail-pj1-f98.google.com with SMTP id 98e67ed59e1d1-2fc291f7ddbso1163238a91.1 for ; Fri, 14 Feb 2025 00:34:56 -0800 (PST) DKIM-Signature: v=1; a=rsa-sha256; c=relaxed/relaxed; d=iol.unh.edu; s=unh-iol; t=1739522095; x=1740126895; darn=dpdk.org; h=cc:to:from:subject:message-id:date:from:to:cc:subject:date :message-id:reply-to; bh=FdZ97EncZOfuwYCLFkr8Oj6Etb2Lc6u1oDCImdPT3x0=; b=fuvwgIAcB1KX4zJHqvcWL2PQNmDCLVLE/QdIFC+s8lQCr7PbYFqi73t65wFdwH3iXT GCZg5C2avdADAuycASnEwlOTQ0f4ofjhCWXTlufBRABATBzssLGcdIO8ft8HOmHuycK0 LA2bw9GRNIO1Cf9vCOQ5j0gTJfXZxSrW7Bvvo= X-Google-DKIM-Signature: v=1; a=rsa-sha256; c=relaxed/relaxed; d=1e100.net; s=20230601; t=1739522095; x=1740126895; h=cc:to:from:subject:message-id:date:x-gm-message-state:from:to:cc :subject:date:message-id:reply-to; bh=FdZ97EncZOfuwYCLFkr8Oj6Etb2Lc6u1oDCImdPT3x0=; b=rTCNbuQYnpHn7rCcTqKI98gg9CPjlQPZjt85OzE8km2kxeIqYyomyYDtlmP80kAsdA LHzkWBoVX8Zgp7UGG5bWlr7NtIiEDSJTHIniKqwdsrF4fnBIy9hYLuA4S+CzffyG/V/O hPrn/DtXxDzPbVk234cVZTF3NH+dfCSWk/QVA58k7nnYgXqxzZPbeGwMKE4Bs9W/oc2B WkhGP4C+a6exiNawGdxRDVwUe7E+Qe7hwm1IUnPed3LpWYrlt+tJUnjEmtrKztE+BFtJ VX1bc4ba5L38xz1q2pY9XqBcs8znJTFbZu4RhxIz9L7pAzIX+ajriGqbRltnXhKOyDY7 RWKA== X-Gm-Message-State: AOJu0YwPLl7YJXSG4yQb9MInOX6Bn2SGfls7REJV8o8c1whBSZcEk+Qq pb0v9/xRS3kareMYLKdo/vayVWb0G+/r0wR0EiegAp3mKo+wkTmwVtxaRrh2D2Y8WQyYNyl/9f4 F5lNC70xeG+4sG6li2yi2Ow39OWPcRE+6 X-Gm-Gg: ASbGncsnXddiyGTDsHP1/55eLeUpv642r8/Xsfq76Qi4UuaK8RDN9vrtGfDzdaFMo9d +g+In2kpf2AZOmEzmFCZ769+NI1TJu9nzgymN/LW6Sz/Po1YVdbHFmrb4fdwtHeX/pjDHChlvC2 vyi7xbXFv52aM6PHOQeCpUVlhGEj2He3wETnzoMzjLQlgjVgrveGhYV8oEb7t4rzr2uBXBXudaw QMFfE5o2K+MJ8kPu5Msu88AG+y3XKdDMhw6fpvaPr3kWhjs5dOiasFkOEQxY7hLZaXiyT6cN0IN GUwTp8HXM9Zl2yWEQaYWqEUXOyOZLA== X-Google-Smtp-Source: AGHT+IHtuIyRpBD/TZVyJn6mj/YS18a3rUf5HWSODqgceoRdkF5Z0R0GJ/M38JpdBxJNfLo/DUiAIhnc9Tu4 X-Received: by 2002:a17:90b:4a02:b0:2fa:e9b:33b3 with SMTP id 98e67ed59e1d1-2fc0ddd6032mr8487818a91.6.1739522095092; Fri, 14 Feb 2025 00:34:55 -0800 (PST) Received: from postal.iol.unh.edu (postal.iol.unh.edu. [132.177.123.84]) by smtp-relay.gmail.com with ESMTPS id 98e67ed59e1d1-2fbf989b8f2sm320683a91.3.2025.02.14.00.34.54 (version=TLS1_2 cipher=ECDHE-ECDSA-AES128-GCM-SHA256 bits=128/128); Fri, 14 Feb 2025 00:34:55 -0800 (PST) X-Relaying-Domain: iol.unh.edu Date: Fri, 14 Feb 2025 00:34:55 -0800 (PST) Message-ID: <67af002f.170a0220.ed8df.27c1SMTPIN_ADDED_MISSING@mx.google.com> Received: from [172.21.0.6] (unknown [172.18.0.240]) by postal.iol.unh.edu (Postfix) with ESMTP id 34B6E6052471; Fri, 14 Feb 2025 03:34:54 -0500 (EST) Subject: |SUCCESS| [GIT MASTER] f2eea2f37a82bb73fb01d56350708f7d70e21379 From: dpdklab@iol.unh.edu To: Test Report Cc: dpdk-test-reports@iol.unh.edu, Xueming Li , Christian Ehrhardt , Kevin Traynor , Luca Boccassi Content-Type: text/plain X-BeenThere: test-report@dpdk.org X-Mailman-Version: 2.1.29 Precedence: list List-Id: automatic DPDK test reports List-Unsubscribe: , List-Archive: List-Post: List-Help: List-Subscribe: , Errors-To: test-report-bounces@dpdk.org _Testing PASS_ Branch: tags/v24.11 f2eea2f37a82bb73fb01d56350708f7d70e21379 --> testing pass Upstream job id: Generic-DPDK-Compile-Meson#361602 Test environment and result as below: +--------------------------+--------------------+ | Environment | dpdk_meson_compile | +==========================+====================+ | RHEL9 (ARM) | PASS | +--------------------------+--------------------+ | Ubuntu 20.04 ARM SVE | PASS | +--------------------------+--------------------+ | Fedora 41 (ARM) | PASS | +--------------------------+--------------------+ | Ubuntu 20.04 (ARM) | PASS | +--------------------------+--------------------+ | Debian 12 with MUSDK | PASS | +--------------------------+--------------------+ | Fedora 40 (ARM Clang) | PASS | +--------------------------+--------------------+ | Ubuntu 22.04 (ARM) | PASS | +--------------------------+--------------------+ | CentOS Stream 10 (ARM) | PASS | +--------------------------+--------------------+ | Debian 11 (Buster) (ARM) | PASS | +--------------------------+--------------------+ | CentOS Stream 9 (ARM) | PASS | +--------------------------+--------------------+ | Ubuntu 24.04 (ARM) | PASS | +--------------------------+--------------------+ | Debian 12 (arm) | PASS | +--------------------------+--------------------+ | Fedora 40 (ARM) | PASS | +--------------------------+--------------------+ RHEL9 (ARM) Kernel: Depends on container host Compiler: gcc 11.5.0 20240719 (Red Hat 11.5.0-2) Ubuntu 20.04 ARM SVE Kernel: Depends on container host Compiler: gcc (Ubuntu 10.5.0-1ubuntu1~20.04) 10.5.0 Fedora 41 (ARM) Kernel: Depends on container host Compiler: gcc 14.2.1 20240912 (Red Hat 14.2.1-3) Ubuntu 20.04 (ARM) Kernel: Depends on container host Compiler: gcc (Ubuntu 9.4.0-1ubuntu1~20.04.2) 9.4.0 Debian 12 with MUSDK Kernel: Depends on container host Compiler: gcc (Debian 12.2.0-14) 12.2.0 Fedora 40 (ARM Clang) Kernel: Depends on container host Compiler: clang 18.1.8 (Fedora 18.1.8-1.fc40) Ubuntu 22.04 (ARM) Kernel: Depends on container host Compiler: gcc (Ubuntu 11.4.0-1ubuntu1~22.04) 11.4.0 CentOS Stream 10 (ARM) Kernel: Depends on container host Compiler: gcc 14.2.1 20241104 (Red Hat 14.2.1-6) Debian 11 (Buster) (ARM) Kernel: Depends on container host Compiler: gcc (Debian 10.2.1-6) 10.2.1 20210110 CentOS Stream 9 (ARM) Kernel: Depends on container host Compiler: gcc 11.5.0 20240719 (Red Hat 11.5.0-2) Ubuntu 24.04 (ARM) Kernel: Depends on container host Compiler: gcc (Ubuntu 13.3.0-6ubuntu2~24.04) 13.3.0 Debian 12 (arm) Kernel: Depends on container host Compiler: gcc (Debian 12.2.0-14) 12.2.0 Fedora 40 (ARM) Kernel: Depends on container host Compiler: gcc 14.2.1 20240912 (Red Hat 14.2.1-3) To view detailed results, visit: https://lab.dpdk.org/results/dashboard/tarballs/32575/ UNH-IOL DPDK Community Lab To manage your email subscriptions, visit: https://lab.dpdk.org/results/dashboard/preferences/subscriptions/