From mboxrd@z Thu Jan 1 00:00:00 1970 Return-Path: Received: from mails.dpdk.org (mails.dpdk.org [217.70.189.124]) by inbox.dpdk.org (Postfix) with ESMTP id 658EE46223 for ; Fri, 14 Feb 2025 10:51:08 +0100 (CET) Received: from mails.dpdk.org (localhost [127.0.0.1]) by mails.dpdk.org (Postfix) with ESMTP id 2C7A44064F; Fri, 14 Feb 2025 10:51:08 +0100 (CET) Received: from mail-pl1-f227.google.com (mail-pl1-f227.google.com [209.85.214.227]) by mails.dpdk.org (Postfix) with ESMTP id CB3434064A for ; Fri, 14 Feb 2025 10:51:06 +0100 (CET) Received: by mail-pl1-f227.google.com with SMTP id d9443c01a7336-21f92258aa6so48354895ad.3 for ; Fri, 14 Feb 2025 01:51:06 -0800 (PST) DKIM-Signature: v=1; a=rsa-sha256; c=relaxed/relaxed; d=iol.unh.edu; s=unh-iol; t=1739526666; x=1740131466; darn=dpdk.org; h=cc:to:from:subject:message-id:date:from:to:cc:subject:date :message-id:reply-to; bh=fJjcqES3ipYvvP1Imx9MFTJB/Angmen42scqt/3JdWE=; b=O8FeZYZWFxaZGAGS7LSyL0XvNrD+wrVHfJRbS+9eAMncHFLLAOrtACRTad4T2OJHDz /83p5nF5G9NBUMBgthW48DI/wpD3MJfgne7PqJ5JohEhW+VxCb6xE02W2vPwtId3XmQO oK4UbV7RPoWYU70GteQQ3NW54cAUn124soJEU= X-Google-DKIM-Signature: v=1; a=rsa-sha256; c=relaxed/relaxed; d=1e100.net; s=20230601; t=1739526666; x=1740131466; h=cc:to:from:subject:message-id:date:x-gm-message-state:from:to:cc :subject:date:message-id:reply-to; bh=fJjcqES3ipYvvP1Imx9MFTJB/Angmen42scqt/3JdWE=; b=ZSXgY0U+/2XpBpJX/oIc1lYGrBliX1SPniuG/gnQimkt/eZUmmXXRyYpfDpsXq44Di L+/gw3qqpoeNK+FoxeaV7qOSaSzDYjfmu+yhTsmxl2pv4K7NX7tyqFFPGLXV8ErPW0Ov ESQOd+isT7J/K5liqAmZ3e8/5P1668sVn1ZQQaB8JxFp3fQ8UkkVJeOyLHHmPGAsnjqZ O9SXSwPbIrPXwu5Pu4CfFiN+SWDABZiAkaWBELX1TZHCzSfbG/rE5v8zQS+AaDWbTCfN xnLZ/u0oUjWluydxOHdPW++ODV4NVsVyU2nVH9ni7fhZ+2f7e06XymTVDvopU/iSAc9k /Esg== X-Gm-Message-State: AOJu0Yy50lvE38eq0ZECiqbCG6ERNZDpHYyU/j/A657bMI/RYjwgxgO6 uazsPeROocduirg/M7jB89/nWiwa9p14Bl182SDbo+V0HBun5RDhtaVJQKzV/iFE35G0qUXVHkS 82v0eh+FGY1FdJA/B3/pQDVuWf90iYL/i X-Gm-Gg: ASbGncuCqgdvdSAdOHmfA7/aFVtLnRXSQKdN/KVCTU1QATZQ2qEb8PsWTHcWiuCYbiI rJbCJRdKRMw2VLw4Ym4+9ueyBJSU/C7Yx/xt3EorHmDp17NvUtPz47rN3N/tD2iac313+FHBMUc 7dMIPpU2W1uDddC0bqGpk06PgCsZn1qYLTK/pZXX+lPSIoSc6SAXYVltV/OUVCxF60ws6pRdipx lrdDjh6Hk8Rt0ikrv3SuTORPagvWJUNAad7jibMLGaOx1pus77v/M1ypvCxLV1X08R94Yajk5N1 HJ7HjJYXjeVbx3ZfX7b2hhxZXMlxRg== X-Google-Smtp-Source: AGHT+IHsm0cOBZ/B7FbfQfXc6y2lmKA48dGYEf72rG21/DMK3wcjbuQD5WVCh3bvMi3dbJyBtHsDkOyJsZy6 X-Received: by 2002:a17:902:da92:b0:21b:b3c9:38ff with SMTP id d9443c01a7336-220bbc5a245mr161329355ad.37.1739526665967; Fri, 14 Feb 2025 01:51:05 -0800 (PST) Received: from postal.iol.unh.edu (postal.iol.unh.edu. [132.177.123.84]) by smtp-relay.gmail.com with ESMTPS id d9443c01a7336-220d5307ae6sm1639895ad.29.2025.02.14.01.51.05 (version=TLS1_2 cipher=ECDHE-ECDSA-AES128-GCM-SHA256 bits=128/128); Fri, 14 Feb 2025 01:51:05 -0800 (PST) X-Relaying-Domain: iol.unh.edu Date: Fri, 14 Feb 2025 01:51:05 -0800 (PST) Message-ID: <67af1209.170a0220.1f39c4.8b28SMTPIN_ADDED_MISSING@mx.google.com> Received: from [172.17.0.3] (unknown [172.18.0.217]) by postal.iol.unh.edu (Postfix) with ESMTP id 15EAC6052471; Fri, 14 Feb 2025 04:51:05 -0500 (EST) Subject: |SUCCESS| [GIT MASTER] 7ce7d3341d7e21c2a81f2fea8e451681d7306d77 From: dpdklab@iol.unh.edu To: Test Report Cc: dpdk-test-reports@iol.unh.edu, Xueming Li , Christian Ehrhardt , Kevin Traynor , Luca Boccassi Content-Type: text/plain X-BeenThere: test-report@dpdk.org X-Mailman-Version: 2.1.29 Precedence: list List-Id: automatic DPDK test reports List-Unsubscribe: , List-Archive: List-Post: List-Help: List-Subscribe: , Errors-To: test-report-bounces@dpdk.org _Testing PASS_ Branch: tags/v22.11 7ce7d3341d7e21c2a81f2fea8e451681d7306d77 --> testing pass Upstream job id: ACVP-FIPS-testing#8912 Test environment and result as below: +--------------------+----------------------+----------------------+ | Environment | compressdev_zlib_pmd | dpdk_fips_validation | +====================+======================+======================+ | Ubuntu 22.04 (ARM) | PASS | SKIPPED | +--------------------+----------------------+----------------------+ | Ubuntu 22.04 | PASS | SKIPPED | +--------------------+----------------------+----------------------+ | Ubuntu 20.04 | SKIPPED | PASS | +--------------------+----------------------+----------------------+ Ubuntu 22.04 (ARM) Kernel: 5.15.0-97-generic Compiler: gcc gcc (Ubuntu 11.4.0-1ubuntu1~22.04) 11.4.0 Ubuntu 22.04 Kernel: 5.15.0-100-generic Compiler: gcc gcc (Ubuntu 11.4.0-1ubuntu1~22.04) 11.4.0 Ubuntu 20.04 Kernel: Depends on container host Compiler: gcc (Ubuntu 9.4.0-1ubuntu1~20.04.2) 9.4.0 To view detailed results, visit: https://lab.dpdk.org/results/dashboard/tarballs/32576/ UNH-IOL DPDK Community Lab To manage your email subscriptions, visit: https://lab.dpdk.org/results/dashboard/preferences/subscriptions/