From mboxrd@z Thu Jan 1 00:00:00 1970 Return-Path: Received: from mails.dpdk.org (mails.dpdk.org [217.70.189.124]) by inbox.dpdk.org (Postfix) with ESMTP id 0E70446228 for ; Fri, 14 Feb 2025 12:30:19 +0100 (CET) Received: from mails.dpdk.org (localhost [127.0.0.1]) by mails.dpdk.org (Postfix) with ESMTP id D210F4064A; Fri, 14 Feb 2025 12:30:18 +0100 (CET) Received: from mail-pl1-f228.google.com (mail-pl1-f228.google.com [209.85.214.228]) by mails.dpdk.org (Postfix) with ESMTP id F39BA4003C for ; Fri, 14 Feb 2025 12:30:16 +0100 (CET) Received: by mail-pl1-f228.google.com with SMTP id d9443c01a7336-220e83d65e5so20995535ad.1 for ; Fri, 14 Feb 2025 03:30:16 -0800 (PST) DKIM-Signature: v=1; a=rsa-sha256; c=relaxed/relaxed; d=iol.unh.edu; s=unh-iol; t=1739532616; x=1740137416; darn=dpdk.org; h=references:in-reply-to:cc:to:from:subject:message-id:date:from:to :cc:subject:date:message-id:reply-to; bh=ibUMMR5R4b2JWwuegNopfF6U+yl7VoO/atcLE1cgie8=; b=eEP/7CuM74TZeGmjD+VaaNKhvA+Sapr48xCgGYpPKdhvhjixiQ7qAbEUuWYbxIGFOY OeuufaM0bniYoRIjYwFGQJJBP29UVTxNkNIvjoCtd0jt7mV+YMz7m3jbHekiQ7Vr/Bq1 uncFqxsti57LF20JVZroGEwzoPx3fE/NPOuhQ= X-Google-DKIM-Signature: v=1; a=rsa-sha256; c=relaxed/relaxed; d=1e100.net; s=20230601; t=1739532616; x=1740137416; h=references:in-reply-to:cc:to:from:subject:message-id:date :x-gm-message-state:from:to:cc:subject:date:message-id:reply-to; bh=ibUMMR5R4b2JWwuegNopfF6U+yl7VoO/atcLE1cgie8=; b=q6GnUKlknYX/nBYQXBjFIqWTTy2m6ml2v+7Zg+uVs8mTOyhfd51RK1OpmXnaSaycpD 0yx0A2amGAceISKuoqe0yC/0/bm2U04662yfwOskU/n5McswmKEZ5lPWn6LI9+m+jXQ2 BrX5UZt/sMzMW0AlZiNynByz9VRw8+GsbXCx1cX383+cmuz9zuLJSb+Qv9WZYqrwbobx q8JFCssCO4lN4pNRZU8xQIxvA+iJyCclQpPPvyVNYKv+D+SHaPQpZhtQA+Fazp4m4m5i 2hD1lQkfUhotDM+yS4EyfdcLKNpmIdjzuuZ4b3dTEwnI6it2ck32I18crDxxxQJiEms8 ZLkQ== X-Gm-Message-State: AOJu0YwdEiwzpID0/eU9R3ZiOE1o5m5NsYHHEpRBg4XJzGCCgoy84bSr pS7BJYkl5SN6MYF5qh0V+8l6l/MCacBl0VKmqkeP2cJ1DwS5VJB7gOiYbbvMWP+PNdXiVzcASoe WT7oJOzIWMxx0eqF0WveERxCMZN2T8su03C86SBQYFu32IYfvAispm8Zu X-Gm-Gg: ASbGnctwJqkKfwlfL4ZyuR+MzFI+kcJwBNbqBFOAqBg8X9te2CWAHoC1CPUmxh/UZlv darkRwbk4Z6W5ZMmnNvgFIQezS8S2hkU26acsdM7sXfRLFnkkIGNQhQ2mdm44JEEuIZrO3Tzr0x Jc8P4s0OLzQRijfUZ4l3wvBGQpTT1opbzG0EtHAlS32o5BlNwE1Sa1nix6+81qZ1Zojmoyh74kp mLFUkug6UkiKBvsWdx4HncSslkDiRDe1kKIf0FYN7/DM2gGB4qaBW860tOQAAJHi4IbZgr467Hm 9F7Tij2D9ZkPAo12RqRyKf6ZAOS95afFHVCN400mNw== X-Google-Smtp-Source: AGHT+IFipm8LBHi09RiZhN3NAjYYxEM5dRD9Y4T0wD1syY5S5SdySpECHllKot0Yj3461q64GcePfVCf/SWp X-Received: by 2002:a17:903:2451:b0:21d:cd54:c7ef with SMTP id d9443c01a7336-220bbab32e7mr170148535ad.9.1739532616117; Fri, 14 Feb 2025 03:30:16 -0800 (PST) Received: from postal.iol.unh.edu (postal.iol.unh.edu. [2606:4100:3880:1234::84]) by smtp-relay.gmail.com with ESMTPS id d9443c01a7336-220d5201dffsm1606055ad.12.2025.02.14.03.30.15 (version=TLS1_2 cipher=ECDHE-ECDSA-AES128-GCM-SHA256 bits=128/128); Fri, 14 Feb 2025 03:30:16 -0800 (PST) X-Relaying-Domain: iol.unh.edu Date: Fri, 14 Feb 2025 03:30:16 -0800 (PST) Message-ID: <67af2948.170a0220.2bf0ae.81a3SMTPIN_ADDED_MISSING@mx.google.com> Received: from [172.17.0.6] (unknown [172.18.0.217]) by postal.iol.unh.edu (Postfix) with ESMTP id 3F60B6052471; Fri, 14 Feb 2025 06:30:15 -0500 (EST) Subject: |SUCCESS| pw151492 [PATCH] net/mlx5: fix flow null ops seg fault From: dpdklab@iol.unh.edu To: Test Report Cc: dpdk-test-reports@iol.unh.edu In-Reply-To: <20250214100545.413991-1-ktraynor@redhat.com> References: <20250214100545.413991-1-ktraynor@redhat.com> Content-Type: text/plain X-BeenThere: test-report@dpdk.org X-Mailman-Version: 2.1.29 Precedence: list List-Id: automatic DPDK test reports List-Unsubscribe: , List-Archive: List-Post: List-Help: List-Subscribe: , Errors-To: test-report-bounces@dpdk.org Test-Label: iol-sample-apps-testing Test-Status: SUCCESS http://dpdk.org/patch/151492 _Testing PASS_ Submitter: Kevin Traynor Date: Friday, February 14 2025 10:05:45 DPDK git baseline: Repo:dpdk Branch: master CommitID:046cca99c3fd03bfb95d3e27a56aab40c2c8f45a 151492 --> testing pass Upstream job id: Template-DTS-Pipeline#212672 Test environment and result as below: +--------------------+----------------------+----------------------+ | Environment | dpdk_fips_validation | compressdev_zlib_pmd | +====================+======================+======================+ | Ubuntu 20.04 | PASS | SKIPPED | +--------------------+----------------------+----------------------+ | Ubuntu 22.04 (ARM) | SKIPPED | PASS | +--------------------+----------------------+----------------------+ | Ubuntu 22.04 | SKIPPED | PASS | +--------------------+----------------------+----------------------+ Ubuntu 20.04 Kernel: Depends on container host Compiler: gcc (Ubuntu 9.4.0-1ubuntu1~20.04.2) 9.4.0 Ubuntu 22.04 (ARM) Kernel: 5.15.0-97-generic Compiler: gcc gcc (Ubuntu 11.4.0-1ubuntu1~22.04) 11.4.0 Ubuntu 22.04 Kernel: 5.15.0-100-generic Compiler: gcc gcc (Ubuntu 11.4.0-1ubuntu1~22.04) 11.4.0 To view detailed results, visit: https://lab.dpdk.org/results/dashboard/patchsets/32581/ UNH-IOL DPDK Community Lab To manage your email subscriptions, visit: https://lab.dpdk.org/results/dashboard/preferences/subscriptions/