From mboxrd@z Thu Jan 1 00:00:00 1970 Return-Path: Received: from mails.dpdk.org (mails.dpdk.org [217.70.189.124]) by inbox.dpdk.org (Postfix) with ESMTP id 0A27D46228 for ; Fri, 14 Feb 2025 12:39:42 +0100 (CET) Received: from mails.dpdk.org (localhost [127.0.0.1]) by mails.dpdk.org (Postfix) with ESMTP id DDCC64064A; Fri, 14 Feb 2025 12:39:41 +0100 (CET) Received: from mail-io1-f100.google.com (mail-io1-f100.google.com [209.85.166.100]) by mails.dpdk.org (Postfix) with ESMTP id B49CE4003C for ; Fri, 14 Feb 2025 12:39:40 +0100 (CET) Received: by mail-io1-f100.google.com with SMTP id ca18e2360f4ac-854a68f5a9cso153905839f.0 for ; Fri, 14 Feb 2025 03:39:40 -0800 (PST) DKIM-Signature: v=1; a=rsa-sha256; c=relaxed/relaxed; d=iol.unh.edu; s=unh-iol; t=1739533180; x=1740137980; darn=dpdk.org; h=references:in-reply-to:cc:to:from:subject:message-id:date:from:to :cc:subject:date:message-id:reply-to; bh=LB3zsOS5TOukQLy64vqSmtM8/2XTwaKagcTOflTEhlg=; b=EPhOqi61iK9d3p8sGKO/ZZMV/BIuV9+Kp6AK7sOj2WzUWsn/ITGDbUccuFd5ebg7bv TPgrY2KLJXWXWJyGc0Db4PW2aEscCFNju/Smkwqq2zATC26+vr5JAmwDmTmE3aKQcq+I jiXVJDibegCLdU0VR48MgohDX5BhaP8MyofO4= X-Google-DKIM-Signature: v=1; a=rsa-sha256; c=relaxed/relaxed; d=1e100.net; s=20230601; t=1739533180; x=1740137980; h=references:in-reply-to:cc:to:from:subject:message-id:date :x-gm-message-state:from:to:cc:subject:date:message-id:reply-to; bh=LB3zsOS5TOukQLy64vqSmtM8/2XTwaKagcTOflTEhlg=; b=GDoAuY1LGeKpjcua4PWoun+eQIcU2GCRBNpSizzn0Aolk3IODZuHPAIOA7wWTAKmTd yt7ehJ32CCAQAEG+T2Dn/rrMC5sPE55AE7C6K8KT+h1qIbOAeN20u8quglJa8NE7u5+a mIqapWjJxslFBS1N3oQobX7NelyoQPRrcgkuPgaK6QZGnDfbotTLaqQaclaldzm5oNy7 E5Qkqkg7iPIPagAi88fNFQz5QS/T00LTJDO/NQiRH28ipMSXwKB1CGyPGCwvqsKPVxNQ RcA9ZAgc7i/a+PIUu7ahXW8h9+JVxSnVhSjiSWetIt5JsFlrJqPWWNKCMEavy5hKk717 8i0Q== X-Gm-Message-State: AOJu0YwSeBrmDk7S27/ASQhlW1LhFtv2viX1fPRU07L6xS5wFDQ8FtoU WdUYf6mCXx8MU4sLSJFTk0hTLF7SwNYA2m18AEbg5xlKbs8y4vYAb3l+Ajga8+JhP0sjrNSwbWf GkyzeDvKU6uSNhxIU6coTANeNfz4Mghgt6YgZY2nJ X-Gm-Gg: ASbGncuq9aGyapC5ltNtth1XGr8R3iItqD6knkAwZkB3F6XQrHn+qjFFitswZH0hB7y lGL1/y9jAlr1/2bFEkO9g7uASh3RyP1pwMnkZthpuGdvwDfJEW/Q2SabEdPDZJKvCGV/Rgs12XR FmdD7egvF/Fx0cvFoIo7U7K42Wk5weYx1cC/wiOmT/pLvaN2pYVhqQplJRe1uS4rpLwh6aCDuIE apuGICfdt18B0C/88BQS+J5DHf7IqDbqSYNK/ea1tguNJHVNoo7o4x5wlZeQEhg13EmxM1j8sRQ 2ubHES0fyd6Mk1g1T3V3TKa4Yrtqyg== X-Google-Smtp-Source: AGHT+IElW54IbOveNrVUudiXELNIAkkB1k8h0OwHyP1bIPrcGPEXfFBsoRPZnbzjGpXJutKhn5mzpXV+XgmK X-Received: by 2002:a05:6602:6c05:b0:855:5248:1ace with SMTP id ca18e2360f4ac-85555cd65f0mr1053449739f.7.1739533179982; Fri, 14 Feb 2025 03:39:39 -0800 (PST) Received: from postal.iol.unh.edu (postal.iol.unh.edu. [132.177.123.84]) by smtp-relay.gmail.com with ESMTPS id 8926c6da1cb9f-4ed281a8125sm195556173.40.2025.02.14.03.39.39 (version=TLS1_2 cipher=ECDHE-ECDSA-AES128-GCM-SHA256 bits=128/128); Fri, 14 Feb 2025 03:39:39 -0800 (PST) X-Relaying-Domain: iol.unh.edu Date: Fri, 14 Feb 2025 03:39:39 -0800 (PST) Message-ID: <67af2b7b.050a0220.101dba.a0d3SMTPIN_ADDED_MISSING@mx.google.com> Received: from [172.21.0.5] (unknown [172.18.0.240]) by postal.iol.unh.edu (Postfix) with ESMTP id 63A356052471; Fri, 14 Feb 2025 06:39:39 -0500 (EST) Subject: |SUCCESS| pw151492 [PATCH] net/mlx5: fix flow null ops seg fault From: dpdklab@iol.unh.edu To: Test Report Cc: dpdk-test-reports@iol.unh.edu In-Reply-To: <20250214100545.413991-1-ktraynor@redhat.com> References: <20250214100545.413991-1-ktraynor@redhat.com> Content-Type: text/plain X-BeenThere: test-report@dpdk.org X-Mailman-Version: 2.1.29 Precedence: list List-Id: automatic DPDK test reports List-Unsubscribe: , List-Archive: List-Post: List-Help: List-Subscribe: , Errors-To: test-report-bounces@dpdk.org Test-Label: iol-unit-arm64-testing Test-Status: SUCCESS http://dpdk.org/patch/151492 _Testing PASS_ Submitter: Kevin Traynor Date: Friday, February 14 2025 10:05:45 DPDK git baseline: Repo:dpdk Branch: master CommitID:046cca99c3fd03bfb95d3e27a56aab40c2c8f45a 151492 --> testing pass Upstream job id: Generic-Unit-Test-DPDK#315018 Test environment and result as below: +-----------------------------+--------------+----------------+---------------------------+------------------------------+ | Environment | lpm_autotest | dpdk_unit_test | cryptodev_sw_zuc_autotest | cryptodev_sw_snow3g_autotest | +=============================+==============+================+===========================+==============================+ | Ubuntu 20.04 ARM SVE | PASS | SKIPPED | SKIPPED | SKIPPED | +-----------------------------+--------------+----------------+---------------------------+------------------------------+ | CentOS Stream 9 (ARM) | SKIPPED | PASS | SKIPPED | SKIPPED | +-----------------------------+--------------+----------------+---------------------------+------------------------------+ | Debian 11 (Buster) (ARM) | SKIPPED | PASS | SKIPPED | SKIPPED | +-----------------------------+--------------+----------------+---------------------------+------------------------------+ | CentOS Stream 10 (ARM) | SKIPPED | PASS | SKIPPED | SKIPPED | +-----------------------------+--------------+----------------+---------------------------+------------------------------+ | 32-bit Ubuntu 22.04.4 (ARM) | SKIPPED | PASS | SKIPPED | SKIPPED | +-----------------------------+--------------+----------------+---------------------------+------------------------------+ | Debian 12 (arm) | SKIPPED | PASS | PASS | PASS | +-----------------------------+--------------+----------------+---------------------------+------------------------------+ | RHEL9 (ARM) | SKIPPED | PASS | SKIPPED | SKIPPED | +-----------------------------+--------------+----------------+---------------------------+------------------------------+ | Fedora 40 (ARM) | SKIPPED | PASS | SKIPPED | SKIPPED | +-----------------------------+--------------+----------------+---------------------------+------------------------------+ | Fedora 41 (ARM Clang) | SKIPPED | PASS | SKIPPED | SKIPPED | +-----------------------------+--------------+----------------+---------------------------+------------------------------+ | Ubuntu 24.04 (ARM) | SKIPPED | PASS | SKIPPED | SKIPPED | +-----------------------------+--------------+----------------+---------------------------+------------------------------+ | Fedora 41 (ARM) | SKIPPED | PASS | SKIPPED | SKIPPED | +-----------------------------+--------------+----------------+---------------------------+------------------------------+ | Ubuntu 20.04 (ARM) | SKIPPED | PASS | SKIPPED | SKIPPED | +-----------------------------+--------------+----------------+---------------------------+------------------------------+ | Fedora 40 (ARM Clang) | SKIPPED | PASS | SKIPPED | SKIPPED | +-----------------------------+--------------+----------------+---------------------------+------------------------------+ | Ubuntu 22.04 (ARM) | SKIPPED | PASS | SKIPPED | SKIPPED | +-----------------------------+--------------+----------------+---------------------------+------------------------------+ Ubuntu 20.04 ARM SVE Kernel: Depends on container host Compiler: gcc (Ubuntu 10.5.0-1ubuntu1~20.04) 10.5.0 CentOS Stream 9 (ARM) Kernel: Depends on container host Compiler: gcc 11.5.0 20240719 (Red Hat 11.5.0-2) Debian 11 (Buster) (ARM) Kernel: Depends on container host Compiler: gcc (Debian 10.2.1-6) 10.2.1 20210110 CentOS Stream 10 (ARM) Kernel: Depends on container host Compiler: gcc 14.2.1 20241104 (Red Hat 14.2.1-6) 32-bit Ubuntu 22.04.4 (ARM) Kernel: 5.15.83+ aarch64 Compiler: gcc (Ubuntu 11.4.0-1ubuntu1~22.04) 11.4.0 Debian 12 (arm) Kernel: Depends on container host Compiler: gcc (Debian 12.2.0-14) 12.2.0 RHEL9 (ARM) Kernel: Depends on container host Compiler: gcc 11.5.0 20240719 (Red Hat 11.5.0-2) Fedora 40 (ARM) Kernel: Depends on container host Compiler: gcc 14.2.1 20240912 (Red Hat 14.2.1-3) Fedora 41 (ARM Clang) Kernel: Depends on container host Compiler: clang 19.1.5 (Fedora 19.1.5-1.fc41) Ubuntu 24.04 (ARM) Kernel: Depends on container host Compiler: gcc (Ubuntu 13.3.0-6ubuntu2~24.04) 13.3.0 Fedora 41 (ARM) Kernel: Depends on container host Compiler: gcc 14.2.1 20240912 (Red Hat 14.2.1-3) Ubuntu 20.04 (ARM) Kernel: Depends on container host Compiler: gcc (Ubuntu 9.4.0-1ubuntu1~20.04.2) 9.4.0 Fedora 40 (ARM Clang) Kernel: Depends on container host Compiler: clang 18.1.8 (Fedora 18.1.8-1.fc40) Ubuntu 22.04 (ARM) Kernel: Depends on container host Compiler: gcc (Ubuntu 11.4.0-1ubuntu1~22.04) 11.4.0 To view detailed results, visit: https://lab.dpdk.org/results/dashboard/patchsets/32581/ UNH-IOL DPDK Community Lab To manage your email subscriptions, visit: https://lab.dpdk.org/results/dashboard/preferences/subscriptions/