From mboxrd@z Thu Jan 1 00:00:00 1970 Return-Path: Received: from mails.dpdk.org (mails.dpdk.org [217.70.189.124]) by inbox.dpdk.org (Postfix) with ESMTP id CDFAA46228 for ; Fri, 14 Feb 2025 13:10:33 +0100 (CET) Received: from mails.dpdk.org (localhost [127.0.0.1]) by mails.dpdk.org (Postfix) with ESMTP id A55644064A; Fri, 14 Feb 2025 13:10:33 +0100 (CET) Received: from mail-io1-f100.google.com (mail-io1-f100.google.com [209.85.166.100]) by mails.dpdk.org (Postfix) with ESMTP id 4BDEA4003C for ; Fri, 14 Feb 2025 13:10:32 +0100 (CET) Received: by mail-io1-f100.google.com with SMTP id ca18e2360f4ac-8556e24b5a1so96908639f.3 for ; Fri, 14 Feb 2025 04:10:32 -0800 (PST) DKIM-Signature: v=1; a=rsa-sha256; c=relaxed/relaxed; d=iol.unh.edu; s=unh-iol; t=1739535031; x=1740139831; darn=dpdk.org; h=references:in-reply-to:cc:to:from:subject:message-id:date:from:to :cc:subject:date:message-id:reply-to; bh=GS3ktLQh7V5gDTa8JM1EsO0UDujboZsls7TGIo4xVbc=; b=czu0QAt6zOrqbM237Pr4hcPtchwiaaHtbArNrexVf6TcDbwuMG/jr4yTpGs+alU6OD fITHecwAnlcIE99Vfas1oQFzwmLAvofG9wBBX+7w++bBbn6TBUdlJp12NHMqz7bqhPfU tf5lMdToYxDP/oF+TOXp55X9NjkQrNO+CCR28= X-Google-DKIM-Signature: v=1; a=rsa-sha256; c=relaxed/relaxed; d=1e100.net; s=20230601; t=1739535031; x=1740139831; h=references:in-reply-to:cc:to:from:subject:message-id:date :x-gm-message-state:from:to:cc:subject:date:message-id:reply-to; bh=GS3ktLQh7V5gDTa8JM1EsO0UDujboZsls7TGIo4xVbc=; b=f2HMb80VHZhUFO7vEzCVB+JvLKQhe8RqnW4Y7GSxHyjieVMmFu/eRjc3IYpgO+1opm +7ZPWSK8yWr9CkbJepkVGqxik8Gt6G3jgn4927FQroih46tvTNaEfU53xSV5K/S4STwX Ym1svI63w7ntVIumF0Irjs2Tn7D/N/DbtUGTyoZDfBeZfQhUBgh5dREZhDvobsaNcfjg nl5ziUC8BoHDETk36gma41eCRWe7M/Yho/hHqigSEsrKLIOk7lV9OXBfIagFbfBiR5f0 cNWEmdRizMxex/t4ZY8aWXLaAUN6q4NB6DT6D8oXhri0P8Wa1p/1yEyTrQcxqGdJk2Tz TMLA== X-Gm-Message-State: AOJu0Yy13ijCdRcsCOu90EojmnhdVmrx5lT4tTd1278NaVcwIQt1UfCP ZvNSNvoVHLpWFdf3HnWXH66/C0zJseD+F8xj+JjWi66/R+hP9cBGv1lxAGMa+KZYxKzxkQCSCTK vT/L7uw+1iMTs/DHaVA55/0YV5MofP24y6kZddpJldRU0lmU+Kv6217g1 X-Gm-Gg: ASbGncv0j+eenyRxeDiN0N5SS/0n1d3eaxfDKshNXKJaeJHsO0Z/qpbbJMC9wpfAqc+ GE9RnsLJIebArDe22UaFXFFCFn3B9z0S/gqONG1BH8O47/aJy94YO6IlxTkEddcVLwk3NwgI1HN lHGnpzXMDIkJjYoYNclaP8PCVJvz6flIUYpsOZM9ovdOZU7zcVAdA2rULx/7AhZO7jXIdgDoQcH d/ezpZfQd9jE3ZVN39CtFA7dEsXSu+nm8nS0cjtLDWOXOVjEPs4ZwxHN2gCTXaDNr7cY13L/tYT w21kMFqAjBMa61wyeOIVLvokuSowH8orW3CU5BiF3A== X-Google-Smtp-Source: AGHT+IGZ06jx1pdhKcctoAiiX+D9vtQ2g5FIEiGPGYwFTu8E2e//wkEprr8hJknlv2aiCBZBiB7+3Y2eQQKX X-Received: by 2002:a05:6602:489:b0:855:2bc8:69df with SMTP id ca18e2360f4ac-85555dd6a10mr1171777939f.14.1739535031503; Fri, 14 Feb 2025 04:10:31 -0800 (PST) Received: from postal.iol.unh.edu (postal.iol.unh.edu. [2606:4100:3880:1234::84]) by smtp-relay.gmail.com with ESMTPS id ca18e2360f4ac-85566e5975asm13426039f.14.2025.02.14.04.10.31 (version=TLS1_2 cipher=ECDHE-ECDSA-AES128-GCM-SHA256 bits=128/128); Fri, 14 Feb 2025 04:10:31 -0800 (PST) X-Relaying-Domain: iol.unh.edu Date: Fri, 14 Feb 2025 04:10:31 -0800 (PST) Message-ID: <67af32b7.050a0220.3026fe.6e8eSMTPIN_ADDED_MISSING@mx.google.com> Received: from [172.17.0.4] (unknown [172.18.0.217]) by postal.iol.unh.edu (Postfix) with ESMTP id 17B586052471; Fri, 14 Feb 2025 07:10:31 -0500 (EST) Subject: |SUCCESS| pw151492 [PATCH] net/mlx5: fix flow null ops seg fault From: dpdklab@iol.unh.edu To: Test Report Cc: dpdk-test-reports@iol.unh.edu In-Reply-To: <20250214100545.413991-1-ktraynor@redhat.com> References: <20250214100545.413991-1-ktraynor@redhat.com> Content-Type: text/plain X-BeenThere: test-report@dpdk.org X-Mailman-Version: 2.1.29 Precedence: list List-Id: automatic DPDK test reports List-Unsubscribe: , List-Archive: List-Post: List-Help: List-Subscribe: , Errors-To: test-report-bounces@dpdk.org Test-Label: iol-compile-amd64-testing Test-Status: SUCCESS http://dpdk.org/patch/151492 _Testing PASS_ Submitter: Kevin Traynor Date: Friday, February 14 2025 10:05:45 DPDK git baseline: Repo:dpdk Branch: master CommitID:046cca99c3fd03bfb95d3e27a56aab40c2c8f45a 151492 --> testing pass Upstream job id: Generic-DPDK-Compile-Meson#361684 Test environment and result as below: +---------------------+--------------------+-------------------+------------------+-------------------------+-------------------+----------------------+ | Environment | dpdk_meson_compile | dpdk_compile_spdk | dpdk_compile_ovs | dpdk_llvm_clang_compile | dpdk_msvc_compile | dpdk_mingw64_compile | +=====================+====================+===================+==================+=========================+===================+======================+ | CentOS Stream 9 | PASS | PASS | SKIPPED | SKIPPED | SKIPPED | SKIPPED | +---------------------+--------------------+-------------------+------------------+-------------------------+-------------------+----------------------+ | CentOS Stream 10 | PASS | SKIPPED | SKIPPED | SKIPPED | SKIPPED | SKIPPED | +---------------------+--------------------+-------------------+------------------+-------------------------+-------------------+----------------------+ | Debian Bullseye | PASS | PASS | SKIPPED | SKIPPED | SKIPPED | SKIPPED | +---------------------+--------------------+-------------------+------------------+-------------------------+-------------------+----------------------+ | Debian 12 | PASS | PASS | SKIPPED | SKIPPED | SKIPPED | SKIPPED | +---------------------+--------------------+-------------------+------------------+-------------------------+-------------------+----------------------+ | Fedora 40 (Clang) | PASS | PASS | SKIPPED | SKIPPED | SKIPPED | SKIPPED | +---------------------+--------------------+-------------------+------------------+-------------------------+-------------------+----------------------+ | Fedora 41 (Clang) | PASS | PASS | PASS | SKIPPED | SKIPPED | SKIPPED | +---------------------+--------------------+-------------------+------------------+-------------------------+-------------------+----------------------+ | Fedora 41 | PASS | PASS | PASS | SKIPPED | SKIPPED | SKIPPED | +---------------------+--------------------+-------------------+------------------+-------------------------+-------------------+----------------------+ | openSUSE Leap 15 | PASS | SKIPPED | SKIPPED | SKIPPED | SKIPPED | SKIPPED | +---------------------+--------------------+-------------------+------------------+-------------------------+-------------------+----------------------+ | RHEL8 | PASS | SKIPPED | SKIPPED | SKIPPED | SKIPPED | SKIPPED | +---------------------+--------------------+-------------------+------------------+-------------------------+-------------------+----------------------+ | RHEL9 | PASS | SKIPPED | SKIPPED | SKIPPED | SKIPPED | SKIPPED | +---------------------+--------------------+-------------------+------------------+-------------------------+-------------------+----------------------+ | Ubuntu 20.04 | PASS | SKIPPED | SKIPPED | SKIPPED | SKIPPED | SKIPPED | +---------------------+--------------------+-------------------+------------------+-------------------------+-------------------+----------------------+ | Ubuntu 22.04 | PASS | PASS | SKIPPED | SKIPPED | SKIPPED | SKIPPED | +---------------------+--------------------+-------------------+------------------+-------------------------+-------------------+----------------------+ | Ubuntu 24.04 | PASS | PASS | PASS | SKIPPED | SKIPPED | SKIPPED | +---------------------+--------------------+-------------------+------------------+-------------------------+-------------------+----------------------+ | Alpine | PASS | SKIPPED | SKIPPED | SKIPPED | SKIPPED | SKIPPED | +---------------------+--------------------+-------------------+------------------+-------------------------+-------------------+----------------------+ | FreeBSD 13.4 | PASS | SKIPPED | SKIPPED | SKIPPED | SKIPPED | SKIPPED | +---------------------+--------------------+-------------------+------------------+-------------------------+-------------------+----------------------+ | FreeBSD 14.2 | PASS | SKIPPED | SKIPPED | SKIPPED | SKIPPED | SKIPPED | +---------------------+--------------------+-------------------+------------------+-------------------------+-------------------+----------------------+ | Fedora 40 | PASS | PASS | SKIPPED | SKIPPED | SKIPPED | SKIPPED | +---------------------+--------------------+-------------------+------------------+-------------------------+-------------------+----------------------+ | Windows Server 2022 | SKIPPED | SKIPPED | SKIPPED | PASS | PASS | PASS | +---------------------+--------------------+-------------------+------------------+-------------------------+-------------------+----------------------+ CentOS Stream 9 Kernel: Depends on container host Compiler: gcc 11.5.0 20240719 (Red Hat 11.5.0-2) CentOS Stream 10 Kernel: Depends on container host Compiler: gcc 14.2.1 20241104 (Red Hat 14.2.1-6) Debian Bullseye Kernel: Depends on container host Compiler: gcc (Debian 10.2.1-6) 10.2.1 20210110 Debian 12 Kernel: Depends on container host Compiler: gcc (Debian 12.2.0-14) 12.2.0 Fedora 40 (Clang) Kernel: Depends on container host Compiler: clang 18.1.8 (Fedora 18.1.8-1.fc40) Fedora 41 (Clang) Kernel: Depends on container host Compiler: clang 19.1.5 (Fedora 19.1.5-1.fc41) Fedora 41 Kernel: Depends on container host Compiler: gcc 14.2.1 20240912 (Red Hat 14.2.1-3) openSUSE Leap 15 Kernel: Depends on container host Compiler: gcc (SUSE Linux) 7.5.0 RHEL8 Kernel: Depends on container host Compiler: gcc 8.5.0 20210514 (Red Hat 8.5.0-22) RHEL9 Kernel: Depends on container host Compiler: gcc 11.5.0 20240719 (Red Hat 11.5.0-2) Ubuntu 20.04 Kernel: Depends on container host Compiler: gcc (Ubuntu 9.4.0-1ubuntu1~20.04.2) 9.4.0 Ubuntu 22.04 Kernel: Depends on container host Compiler: gcc (Ubuntu 11.4.0-1ubuntu1~22.04) 11.4.0 Ubuntu 24.04 Kernel: Depends on container host Compiler: gcc (Ubuntu 13.3.0-6ubuntu2~24.04) 13.3.0 Alpine Kernel: Depends on container host Compiler: gcc (Alpine 14.2.0) 14.2.0 FreeBSD 13.4 Kernel: 13.4-RELEASE-p1 Compiler: clang 18.1.6 FreeBSD 14.2 Kernel: 14.2-RELEASE Compiler: clang 18.1.6 Fedora 40 Kernel: Depends on container host Compiler: gcc 14.2.1 20240912 (Red Hat 14.2.1-3) Windows Server 2022 Kernel: 10.0.20348.2031 Compiler: clang 15.0.7, gcc 14.1.0 (MinGW), and MSVC VS 19.39.33521 To view detailed results, visit: https://lab.dpdk.org/results/dashboard/patchsets/32581/ UNH-IOL DPDK Community Lab To manage your email subscriptions, visit: https://lab.dpdk.org/results/dashboard/preferences/subscriptions/