From mboxrd@z Thu Jan 1 00:00:00 1970 Return-Path: Received: from mails.dpdk.org (mails.dpdk.org [217.70.189.124]) by inbox.dpdk.org (Postfix) with ESMTP id C243746228 for ; Fri, 14 Feb 2025 13:59:05 +0100 (CET) Received: from mails.dpdk.org (localhost [127.0.0.1]) by mails.dpdk.org (Postfix) with ESMTP id 99BE44064A; Fri, 14 Feb 2025 13:59:05 +0100 (CET) Received: from mail-pl1-f228.google.com (mail-pl1-f228.google.com [209.85.214.228]) by mails.dpdk.org (Postfix) with ESMTP id 091054003C for ; Fri, 14 Feb 2025 13:59:04 +0100 (CET) Received: by mail-pl1-f228.google.com with SMTP id d9443c01a7336-21f6a47d617so34188395ad.2 for ; Fri, 14 Feb 2025 04:59:03 -0800 (PST) DKIM-Signature: v=1; a=rsa-sha256; c=relaxed/relaxed; d=iol.unh.edu; s=unh-iol; t=1739537943; x=1740142743; darn=dpdk.org; h=references:in-reply-to:cc:to:from:subject:message-id:date:from:to :cc:subject:date:message-id:reply-to; bh=sa5c3CBGFZ+zRHrgwBeZkhlpFf8zjCbkzvRp/PIU/Ek=; b=cb/AtGaMqBVV2CxMu0jGZcVsiDl9kEjnX+S3F7K+s1sjedSpVo+H7BF/PpnerflcvB dTFaflaF4y/7YBsJoeJtNmP7Al8iHT9Qew87CL4MPslMf/HQCluwQIGdbllWyb3l/Jmj mYiJSxiOoR38kPp2QZpPrvqU+v34cCYzVj50o= X-Google-DKIM-Signature: v=1; a=rsa-sha256; c=relaxed/relaxed; d=1e100.net; s=20230601; t=1739537943; x=1740142743; h=references:in-reply-to:cc:to:from:subject:message-id:date :x-gm-message-state:from:to:cc:subject:date:message-id:reply-to; bh=sa5c3CBGFZ+zRHrgwBeZkhlpFf8zjCbkzvRp/PIU/Ek=; b=aV6bvc+LBhLzLa5TjwpVzMvRlCAWbO1+uIuNRC4zgSiTZEWR5wdT2kcw9HGXDpwcfd p1ajlZhgQW2GWs9nf9zIr8T+ogSiYLh0xlozwKtP/gsoPG4Ln9+EyiOrccyfjXZzyznf TeJZSjt/oeYQ3Gjys1RS7u1zd5b5Zu1mw0Adxqz3LPFEcnIdgX+cvnywR6e69JWt2014 e3W61f0vC6IhyzcO+jGOMZHBv0ZckqlhZtVmag7KTKEsAIihn/LcCsqHpakW7zxInXP3 rJo8Abzg9yZGId4nEePnLvwxXmaoiz2Mt3zmmeXIEgKuUGnO/nX7V89/qN6QUgabUfX5 O9Lg== X-Gm-Message-State: AOJu0Yy4yR14tVL4+kIwOIBQD8+qKJmVfC0rDYuiCFvGHdhsJ0qiRrfV 6AWYES8EgMiWEKCCnwvyoYVmjK9PrWkTYiBE1AOj36c/si2iwaC01ZTViPqh4Es77DlV8aScD6T zDRYbdRIor/XDh6sGgMYOk4L14W65J9CwJ4sjoLHr5wUtQqZlKapdcqfz X-Gm-Gg: ASbGnctW3RQ0MRxyHhk3YTadSJZXsvWBFejt+bETzoOgz2BBbqeLD72JSSAHQLugLVc 39ZfW5xBTdw/bz07DeZE+2tIizElYMJ9F4vWzcNqjsaG9tnFArj+UCvVwsls8yRSDOjyUPCAjMq m5ljO8J3rni239ewMjW8YPUa1iF4k+TdIlrEfQ6qxYSacuLW/vScE8SGfm/oUbbL3VvBGokkGE0 M63CIYa+YO901Z6/lW0vDRBzrzRholoKX+uLIq/C7nR8jnExvOXho2hjvDWK/m3SA5HqtHU7hew seWMMXb7lgC1/694ZErKYT7PBFWJ0BxWUBClw2RncA== X-Google-Smtp-Source: AGHT+IEc5Ycn+GK04wkfEtERvRcwV05MQQJcFnmvnmEjhWRO1w078QicQEJkT+U5b0tt8nLJqJjv+hXe+0zP X-Received: by 2002:a17:903:41cc:b0:220:e63c:5b13 with SMTP id d9443c01a7336-220e63c5f35mr72993825ad.46.1739537943116; Fri, 14 Feb 2025 04:59:03 -0800 (PST) Received: from postal.iol.unh.edu (postal.iol.unh.edu. [2606:4100:3880:1234::84]) by smtp-relay.gmail.com with ESMTPS id d9443c01a7336-220d53f9ee9sm1783595ad.83.2025.02.14.04.59.02 (version=TLS1_2 cipher=ECDHE-ECDSA-AES128-GCM-SHA256 bits=128/128); Fri, 14 Feb 2025 04:59:03 -0800 (PST) X-Relaying-Domain: iol.unh.edu Date: Fri, 14 Feb 2025 04:59:03 -0800 (PST) Message-ID: <67af3e17.170a0220.3c751b.9484SMTPIN_ADDED_MISSING@mx.google.com> Received: from [172.17.0.3] (unknown [172.18.0.217]) by postal.iol.unh.edu (Postfix) with ESMTP id 82EC66052471; Fri, 14 Feb 2025 07:59:02 -0500 (EST) Subject: |SUCCESS| pw151492 [PATCH] net/mlx5: fix flow null ops seg fault From: dpdklab@iol.unh.edu To: Test Report Cc: dpdk-test-reports@iol.unh.edu In-Reply-To: <20250214100545.413991-1-ktraynor@redhat.com> References: <20250214100545.413991-1-ktraynor@redhat.com> Content-Type: text/plain X-BeenThere: test-report@dpdk.org X-Mailman-Version: 2.1.29 Precedence: list List-Id: automatic DPDK test reports List-Unsubscribe: , List-Archive: List-Post: List-Help: List-Subscribe: , Errors-To: test-report-bounces@dpdk.org Test-Label: iol-compile-arm64-testing Test-Status: SUCCESS http://dpdk.org/patch/151492 _Testing PASS_ Submitter: Kevin Traynor Date: Friday, February 14 2025 10:05:45 DPDK git baseline: Repo:dpdk Branch: master CommitID:046cca99c3fd03bfb95d3e27a56aab40c2c8f45a 151492 --> testing pass Upstream job id: Generic-DPDK-Compile-Meson#361691 Test environment and result as below: +----------------------------------------+--------------------+ | Environment | dpdk_meson_compile | +========================================+====================+ | RHEL9 (ARM) | PASS | +----------------------------------------+--------------------+ | Ubuntu 20.04 ARM SVE | PASS | +----------------------------------------+--------------------+ | Ubuntu 20.04 ARM GCC Cross Compile | PASS | +----------------------------------------+--------------------+ | Debian 12 with MUSDK | PASS | +----------------------------------------+--------------------+ | Fedora 41 (ARM Clang) | PASS | +----------------------------------------+--------------------+ | Fedora 40 (ARM) | PASS | +----------------------------------------+--------------------+ | Fedora 40 (ARM Clang) | PASS | +----------------------------------------+--------------------+ | Ubuntu 20.04 (ARM) | PASS | +----------------------------------------+--------------------+ | Ubuntu 22.04 (ARM) | PASS | +----------------------------------------+--------------------+ | Ubuntu 24.04 (ARM) | PASS | +----------------------------------------+--------------------+ | CentOS Stream 10 (ARM) | PASS | +----------------------------------------+--------------------+ | CentOS Stream 9 (ARM) | PASS | +----------------------------------------+--------------------+ | Debian 11 (Buster) (ARM) | PASS | +----------------------------------------+--------------------+ | Debian 12 (arm) | PASS | +----------------------------------------+--------------------+ | Ubuntu 20.04 aarch32 GCC Cross Compile | PASS | +----------------------------------------+--------------------+ | Ubuntu 20.04 ARM Clang Cross Compile | PASS | +----------------------------------------+--------------------+ | Fedora 41 (ARM) | PASS | +----------------------------------------+--------------------+ RHEL9 (ARM) Kernel: Depends on container host Compiler: gcc 11.5.0 20240719 (Red Hat 11.5.0-2) Ubuntu 20.04 ARM SVE Kernel: Depends on container host Compiler: gcc (Ubuntu 10.5.0-1ubuntu1~20.04) 10.5.0 Ubuntu 20.04 ARM GCC Cross Compile Kernel: Depends on container host Compiler: aarch64-linux-gnu-gcc (Ubuntu 9.4.0-1ubuntu1~20.04.2) 9.4.0 Debian 12 with MUSDK Kernel: Depends on container host Compiler: gcc (Debian 12.2.0-14) 12.2.0 Fedora 41 (ARM Clang) Kernel: Depends on container host Compiler: clang 19.1.5 (Fedora 19.1.5-1.fc41) Fedora 40 (ARM) Kernel: Depends on container host Compiler: gcc 14.2.1 20240912 (Red Hat 14.2.1-3) Fedora 40 (ARM Clang) Kernel: Depends on container host Compiler: clang 18.1.8 (Fedora 18.1.8-1.fc40) Ubuntu 20.04 (ARM) Kernel: Depends on container host Compiler: gcc (Ubuntu 9.4.0-1ubuntu1~20.04.2) 9.4.0 Ubuntu 22.04 (ARM) Kernel: Depends on container host Compiler: gcc (Ubuntu 11.4.0-1ubuntu1~22.04) 11.4.0 Ubuntu 24.04 (ARM) Kernel: Depends on container host Compiler: gcc (Ubuntu 13.3.0-6ubuntu2~24.04) 13.3.0 CentOS Stream 10 (ARM) Kernel: Depends on container host Compiler: gcc 14.2.1 20241104 (Red Hat 14.2.1-6) CentOS Stream 9 (ARM) Kernel: Depends on container host Compiler: gcc 11.5.0 20240719 (Red Hat 11.5.0-2) Debian 11 (Buster) (ARM) Kernel: Depends on container host Compiler: gcc (Debian 10.2.1-6) 10.2.1 20210110 Debian 12 (arm) Kernel: Depends on container host Compiler: gcc (Debian 12.2.0-14) 12.2.0 Ubuntu 20.04 aarch32 GCC Cross Compile Kernel: Depends on container host Compiler: gcc 9.4.0 Ubuntu 20.04 ARM Clang Cross Compile Kernel: Depends on container host Compiler: clang 10.0.0-4ubuntu1 Fedora 41 (ARM) Kernel: Depends on container host Compiler: gcc 14.2.1 20240912 (Red Hat 14.2.1-3) To view detailed results, visit: https://lab.dpdk.org/results/dashboard/patchsets/32581/ UNH-IOL DPDK Community Lab To manage your email subscriptions, visit: https://lab.dpdk.org/results/dashboard/preferences/subscriptions/