From mboxrd@z Thu Jan 1 00:00:00 1970 Return-Path: Received: from mails.dpdk.org (mails.dpdk.org [217.70.189.124]) by inbox.dpdk.org (Postfix) with ESMTP id E77A2461CF for ; Fri, 14 Feb 2025 19:53:55 +0100 (CET) Received: from mails.dpdk.org (localhost [127.0.0.1]) by mails.dpdk.org (Postfix) with ESMTP id C402640665; Fri, 14 Feb 2025 19:53:55 +0100 (CET) Received: from mail-pl1-f228.google.com (mail-pl1-f228.google.com [209.85.214.228]) by mails.dpdk.org (Postfix) with ESMTP id AD49340651 for ; Fri, 14 Feb 2025 19:53:53 +0100 (CET) Received: by mail-pl1-f228.google.com with SMTP id d9443c01a7336-220ec47991aso17411645ad.1 for ; Fri, 14 Feb 2025 10:53:53 -0800 (PST) DKIM-Signature: v=1; a=rsa-sha256; c=relaxed/relaxed; d=iol.unh.edu; s=unh-iol; t=1739559233; x=1740164033; darn=dpdk.org; h=references:in-reply-to:cc:to:from:subject:message-id:date:from:to :cc:subject:date:message-id:reply-to; bh=YX86xObhPni+aaL8/qEhnsTMkuyuF0+rwK7J/UlzBi0=; b=byCLsX1Aiqk/PKLnUvVI/0fT5ykn9ymYjKh0/QCM/HOgSdqg3f1MdBMYt0Hod90aWT POdofNjR9xblZFi5KaCMIJ/Nx16/ct3jfw37WoaVJIQ9XbUkNPDMpf0TekPTUK/g98r8 jgJLEENWHQwGelGke7ExN7/kR7cAIng3NtS+c= X-Google-DKIM-Signature: v=1; a=rsa-sha256; c=relaxed/relaxed; d=1e100.net; s=20230601; t=1739559233; x=1740164033; h=references:in-reply-to:cc:to:from:subject:message-id:date :x-gm-message-state:from:to:cc:subject:date:message-id:reply-to; bh=YX86xObhPni+aaL8/qEhnsTMkuyuF0+rwK7J/UlzBi0=; b=PaJbFBq2RQ9Ts8hBSs8QT65IsYYFX+BcZN1xVGpTpbCobrC+MqXUUAzK0P6bYmoxqM Pnv9B3g/ULPAMJ9alZE3/LA56wbjQQQs+YGYbPNWI7ruqHyERBozhdMKwjOI1GHwXP3r K5hQjeCjnvvyyxFdxO1RXdrWCSYbVpL5QQryei/1zj7AXQ++iYFwBKp55B6foeXFVfxe 5YfKzjLbsnMzwviMRjqNIKyazPD2oKknCs/vqUIVy9yhIK6elZGdodWlKlz1I2/z/mCX DkKNkY/NWdQ4ufHtbi+E6HsErjUAE0onVLCDDErzrJlH/5biJy4vMh0R49C25bafbl3e qvPA== X-Gm-Message-State: AOJu0Yy5u0sI7LyMR/OTd9HoTcMZKoLndNH+iG05SV8ngxzXf091uG+d /j2QehjlQ2DIWlgfQAr2Lfv41OjcnSayFAKbXyvU86htRxBVi045GIDCkvUfxJ/q22e8zwzyYCU j5ZiaIcjjS0ObKU+dVzyHNcgWmQILcHXqzbdJOSfmVweuZ0M17gPHp3ap X-Gm-Gg: ASbGncu1VgDy54feOwC+zKsxLHRZuKIfCfVDMuAHxFf4XUnHDYYQiwfrGDaohPmMYF2 Hg2Qoha/ERSvV8XDyajqf8uB9W1jm0NHiqP1w4OxnD8je3Xel7v3Kez4am5AmLA/95rUm5K0wa1 W2VAGQnWhFAdazwWBNse0rFgOxX2Wa72LPIZ5YH6bvAtfpYhwDQKM6HeZK69ddnslHXxujONE50 8uAchi6O+ae1T9WgDS+05ed3hdRZWSqmrgLOUD7aXqtUWbKoZtrlJc/TcpF2UPYi9/XJbF3qVmJ MgUTASpppOpu8zRHSqjiC//yqpK2CdSUuKWnOytk+A== X-Google-Smtp-Source: AGHT+IGxsrppmKj63xuHGt/D+Zl2PZ6a2ieKY7w/PbLH7BQYeaRHqwOCQ+sv2l8wRvmL1aAQwRlGbS1VJ9co X-Received: by 2002:a17:903:2cb:b0:221:263:230 with SMTP id d9443c01a7336-2210408cdb8mr5721275ad.32.1739559232795; Fri, 14 Feb 2025 10:53:52 -0800 (PST) Received: from postal.iol.unh.edu (postal.iol.unh.edu. [2606:4100:3880:1234::84]) by smtp-relay.gmail.com with ESMTPS id 98e67ed59e1d1-2fc13a9d52esm209655a91.3.2025.02.14.10.53.52 (version=TLS1_2 cipher=ECDHE-ECDSA-AES128-GCM-SHA256 bits=128/128); Fri, 14 Feb 2025 10:53:52 -0800 (PST) X-Relaying-Domain: iol.unh.edu Date: Fri, 14 Feb 2025 10:53:52 -0800 (PST) Message-ID: <67af9140.170a0220.b6f05.ac1eSMTPIN_ADDED_MISSING@mx.google.com> Received: from [172.21.0.5] (unknown [172.18.0.240]) by postal.iol.unh.edu (Postfix) with ESMTP id EF57B6052471; Fri, 14 Feb 2025 13:53:51 -0500 (EST) Subject: |SUCCESS| pw151493-151499 [PATCH] [v2,7/7] raw/ifpga: use EAL versio From: dpdklab@iol.unh.edu To: Test Report Cc: dpdk-test-reports@iol.unh.edu In-Reply-To: <20250214172134.73908-8-stephen@networkplumber.org> References: <20250214172134.73908-8-stephen@networkplumber.org> Content-Type: text/plain X-BeenThere: test-report@dpdk.org X-Mailman-Version: 2.1.29 Precedence: list List-Id: automatic DPDK test reports List-Unsubscribe: , List-Archive: List-Post: List-Help: List-Subscribe: , Errors-To: test-report-bounces@dpdk.org Test-Label: iol-unit-amd64-testing Test-Status: SUCCESS http://dpdk.org/patch/151499 _Testing PASS_ Submitter: Stephen Hemminger Date: Friday, February 14 2025 17:20:15 DPDK git baseline: Repo:dpdk Branch: master CommitID:e5176f23ae8b31437c3e5eb875c81f95bf3a9942 151493-151499 --> testing pass Upstream job id: Generic-Unit-Test-DPDK#315056 Test environment and result as below: +---------------------+----------------+ | Environment | dpdk_unit_test | +=====================+================+ | CentOS Stream 9 | PASS | +---------------------+----------------+ | CentOS Stream 10 | PASS | +---------------------+----------------+ | Debian 12 | PASS | +---------------------+----------------+ | Fedora 41 (Clang) | PASS | +---------------------+----------------+ | Fedora 41 | PASS | +---------------------+----------------+ | Fedora 40 (Clang) | PASS | +---------------------+----------------+ | Fedora 40 | PASS | +---------------------+----------------+ | Debian Bullseye | PASS | +---------------------+----------------+ | RHEL8 | PASS | +---------------------+----------------+ | Ubuntu 22.04 | PASS | +---------------------+----------------+ | Ubuntu 20.04 | PASS | +---------------------+----------------+ | RHEL9 | PASS | +---------------------+----------------+ | Ubuntu 24.04 | PASS | +---------------------+----------------+ | Windows Server 2022 | PASS | +---------------------+----------------+ CentOS Stream 9 Kernel: Depends on container host Compiler: gcc 11.5.0 20240719 (Red Hat 11.5.0-2) CentOS Stream 10 Kernel: Depends on container host Compiler: gcc 14.2.1 20241104 (Red Hat 14.2.1-6) Debian 12 Kernel: Depends on container host Compiler: gcc (Debian 12.2.0-14) 12.2.0 Fedora 41 (Clang) Kernel: Depends on container host Compiler: clang 19.1.5 (Fedora 19.1.5-1.fc41) Fedora 41 Kernel: Depends on container host Compiler: gcc 14.2.1 20240912 (Red Hat 14.2.1-3) Fedora 40 (Clang) Kernel: Depends on container host Compiler: clang 18.1.8 (Fedora 18.1.8-1.fc40) Fedora 40 Kernel: Depends on container host Compiler: gcc 14.2.1 20240912 (Red Hat 14.2.1-3) Debian Bullseye Kernel: Depends on container host Compiler: gcc (Debian 10.2.1-6) 10.2.1 20210110 RHEL8 Kernel: Depends on container host Compiler: gcc 8.5.0 20210514 (Red Hat 8.5.0-22) Ubuntu 22.04 Kernel: Depends on container host Compiler: gcc (Ubuntu 11.4.0-1ubuntu1~22.04) 11.4.0 Ubuntu 20.04 Kernel: Depends on container host Compiler: gcc (Ubuntu 9.4.0-1ubuntu1~20.04.2) 9.4.0 RHEL9 Kernel: Depends on container host Compiler: gcc 11.5.0 20240719 (Red Hat 11.5.0-2) Ubuntu 24.04 Kernel: Depends on container host Compiler: gcc (Ubuntu 13.3.0-6ubuntu2~24.04) 13.3.0 Windows Server 2022 Kernel: 10.0.20348.2031 Compiler: clang 15.0.7, gcc 14.1.0 (MinGW), and MSVC VS 19.39.33521 To view detailed results, visit: https://lab.dpdk.org/results/dashboard/patchsets/32582/ UNH-IOL DPDK Community Lab To manage your email subscriptions, visit: https://lab.dpdk.org/results/dashboard/preferences/subscriptions/