From mboxrd@z Thu Jan 1 00:00:00 1970 Return-Path: Received: from mails.dpdk.org (mails.dpdk.org [217.70.189.124]) by inbox.dpdk.org (Postfix) with ESMTP id 00CF4461CF for ; Fri, 14 Feb 2025 19:54:24 +0100 (CET) Received: from mails.dpdk.org (localhost [127.0.0.1]) by mails.dpdk.org (Postfix) with ESMTP id EF18540665; Fri, 14 Feb 2025 19:54:23 +0100 (CET) Received: from mail-pl1-f228.google.com (mail-pl1-f228.google.com [209.85.214.228]) by mails.dpdk.org (Postfix) with ESMTP id BC35740651 for ; Fri, 14 Feb 2025 19:54:22 +0100 (CET) Received: by mail-pl1-f228.google.com with SMTP id d9443c01a7336-220c92c857aso39262185ad.0 for ; Fri, 14 Feb 2025 10:54:22 -0800 (PST) DKIM-Signature: v=1; a=rsa-sha256; c=relaxed/relaxed; d=iol.unh.edu; s=unh-iol; t=1739559262; x=1740164062; darn=dpdk.org; h=references:in-reply-to:cc:to:from:subject:message-id:date:from:to :cc:subject:date:message-id:reply-to; bh=bhysbg9EnWb7DxzVjWt4uN5Z/SMW7O9bSkgjfp+el14=; b=CEtCht81WVHeZqN8ZyBvAByTAokdR4WvBlCIPWS/u0LAd316vrE+n97RDscb78yXnL ySmelM1moD+/sGPcAXphIuX89zXZWDHLYnQqc54SvSGZjF0Q6JMCpymJ/D9fwpcSQ+bI XJ48w6rOgaZFTOT/kENKKlrQ8LFSsuTBzWy8c= X-Google-DKIM-Signature: v=1; a=rsa-sha256; c=relaxed/relaxed; d=1e100.net; s=20230601; t=1739559262; x=1740164062; h=references:in-reply-to:cc:to:from:subject:message-id:date :x-gm-message-state:from:to:cc:subject:date:message-id:reply-to; bh=bhysbg9EnWb7DxzVjWt4uN5Z/SMW7O9bSkgjfp+el14=; b=giCHeD8v/b0BoXpTWYxNqZZPhNMNw+bnFYjJ6XsYLOxbWF/GXH/2DUchaBVod8N30i NEvD6YPaEjRe7IPd0WSlv9eL7lKw/LIfvwD4DaglMZYvlIUlI7XfqbYAXdDhESTXelex nj/F4J8ZMn/zdU1YLVZ2CuUQDYJVXRe3pvSMR0Fh1ZU369aEganiJA4xajhWrDDqXEbK DZ5OgJCbm3d9+s7nAypWC7gdcMGIl4MKGkBdqlrdannUvIGiRrVybnn9GPq5+pk3mXS8 buuUJlgcGojDer4CvYfqwGAM7Aobi40akMNjw2tqokN3Rf8utDaOFP5k/SVCqh1/Ze64 TSXA== X-Gm-Message-State: AOJu0YwG3t3cDYa6UFgzpOQ1wUxjo1S3f+FfKkORe1OSoPgrCV5Qlpnh ykz9pEImw0MdJsJQ4UDR+ghRcRf0hbwf+QO/O8CWi8JaU7aYIMqQyr1hO7PbF6L5NWAgBCzmAAE K4rqUrTwge45i5nybJLJM86DwMwmXBTiD4aN86joM X-Gm-Gg: ASbGncvPElcEY9s+EWcc8jX79cIqxUEhdeOfYqXIEPntPkTjyycQ6QkeiR74BCSVtaJ 3wl4C50UA8RgsmGbT0MwPnlAZu/0jC7u13mrkVClT0z480S9z6t9cFXrcMhnaORvWHkhZBxtGy1 gmiMbdTmdPGqsfldr6a5qStCgHKKyzSFxMe0qAHgPCdRWW6yuYYXE7PYjykiCuxcWFCcdhVBk/5 1RdzVR6+Vn/mp0rBE5dbIXCyP1WR/BnFEDX3O5t+BkcuXC0iwk5M6g0aG5LDL5LzmVqdr9d0NAH vGhRDt28AmuHOiH5v/mMMNoDGHaKDQ== X-Google-Smtp-Source: AGHT+IGfGbvgCyqh7/iLzbhLvKa1/pLd6Ot3SUR3rcY13fMJ1mEsgKTuWWYmX5xpkfrZPIOzJ/+1kV5p3ygu X-Received: by 2002:a17:903:a43:b0:220:ff82:1c60 with SMTP id d9443c01a7336-220ff821ef2mr17236215ad.14.1739559261873; Fri, 14 Feb 2025 10:54:21 -0800 (PST) Received: from postal.iol.unh.edu (postal.iol.unh.edu. [132.177.123.84]) by smtp-relay.gmail.com with ESMTPS id d9443c01a7336-220d52028d9sm2009945ad.14.2025.02.14.10.54.21 (version=TLS1_2 cipher=ECDHE-ECDSA-AES128-GCM-SHA256 bits=128/128); Fri, 14 Feb 2025 10:54:21 -0800 (PST) X-Relaying-Domain: iol.unh.edu Date: Fri, 14 Feb 2025 10:54:21 -0800 (PST) Message-ID: <67af915d.170a0220.201f83.a5b8SMTPIN_ADDED_MISSING@mx.google.com> Received: from [172.21.0.5] (unknown [172.18.0.240]) by postal.iol.unh.edu (Postfix) with ESMTP id 4999F6052471; Fri, 14 Feb 2025 13:54:21 -0500 (EST) Subject: |SUCCESS| pw151493-151499 [PATCH] [v2,7/7] raw/ifpga: use EAL versio From: dpdklab@iol.unh.edu To: Test Report Cc: dpdk-test-reports@iol.unh.edu In-Reply-To: <20250214172134.73908-8-stephen@networkplumber.org> References: <20250214172134.73908-8-stephen@networkplumber.org> Content-Type: text/plain X-BeenThere: test-report@dpdk.org X-Mailman-Version: 2.1.29 Precedence: list List-Id: automatic DPDK test reports List-Unsubscribe: , List-Archive: List-Post: List-Help: List-Subscribe: , Errors-To: test-report-bounces@dpdk.org Test-Label: iol-unit-amd64-testing Test-Status: SUCCESS http://dpdk.org/patch/151499 _Testing PASS_ Submitter: Stephen Hemminger Date: Friday, February 14 2025 17:20:15 DPDK git baseline: Repo:dpdk Branch: master CommitID:e5176f23ae8b31437c3e5eb875c81f95bf3a9942 151493-151499 --> testing pass Upstream job id: Generic-VM-Unit-Test-DPDK#27234 Test environment and result as below: +---------------------+----------------+ | Environment | dpdk_unit_test | +=====================+================+ | CentOS Stream 9 | PASS | +---------------------+----------------+ | CentOS Stream 10 | PASS | +---------------------+----------------+ | Debian 12 | PASS | +---------------------+----------------+ | Fedora 41 (Clang) | PASS | +---------------------+----------------+ | Fedora 41 | PASS | +---------------------+----------------+ | Fedora 40 (Clang) | PASS | +---------------------+----------------+ | Fedora 40 | PASS | +---------------------+----------------+ | Debian Bullseye | PASS | +---------------------+----------------+ | RHEL8 | PASS | +---------------------+----------------+ | Ubuntu 22.04 | PASS | +---------------------+----------------+ | Ubuntu 20.04 | PASS | +---------------------+----------------+ | RHEL9 | PASS | +---------------------+----------------+ | Ubuntu 24.04 | PASS | +---------------------+----------------+ | Windows Server 2022 | PASS | +---------------------+----------------+ CentOS Stream 9 Kernel: Depends on container host Compiler: gcc 11.5.0 20240719 (Red Hat 11.5.0-2) CentOS Stream 10 Kernel: Depends on container host Compiler: gcc 14.2.1 20241104 (Red Hat 14.2.1-6) Debian 12 Kernel: Depends on container host Compiler: gcc (Debian 12.2.0-14) 12.2.0 Fedora 41 (Clang) Kernel: Depends on container host Compiler: clang 19.1.5 (Fedora 19.1.5-1.fc41) Fedora 41 Kernel: Depends on container host Compiler: gcc 14.2.1 20240912 (Red Hat 14.2.1-3) Fedora 40 (Clang) Kernel: Depends on container host Compiler: clang 18.1.8 (Fedora 18.1.8-1.fc40) Fedora 40 Kernel: Depends on container host Compiler: gcc 14.2.1 20240912 (Red Hat 14.2.1-3) Debian Bullseye Kernel: Depends on container host Compiler: gcc (Debian 10.2.1-6) 10.2.1 20210110 RHEL8 Kernel: Depends on container host Compiler: gcc 8.5.0 20210514 (Red Hat 8.5.0-22) Ubuntu 22.04 Kernel: Depends on container host Compiler: gcc (Ubuntu 11.4.0-1ubuntu1~22.04) 11.4.0 Ubuntu 20.04 Kernel: Depends on container host Compiler: gcc (Ubuntu 9.4.0-1ubuntu1~20.04.2) 9.4.0 RHEL9 Kernel: Depends on container host Compiler: gcc 11.5.0 20240719 (Red Hat 11.5.0-2) Ubuntu 24.04 Kernel: Depends on container host Compiler: gcc (Ubuntu 13.3.0-6ubuntu2~24.04) 13.3.0 Windows Server 2022 Kernel: 10.0.20348.2031 Compiler: clang 15.0.7, gcc 14.1.0 (MinGW), and MSVC VS 19.39.33521 To view detailed results, visit: https://lab.dpdk.org/results/dashboard/patchsets/32582/ UNH-IOL DPDK Community Lab To manage your email subscriptions, visit: https://lab.dpdk.org/results/dashboard/preferences/subscriptions/