From mboxrd@z Thu Jan 1 00:00:00 1970 Return-Path: Received: from mails.dpdk.org (mails.dpdk.org [217.70.189.124]) by inbox.dpdk.org (Postfix) with ESMTP id D90514620B for ; Fri, 14 Feb 2025 20:14:43 +0100 (CET) Received: from mails.dpdk.org (localhost [127.0.0.1]) by mails.dpdk.org (Postfix) with ESMTP id CE11640696; Fri, 14 Feb 2025 20:14:43 +0100 (CET) Received: from mail-oa1-f97.google.com (mail-oa1-f97.google.com [209.85.160.97]) by mails.dpdk.org (Postfix) with ESMTP id 7524640651 for ; Fri, 14 Feb 2025 20:14:42 +0100 (CET) Received: by mail-oa1-f97.google.com with SMTP id 586e51a60fabf-2b8481ce420so798358fac.1 for ; Fri, 14 Feb 2025 11:14:42 -0800 (PST) DKIM-Signature: v=1; a=rsa-sha256; c=relaxed/relaxed; d=iol.unh.edu; s=unh-iol; t=1739560481; x=1740165281; darn=dpdk.org; h=references:in-reply-to:cc:to:from:subject:message-id:date:from:to :cc:subject:date:message-id:reply-to; bh=9Dz9B/PymuxXaHnZPW6K5aQUb8BpG8tyj9+1Kq6J0Hk=; b=RRjQLI9oJUOw4C/D8ORIlz6bjhmgtUe8FURlc0d/sCXPTG/wiHiBf9UdCDK9l7qDr5 Kn6HeECMMOZZIgV82ePZs8yCcytKE8KbfJkI6ZdSpnJ3F3Pzj0sIE3oyAO1TG3spj6hM r/YOxuUHd/Q7Lj6c30kJ9w6M91r4pglbQ0NYE= X-Google-DKIM-Signature: v=1; a=rsa-sha256; c=relaxed/relaxed; d=1e100.net; s=20230601; t=1739560481; x=1740165281; h=references:in-reply-to:cc:to:from:subject:message-id:date :x-gm-message-state:from:to:cc:subject:date:message-id:reply-to; bh=9Dz9B/PymuxXaHnZPW6K5aQUb8BpG8tyj9+1Kq6J0Hk=; b=sg1e0bMfESL6486hgJchGsmxmUzjpqrv8OEXEz8jgL3bHZHTyud/T5NDoVDkG0bhPp wb+XjoUXJdgHT1syZJSu7JGv5KlsZ+WiwkYvofZq18SzmSV1pHBc0wstfbM3HrWvpCVA uu4cIRmikQwlS1CToE79jqmzM9XX1bWARRr0g1wHF+5Ow8nJuKmk3apMdCUT+yzTOPJI cltO1HTm7rwHySCQEL4ckBhyuor5NRaYuvsqs+WeF+HC0fz1YNrEGTt2N1QVvxjq4Zwi 9tRehqfX08GAA2XhCLazHo2BvWDuxP9FNXD7JblKa80osNUkhiVnbZPRgQp8oMMJBS3p ZuUQ== X-Gm-Message-State: AOJu0Yxxw6KooJOLsFxUsxCC//W1MIEWfS/G7HczyN92VC7hDoJ8hVGZ 8muUU0YXw8rstZzhxf2JNLNtU4p3DtbdlasQym4+poyWOXbBmOkI/tOnI72E5F940Ndf4Tjy3N7 h17bSK47Iu8mftVY5Of1faGehob2ppytUhOJVTGdggZ3/KwDROlv4lA+m X-Gm-Gg: ASbGncvlYWSwAkosbHL+ijBdwq3gpdTLnDkmz+SBPAIERIkF+9HJUP9pGr0pWl97Rx2 f89OFaHiSuKkdeUU+xhlInFaBLWSqclsbMfUuCqG3zHDrzB/SZe1wAmkFbhVht+GdTBs8Kx/l2w B2BmG6pk1DIy+zt04/8kW+qmmmOhMHDARTA/qfhxFsMnViUyUZNFwdWRgE+dm/UKxNwxMXr3cGg W8jjQH1hVaTuxQAEFrQWXLelS/RyeFkDH+c9njD3bvV+ASPS+Z/TrlKzRJGl9TuZnEv9TWk7Z0r QAcH5p7j0YEKw0hx2ctVHpIizot6WSGck2rjtVu9ng== X-Google-Smtp-Source: AGHT+IFcZa64X64TLlcUoGRQh3c9TcV3fZqfzoaCucLfRvVc84ADOOQwnds2Uc6nFDtdV7ijJf7BJWs7j7SO X-Received: by 2002:a05:6870:702b:b0:2b7:7abf:df6b with SMTP id 586e51a60fabf-2bc99d4390dmr131965fac.26.1739560481665; Fri, 14 Feb 2025 11:14:41 -0800 (PST) Received: from postal.iol.unh.edu (postal.iol.unh.edu. [2606:4100:3880:1234::84]) by smtp-relay.gmail.com with ESMTPS id 586e51a60fabf-2b963a07db1sm272886fac.34.2025.02.14.11.14.41 (version=TLS1_2 cipher=ECDHE-ECDSA-AES128-GCM-SHA256 bits=128/128); Fri, 14 Feb 2025 11:14:41 -0800 (PST) X-Relaying-Domain: iol.unh.edu Date: Fri, 14 Feb 2025 11:14:41 -0800 (PST) Message-ID: <67af9621.050a0220.2c201b.ec22SMTPIN_ADDED_MISSING@mx.google.com> Received: from [172.17.0.5] (unknown [172.18.0.217]) by postal.iol.unh.edu (Postfix) with ESMTP id 38D266052471; Fri, 14 Feb 2025 14:14:41 -0500 (EST) Subject: |SUCCESS| pw151493-151499 [PATCH] [v2,7/7] raw/ifpga: use EAL versio From: dpdklab@iol.unh.edu To: Test Report Cc: dpdk-test-reports@iol.unh.edu In-Reply-To: <20250214172134.73908-8-stephen@networkplumber.org> References: <20250214172134.73908-8-stephen@networkplumber.org> Content-Type: text/plain X-BeenThere: test-report@dpdk.org X-Mailman-Version: 2.1.29 Precedence: list List-Id: automatic DPDK test reports List-Unsubscribe: , List-Archive: List-Post: List-Help: List-Subscribe: , Errors-To: test-report-bounces@dpdk.org Test-Label: iol-sample-apps-testing Test-Status: SUCCESS http://dpdk.org/patch/151499 _Testing PASS_ Submitter: Stephen Hemminger Date: Friday, February 14 2025 17:20:15 DPDK git baseline: Repo:dpdk Branch: master CommitID:e5176f23ae8b31437c3e5eb875c81f95bf3a9942 151493-151499 --> testing pass Upstream job id: ACVP-FIPS-testing#8915 Test environment and result as below: +--------------------+----------------------+----------------------+ | Environment | compressdev_zlib_pmd | dpdk_fips_validation | +====================+======================+======================+ | Ubuntu 22.04 (ARM) | PASS | SKIPPED | +--------------------+----------------------+----------------------+ | Ubuntu 22.04 | PASS | SKIPPED | +--------------------+----------------------+----------------------+ | Ubuntu 20.04 | SKIPPED | PASS | +--------------------+----------------------+----------------------+ Ubuntu 22.04 (ARM) Kernel: 5.15.0-97-generic Compiler: gcc gcc (Ubuntu 11.4.0-1ubuntu1~22.04) 11.4.0 Ubuntu 22.04 Kernel: 5.15.0-100-generic Compiler: gcc gcc (Ubuntu 11.4.0-1ubuntu1~22.04) 11.4.0 Ubuntu 20.04 Kernel: Depends on container host Compiler: gcc (Ubuntu 9.4.0-1ubuntu1~20.04.2) 9.4.0 To view detailed results, visit: https://lab.dpdk.org/results/dashboard/patchsets/32582/ UNH-IOL DPDK Community Lab To manage your email subscriptions, visit: https://lab.dpdk.org/results/dashboard/preferences/subscriptions/