From mboxrd@z Thu Jan 1 00:00:00 1970 Return-Path: Received: from mails.dpdk.org (mails.dpdk.org [217.70.189.124]) by inbox.dpdk.org (Postfix) with ESMTP id 2D75E4620B for ; Fri, 14 Feb 2025 20:26:31 +0100 (CET) Received: from mails.dpdk.org (localhost [127.0.0.1]) by mails.dpdk.org (Postfix) with ESMTP id 014CC40651; Fri, 14 Feb 2025 20:26:31 +0100 (CET) Received: from mail-oo1-f97.google.com (mail-oo1-f97.google.com [209.85.161.97]) by mails.dpdk.org (Postfix) with ESMTP id 255F740281 for ; Fri, 14 Feb 2025 20:26:30 +0100 (CET) Received: by mail-oo1-f97.google.com with SMTP id 006d021491bc7-5fc69795ecbso1148034eaf.1 for ; Fri, 14 Feb 2025 11:26:30 -0800 (PST) DKIM-Signature: v=1; a=rsa-sha256; c=relaxed/relaxed; d=iol.unh.edu; s=unh-iol; t=1739561189; x=1740165989; darn=dpdk.org; h=references:in-reply-to:cc:to:from:subject:message-id:date:from:to :cc:subject:date:message-id:reply-to; bh=S6BS8lR+/H/T57+1yaqFKRPXtSUyUOVg/svGcg+6960=; b=U4jYT9cMymlNs9YaFKnoPE2Qygopw6RO2u8VrYEQL6nget56DPLy6Y0LoHt2Ha+2an ke9RDrOrHp4YMAsakH8fpr030hPSl2aK8+HiZu5t6Am5vjnokPjZFrDHMamZVSK2vSGT VXVCkHK5wLmajJZ6u6G4poFv6mP1rLCrjVDPo= X-Google-DKIM-Signature: v=1; a=rsa-sha256; c=relaxed/relaxed; d=1e100.net; s=20230601; t=1739561189; x=1740165989; h=references:in-reply-to:cc:to:from:subject:message-id:date :x-gm-message-state:from:to:cc:subject:date:message-id:reply-to; bh=S6BS8lR+/H/T57+1yaqFKRPXtSUyUOVg/svGcg+6960=; b=uSrsb/lB6lDsMVmLQTYsOzjuO8EwTBMssoa928Ap7kgKMJs69Hrm0evyTsn3C/9dpi 96QTB7NnIvbr5nXPz8omyHhVbH0odTnbViGYlL96VlRqEpklJgzUJ/kymhuMMn230DSB Vzo4e/7o5mI86tTsbigKhHS54HLX0eFXSrjKwzrQlpWlA0kZjyupHi39gtyusfDmOFoR MPrpUFB4HINceGlAbrIqjEvdHHPEAcAWnwsTf/Dq6Ud6zqNZX09TG4eikEppK6an+900 laxlkWZm/pW77C7cV3bPahYulQw3iO1fUBSlOaprbonhKb72NApUTzNyN48Li+z0kdju PWjQ== X-Gm-Message-State: AOJu0YwSyDXinRTA5kdo3mrna73b467mGzG0hvWHzrQBIdFV1PjsxRHw rpImUAykhAO2MCoqE/olFAdR43qlBRxvwsgwuJbA3E7QNNpG4zz9M8NcmcFxrbcNORGFWJx275w Ir2o66Uu94kx1zw/gVipttxFAxz0ib7hATwu5FOGs X-Gm-Gg: ASbGnculjQpYngtY+rzlRAtqlrchgwbpxLsV5b8b8ac3cPBgzOU0UXpCJ7jPWMTJON1 DRKogN2vE20hsM+R9knhGJjdPulVwP9Q7VlkCWN+uHdLMfilcqE/jxmbxyDgI69b7qqWjCozSgm YXf2KrgM88p7cwTOdrnXRtdDD8wU8fBlfw4SSWS4p59223WMzV6VzNuArQQZvIOBJwzbYtGCejL 0OjIzWjOO3WyD5Ep6axRm79g5RiYpvHY+i/nse+99OMPaKy7zl+OUsOwWRV/1MuzJ8v4sfWIGW6 u8NhGECJIhWZr9TEKI3eb/gRo+8sYw== X-Google-Smtp-Source: AGHT+IFL3QIPOt4jcN8OBb7d0mH9t9JeMhzPuyitoaPCmCRJ+HFWA7BxWYo8IFgONQoZbTEWIibt4V1WFoh2 X-Received: by 2002:a05:6870:7d04:b0:29e:2d50:11aa with SMTP id 586e51a60fabf-2bc99b4f051mr144147fac.18.1739561189247; Fri, 14 Feb 2025 11:26:29 -0800 (PST) Received: from postal.iol.unh.edu (postal.iol.unh.edu. [132.177.123.84]) by smtp-relay.gmail.com with ESMTPS id 586e51a60fabf-2b95481acd5sm254794fac.8.2025.02.14.11.26.29 (version=TLS1_2 cipher=ECDHE-ECDSA-AES128-GCM-SHA256 bits=128/128); Fri, 14 Feb 2025 11:26:29 -0800 (PST) X-Relaying-Domain: iol.unh.edu Date: Fri, 14 Feb 2025 11:26:29 -0800 (PST) Message-ID: <67af98e5.050a0220.119208.cfe6SMTPIN_ADDED_MISSING@mx.google.com> Received: from [172.17.0.3] (unknown [172.18.0.217]) by postal.iol.unh.edu (Postfix) with ESMTP id B3B286052471; Fri, 14 Feb 2025 14:26:28 -0500 (EST) Subject: |SUCCESS| pw151493-151499 [PATCH] [v2,7/7] raw/ifpga: use EAL versio From: dpdklab@iol.unh.edu To: Test Report Cc: dpdk-test-reports@iol.unh.edu In-Reply-To: <20250214172134.73908-8-stephen@networkplumber.org> References: <20250214172134.73908-8-stephen@networkplumber.org> Content-Type: text/plain X-BeenThere: test-report@dpdk.org X-Mailman-Version: 2.1.29 Precedence: list List-Id: automatic DPDK test reports List-Unsubscribe: , List-Archive: List-Post: List-Help: List-Subscribe: , Errors-To: test-report-bounces@dpdk.org Test-Label: iol-unit-arm64-testing Test-Status: SUCCESS http://dpdk.org/patch/151499 _Testing PASS_ Submitter: Stephen Hemminger Date: Friday, February 14 2025 17:20:15 DPDK git baseline: Repo:dpdk Branch: master CommitID:e5176f23ae8b31437c3e5eb875c81f95bf3a9942 151493-151499 --> testing pass Upstream job id: Generic-Unit-Test-DPDK#315055 Test environment and result as below: +-----------------------------+----------------+--------------+---------------------------+------------------------------+ | Environment | dpdk_unit_test | lpm_autotest | cryptodev_sw_zuc_autotest | cryptodev_sw_snow3g_autotest | +=============================+================+==============+===========================+==============================+ | 32-bit Ubuntu 22.04.4 (ARM) | PASS | SKIPPED | SKIPPED | SKIPPED | +-----------------------------+----------------+--------------+---------------------------+------------------------------+ | CentOS Stream 9 (ARM) | PASS | SKIPPED | SKIPPED | SKIPPED | +-----------------------------+----------------+--------------+---------------------------+------------------------------+ | CentOS Stream 10 (ARM) | PASS | SKIPPED | SKIPPED | SKIPPED | +-----------------------------+----------------+--------------+---------------------------+------------------------------+ | Fedora 40 (ARM Clang) | PASS | SKIPPED | SKIPPED | SKIPPED | +-----------------------------+----------------+--------------+---------------------------+------------------------------+ | Fedora 41 (ARM) | PASS | SKIPPED | SKIPPED | SKIPPED | +-----------------------------+----------------+--------------+---------------------------+------------------------------+ | Fedora 40 (ARM) | PASS | SKIPPED | SKIPPED | SKIPPED | +-----------------------------+----------------+--------------+---------------------------+------------------------------+ | Fedora 41 (ARM Clang) | PASS | SKIPPED | SKIPPED | SKIPPED | +-----------------------------+----------------+--------------+---------------------------+------------------------------+ | Ubuntu 22.04 (ARM) | PASS | SKIPPED | SKIPPED | SKIPPED | +-----------------------------+----------------+--------------+---------------------------+------------------------------+ | Ubuntu 20.04 (ARM) | PASS | SKIPPED | SKIPPED | SKIPPED | +-----------------------------+----------------+--------------+---------------------------+------------------------------+ | Ubuntu 24.04 (ARM) | PASS | SKIPPED | SKIPPED | SKIPPED | +-----------------------------+----------------+--------------+---------------------------+------------------------------+ | Debian 11 (Buster) (ARM) | PASS | SKIPPED | SKIPPED | SKIPPED | +-----------------------------+----------------+--------------+---------------------------+------------------------------+ | RHEL9 (ARM) | PASS | SKIPPED | SKIPPED | SKIPPED | +-----------------------------+----------------+--------------+---------------------------+------------------------------+ | Debian 12 (arm) | PASS | SKIPPED | PASS | PASS | +-----------------------------+----------------+--------------+---------------------------+------------------------------+ | Ubuntu 20.04 ARM SVE | SKIPPED | PASS | SKIPPED | SKIPPED | +-----------------------------+----------------+--------------+---------------------------+------------------------------+ 32-bit Ubuntu 22.04.4 (ARM) Kernel: 5.15.83+ aarch64 Compiler: gcc (Ubuntu 11.4.0-1ubuntu1~22.04) 11.4.0 CentOS Stream 9 (ARM) Kernel: Depends on container host Compiler: gcc 11.5.0 20240719 (Red Hat 11.5.0-2) CentOS Stream 10 (ARM) Kernel: Depends on container host Compiler: gcc 14.2.1 20241104 (Red Hat 14.2.1-6) Fedora 40 (ARM Clang) Kernel: Depends on container host Compiler: clang 18.1.8 (Fedora 18.1.8-1.fc40) Fedora 41 (ARM) Kernel: Depends on container host Compiler: gcc 14.2.1 20240912 (Red Hat 14.2.1-3) Fedora 40 (ARM) Kernel: Depends on container host Compiler: gcc 14.2.1 20240912 (Red Hat 14.2.1-3) Fedora 41 (ARM Clang) Kernel: Depends on container host Compiler: clang 19.1.5 (Fedora 19.1.5-1.fc41) Ubuntu 22.04 (ARM) Kernel: Depends on container host Compiler: gcc (Ubuntu 11.4.0-1ubuntu1~22.04) 11.4.0 Ubuntu 20.04 (ARM) Kernel: Depends on container host Compiler: gcc (Ubuntu 9.4.0-1ubuntu1~20.04.2) 9.4.0 Ubuntu 24.04 (ARM) Kernel: Depends on container host Compiler: gcc (Ubuntu 13.3.0-6ubuntu2~24.04) 13.3.0 Debian 11 (Buster) (ARM) Kernel: Depends on container host Compiler: gcc (Debian 10.2.1-6) 10.2.1 20210110 RHEL9 (ARM) Kernel: Depends on container host Compiler: gcc 11.5.0 20240719 (Red Hat 11.5.0-2) Debian 12 (arm) Kernel: Depends on container host Compiler: gcc (Debian 12.2.0-14) 12.2.0 Ubuntu 20.04 ARM SVE Kernel: Depends on container host Compiler: gcc (Ubuntu 10.5.0-1ubuntu1~20.04) 10.5.0 To view detailed results, visit: https://lab.dpdk.org/results/dashboard/patchsets/32582/ UNH-IOL DPDK Community Lab To manage your email subscriptions, visit: https://lab.dpdk.org/results/dashboard/preferences/subscriptions/