From mboxrd@z Thu Jan 1 00:00:00 1970 Return-Path: Received: from mails.dpdk.org (mails.dpdk.org [217.70.189.124]) by inbox.dpdk.org (Postfix) with ESMTP id 710CD4620B for ; Fri, 14 Feb 2025 20:50:30 +0100 (CET) Received: from mails.dpdk.org (localhost [127.0.0.1]) by mails.dpdk.org (Postfix) with ESMTP id 4EE6E40651; Fri, 14 Feb 2025 20:50:30 +0100 (CET) Received: from mail-io1-f99.google.com (mail-io1-f99.google.com [209.85.166.99]) by mails.dpdk.org (Postfix) with ESMTP id BDB8E40281 for ; Fri, 14 Feb 2025 20:50:28 +0100 (CET) Received: by mail-io1-f99.google.com with SMTP id ca18e2360f4ac-85570545f77so108186339f.1 for ; Fri, 14 Feb 2025 11:50:28 -0800 (PST) DKIM-Signature: v=1; a=rsa-sha256; c=relaxed/relaxed; d=iol.unh.edu; s=unh-iol; t=1739562628; x=1740167428; darn=dpdk.org; h=references:in-reply-to:cc:to:from:subject:message-id:date:from:to :cc:subject:date:message-id:reply-to; bh=oKY5+mjaV83IRp7RVaZCwlgZdeX7Ar1Vb1DZ8G5fqjI=; b=Ivjn/Ya1S0z0LDdlYSUSsSfIr0QN2pkdy26Jm9blj1NypWbkSO2I3DVh9Ri/zf1PYM bRqutVWc41B2pMqCGItJX7oHu+hvgkjpMn8cOmHkLD70/fTtVXsfTgTx6AtpNnlTMkp0 iuCzukhgZEu7WypWAd0M2qLeaxFodWUKvWHvM= X-Google-DKIM-Signature: v=1; a=rsa-sha256; c=relaxed/relaxed; d=1e100.net; s=20230601; t=1739562628; x=1740167428; h=references:in-reply-to:cc:to:from:subject:message-id:date :x-gm-message-state:from:to:cc:subject:date:message-id:reply-to; bh=oKY5+mjaV83IRp7RVaZCwlgZdeX7Ar1Vb1DZ8G5fqjI=; b=GAEG+U8BQWeGQMRX3sM0GfqjWirLv1ZOCKP0t+o8KB7MYjZIHFbqo+pYVJ4KUg9zuC Xs4luwJqgBgejb3e6LxUZApRGxHVRMutq1RfuVDQw3/Au+BE8OS0qtTfJO6VPn/mry84 yQ6rlW+lEg7W0GqTGQgUOsznL+PByE5JPoc6tHrtExX4LrPAjSWlA8FEUxXNG4n1TvMl TaNIhCbSDDCZyucgSYR01FQi0K3o3jta9/kb6FYbtn8/tJ+PB2WPQT/F2RbRjBMBtafT MaPn5JReRLZt6Bwj9vla5H2DuywkJMECWF9sWkwR8WCt/VosNlhj5TTySPZEHuYptAxz jZMQ== X-Gm-Message-State: AOJu0Yx9KxYGwOWyCT4pn9SsdqzOS8t/LNRJYy3kGrNp3wxCuD6LVRq0 UIlS72ZAewlnGm8vRCmsyWps2guAkauCd8mQgcTQ7YcfOztD6B+5CDEGMHUTksX2dDiCfQghOXs VUKX9kZXLidc1f/1KDzKtdXkWvoxGYlfH1RMlPpJHtWVtFQxOpVfyOwL5 X-Gm-Gg: ASbGncv3tGJDX/F0CKdPk4gMTuMvc/tM1FF0TFfrE+kJCjHdsTe6bSMt2qvA3xtBfTM BGM+X9G1taEVfyXrUDJ+lBVkaUmBKef9Ieol893om8JTpy+G79lOA67lHZDFRTZvtH4L2jWbf7l MhMiNd1z08nCkhRgUxajkKUu72pteARER0mfnHTRl7XhZ0ZJT8J4aEsH6KqOT+wWL3ZneCELRe8 R50TkXtYfgbYnxfUsIwsqmloXDGXOs+PGCVc9AHIZOwno7wUsHANHfcGSEJtypiDiNNjmpnWaVC KLzhU74rvgV2jzziOTHb5G9QOgW6Ovfl6Cz/0/dLFg== X-Google-Smtp-Source: AGHT+IFk6cKUnbnggKCSwOlqBMvXmLHM8WiZOU/lfZ+a2fD+OC2lsDFE5QLZ0Xg1NZdelJmNk9D67vmPLFnF X-Received: by 2002:a05:6e02:1d1a:b0:3d1:78c6:208e with SMTP id e9e14a558f8ab-3d28092d233mr7233915ab.15.1739562627974; Fri, 14 Feb 2025 11:50:27 -0800 (PST) Received: from postal.iol.unh.edu (postal.iol.unh.edu. [2606:4100:3880:1234::84]) by smtp-relay.gmail.com with ESMTPS id e9e14a558f8ab-3d18fb7cf98sm2341655ab.55.2025.02.14.11.50.27 (version=TLS1_2 cipher=ECDHE-ECDSA-AES128-GCM-SHA256 bits=128/128); Fri, 14 Feb 2025 11:50:27 -0800 (PST) X-Relaying-Domain: iol.unh.edu Date: Fri, 14 Feb 2025 11:50:27 -0800 (PST) Message-ID: <67af9e83.920a0220.25b841.be0bSMTPIN_ADDED_MISSING@mx.google.com> Received: from [172.17.0.3] (unknown [172.18.0.217]) by postal.iol.unh.edu (Postfix) with ESMTP id 6AEE46052471; Fri, 14 Feb 2025 14:50:27 -0500 (EST) Subject: |SUCCESS| pw151493-151499 [PATCH] [v2,7/7] raw/ifpga: use EAL versio From: dpdklab@iol.unh.edu To: Test Report Cc: dpdk-test-reports@iol.unh.edu In-Reply-To: <20250214172134.73908-8-stephen@networkplumber.org> References: <20250214172134.73908-8-stephen@networkplumber.org> Content-Type: text/plain X-BeenThere: test-report@dpdk.org X-Mailman-Version: 2.1.29 Precedence: list List-Id: automatic DPDK test reports List-Unsubscribe: , List-Archive: List-Post: List-Help: List-Subscribe: , Errors-To: test-report-bounces@dpdk.org Test-Label: iol-compile-arm64-testing Test-Status: SUCCESS http://dpdk.org/patch/151499 _Testing PASS_ Submitter: Stephen Hemminger Date: Friday, February 14 2025 17:20:15 DPDK git baseline: Repo:dpdk Branch: master CommitID:e5176f23ae8b31437c3e5eb875c81f95bf3a9942 151493-151499 --> testing pass Upstream job id: Generic-DPDK-Compile-Meson#361725 Test environment and result as below: +----------------------------------------+--------------------+ | Environment | dpdk_meson_compile | +========================================+====================+ | RHEL9 (ARM) | PASS | +----------------------------------------+--------------------+ | Ubuntu 20.04 ARM GCC Cross Compile | PASS | +----------------------------------------+--------------------+ | Ubuntu 20.04 ARM SVE | PASS | +----------------------------------------+--------------------+ | Fedora 40 (ARM) | PASS | +----------------------------------------+--------------------+ | Fedora 40 (ARM Clang) | PASS | +----------------------------------------+--------------------+ | Fedora 41 (ARM Clang) | PASS | +----------------------------------------+--------------------+ | Fedora 41 (ARM) | PASS | +----------------------------------------+--------------------+ | Ubuntu 22.04 (ARM) | PASS | +----------------------------------------+--------------------+ | Ubuntu 20.04 (ARM) | PASS | +----------------------------------------+--------------------+ | Ubuntu 24.04 (ARM) | PASS | +----------------------------------------+--------------------+ | CentOS Stream 10 (ARM) | PASS | +----------------------------------------+--------------------+ | Debian 11 (Buster) (ARM) | PASS | +----------------------------------------+--------------------+ | CentOS Stream 9 (ARM) | PASS | +----------------------------------------+--------------------+ | Debian 12 (arm) | PASS | +----------------------------------------+--------------------+ | Ubuntu 20.04 ARM Clang Cross Compile | PASS | +----------------------------------------+--------------------+ | Ubuntu 20.04 aarch32 GCC Cross Compile | PASS | +----------------------------------------+--------------------+ | Debian 12 with MUSDK | PASS | +----------------------------------------+--------------------+ RHEL9 (ARM) Kernel: Depends on container host Compiler: gcc 11.5.0 20240719 (Red Hat 11.5.0-2) Ubuntu 20.04 ARM GCC Cross Compile Kernel: Depends on container host Compiler: aarch64-linux-gnu-gcc (Ubuntu 9.4.0-1ubuntu1~20.04.2) 9.4.0 Ubuntu 20.04 ARM SVE Kernel: Depends on container host Compiler: gcc (Ubuntu 10.5.0-1ubuntu1~20.04) 10.5.0 Fedora 40 (ARM) Kernel: Depends on container host Compiler: gcc 14.2.1 20240912 (Red Hat 14.2.1-3) Fedora 40 (ARM Clang) Kernel: Depends on container host Compiler: clang 18.1.8 (Fedora 18.1.8-1.fc40) Fedora 41 (ARM Clang) Kernel: Depends on container host Compiler: clang 19.1.5 (Fedora 19.1.5-1.fc41) Fedora 41 (ARM) Kernel: Depends on container host Compiler: gcc 14.2.1 20240912 (Red Hat 14.2.1-3) Ubuntu 22.04 (ARM) Kernel: Depends on container host Compiler: gcc (Ubuntu 11.4.0-1ubuntu1~22.04) 11.4.0 Ubuntu 20.04 (ARM) Kernel: Depends on container host Compiler: gcc (Ubuntu 9.4.0-1ubuntu1~20.04.2) 9.4.0 Ubuntu 24.04 (ARM) Kernel: Depends on container host Compiler: gcc (Ubuntu 13.3.0-6ubuntu2~24.04) 13.3.0 CentOS Stream 10 (ARM) Kernel: Depends on container host Compiler: gcc 14.2.1 20241104 (Red Hat 14.2.1-6) Debian 11 (Buster) (ARM) Kernel: Depends on container host Compiler: gcc (Debian 10.2.1-6) 10.2.1 20210110 CentOS Stream 9 (ARM) Kernel: Depends on container host Compiler: gcc 11.5.0 20240719 (Red Hat 11.5.0-2) Debian 12 (arm) Kernel: Depends on container host Compiler: gcc (Debian 12.2.0-14) 12.2.0 Ubuntu 20.04 ARM Clang Cross Compile Kernel: Depends on container host Compiler: clang 10.0.0-4ubuntu1 Ubuntu 20.04 aarch32 GCC Cross Compile Kernel: Depends on container host Compiler: gcc 9.4.0 Debian 12 with MUSDK Kernel: Depends on container host Compiler: gcc (Debian 12.2.0-14) 12.2.0 To view detailed results, visit: https://lab.dpdk.org/results/dashboard/patchsets/32582/ UNH-IOL DPDK Community Lab To manage your email subscriptions, visit: https://lab.dpdk.org/results/dashboard/preferences/subscriptions/