From mboxrd@z Thu Jan 1 00:00:00 1970 Return-Path: Received: from mails.dpdk.org (mails.dpdk.org [217.70.189.124]) by inbox.dpdk.org (Postfix) with ESMTP id B602B46223 for ; Sat, 15 Feb 2025 07:40:51 +0100 (CET) Received: from mails.dpdk.org (localhost [127.0.0.1]) by mails.dpdk.org (Postfix) with ESMTP id 8F4984028A; Sat, 15 Feb 2025 07:40:51 +0100 (CET) Received: from mail-pj1-f97.google.com (mail-pj1-f97.google.com [209.85.216.97]) by mails.dpdk.org (Postfix) with ESMTP id DB67A400D7 for ; Sat, 15 Feb 2025 07:40:49 +0100 (CET) Received: by mail-pj1-f97.google.com with SMTP id 98e67ed59e1d1-2fbffe0254fso5110475a91.3 for ; Fri, 14 Feb 2025 22:40:49 -0800 (PST) DKIM-Signature: v=1; a=rsa-sha256; c=relaxed/relaxed; d=iol.unh.edu; s=unh-iol; t=1739601649; x=1740206449; darn=dpdk.org; h=cc:to:from:subject:message-id:date:from:to:cc:subject:date :message-id:reply-to; bh=SPZ/M930PnD+zIpNysVAU4QJhig+2SD54jRj3vZBQnw=; b=fVP6CL31SJo+no3JslXZy7L/Is29PKPMeRe1eIIw0CmZ8BwvSHZPZ97MyYjWxpifZF DnlEJRZ7PsacONYZBAYEnyw/75YdA4XIrQw/dcOQ/1tRd7B4TyUcaBg0ZgkMERIid6h2 fBUXC7hrhgJS9b2xON/3zqnFaKPefFVE4H6cs= X-Google-DKIM-Signature: v=1; a=rsa-sha256; c=relaxed/relaxed; d=1e100.net; s=20230601; t=1739601649; x=1740206449; h=cc:to:from:subject:message-id:date:x-gm-message-state:from:to:cc :subject:date:message-id:reply-to; bh=SPZ/M930PnD+zIpNysVAU4QJhig+2SD54jRj3vZBQnw=; b=ZQXxLvSZXt3mapIKTWkhI2Z4lyzudu5i6r+R/AJtjhNtd5uwhmjOb300sajkcg2eLk Z/YIJrKJli8r6886KJ4zLaITZDVnlU6bog//yM9j0iaBeiyOCRESlu1wpwTAmye+xM5g cwmO8sQy3KjYU9wImqNtOD+LvryzEaxAA1KKgMO8kGhzY9trjPWlVAL31crVbQW94lD1 qKdb09ers4vUgpxlS35fW2X0yT5W/IHWzuzQ64Wi9oIZJKYXciRdeoXV91NxNpyORNYY IWaXpfHAUg//YQIeC9g1MadXRMs7Z1QxAFbY9jKx4Q2/myWpYd8bWfKIARKKx0tJuABo GcaQ== X-Gm-Message-State: AOJu0Yw6MrCxAgB4VU4P02uMO1EqG76ZvsU80VsY3Q4UdFI/M6gLmiUI o3Fs8db8zSzLJQvAImTmAGB23WcB784c2VRrmsm6qH8SR/C6FJnBqpWHTsFJ5z7tUTvd7v1UVNF NsKsPY+ejy8GhxxLfkVVQN1tREpcba00xuhHHR81ytO/p2EmY X-Gm-Gg: ASbGncu/wteuIqSVojYhk69kaJwk6h359183P6TJjxwnWYCOmA5840ESJQ/2Tg0T551 2qUtv/RQIbIi7Dkgw+PURZnDvrplc1oqUs1TnyjVsNSbeMn14UwC89I7xQlSxlMrhAu88cLgJ1b IUH97AwP1QP/l+e3LpXgTXO+vP/HG2hWNtzG6zK7F1rladi/sjmJVKMVXou/xTtjUYMj+Zy3naa 9KIz1WwDnvLcSTI2Er83dPqy6i1Fl0ypjRnDma+S5mhV/Nc0MH56Oeer2ms+tNCtAZyXm2LwoQj 0QLPEPSJ6lGVraM8XjmqJByMQNaULMHTTeyOA+RxVA== X-Google-Smtp-Source: AGHT+IFjaIjqINl/w4Pr9QvZ3oVfqxFyCmFoL4CDHJRMfo8xD0GGRaDu5CN+4j6dn1vW6T/lRLgbf+wjPUlV X-Received: by 2002:a17:90a:d40c:b0:2ee:8c98:a965 with SMTP id 98e67ed59e1d1-2fc4116a7b4mr2886595a91.34.1739601648996; Fri, 14 Feb 2025 22:40:48 -0800 (PST) Received: from postal.iol.unh.edu (postal.iol.unh.edu. [2606:4100:3880:1234::84]) by smtp-relay.gmail.com with ESMTPS id 98e67ed59e1d1-2fc4491c223sm38458a91.14.2025.02.14.22.40.48 (version=TLS1_2 cipher=ECDHE-ECDSA-AES128-GCM-SHA256 bits=128/128); Fri, 14 Feb 2025 22:40:48 -0800 (PST) X-Relaying-Domain: iol.unh.edu Date: Fri, 14 Feb 2025 22:40:48 -0800 (PST) Message-ID: <67b036f0.170a0220.15a052.1b38SMTPIN_ADDED_MISSING@mx.google.com> Received: from [172.21.0.6] (unknown [172.18.0.240]) by postal.iol.unh.edu (Postfix) with ESMTP id CFE566052471; Sat, 15 Feb 2025 01:40:47 -0500 (EST) Subject: |SUCCESS| [GIT MASTER] f2eea2f37a82bb73fb01d56350708f7d70e21379 From: dpdklab@iol.unh.edu To: Test Report Cc: dpdk-test-reports@iol.unh.edu, Xueming Li , Christian Ehrhardt , Kevin Traynor , Luca Boccassi Content-Type: text/plain X-BeenThere: test-report@dpdk.org X-Mailman-Version: 2.1.29 Precedence: list List-Id: automatic DPDK test reports List-Unsubscribe: , List-Archive: List-Post: List-Help: List-Subscribe: , Errors-To: test-report-bounces@dpdk.org _Testing PASS_ Branch: tags/v24.11 f2eea2f37a82bb73fb01d56350708f7d70e21379 --> testing pass Upstream job id: Generic-Unit-Test-DPDK#315086 Test environment and result as below: +---------------------+----------------+ | Environment | dpdk_unit_test | +=====================+================+ | CentOS Stream 10 | PASS | +---------------------+----------------+ | CentOS Stream 9 | PASS | +---------------------+----------------+ | Debian 12 | PASS | +---------------------+----------------+ | Debian Bullseye | PASS | +---------------------+----------------+ | Fedora 40 (Clang) | PASS | +---------------------+----------------+ | Fedora 41 (Clang) | PASS | +---------------------+----------------+ | Ubuntu 20.04 | PASS | +---------------------+----------------+ | Fedora 41 | PASS | +---------------------+----------------+ | RHEL9 | PASS | +---------------------+----------------+ | Fedora 40 | PASS | +---------------------+----------------+ | RHEL8 | PASS | +---------------------+----------------+ | Ubuntu 22.04 | PASS | +---------------------+----------------+ | Ubuntu 24.04 | PASS | +---------------------+----------------+ | Windows Server 2022 | PASS | +---------------------+----------------+ CentOS Stream 10 Kernel: Depends on container host Compiler: gcc 14.2.1 20241104 (Red Hat 14.2.1-6) CentOS Stream 9 Kernel: Depends on container host Compiler: gcc 11.5.0 20240719 (Red Hat 11.5.0-2) Debian 12 Kernel: Depends on container host Compiler: gcc (Debian 12.2.0-14) 12.2.0 Debian Bullseye Kernel: Depends on container host Compiler: gcc (Debian 10.2.1-6) 10.2.1 20210110 Fedora 40 (Clang) Kernel: Depends on container host Compiler: clang 18.1.8 (Fedora 18.1.8-1.fc40) Fedora 41 (Clang) Kernel: Depends on container host Compiler: clang 19.1.5 (Fedora 19.1.5-1.fc41) Ubuntu 20.04 Kernel: Depends on container host Compiler: gcc (Ubuntu 9.4.0-1ubuntu1~20.04.2) 9.4.0 Fedora 41 Kernel: Depends on container host Compiler: gcc 14.2.1 20240912 (Red Hat 14.2.1-3) RHEL9 Kernel: Depends on container host Compiler: gcc 11.5.0 20240719 (Red Hat 11.5.0-2) Fedora 40 Kernel: Depends on container host Compiler: gcc 14.2.1 20240912 (Red Hat 14.2.1-3) RHEL8 Kernel: Depends on container host Compiler: gcc 8.5.0 20210514 (Red Hat 8.5.0-22) Ubuntu 22.04 Kernel: Depends on container host Compiler: gcc (Ubuntu 11.4.0-1ubuntu1~22.04) 11.4.0 Ubuntu 24.04 Kernel: Depends on container host Compiler: gcc (Ubuntu 13.3.0-6ubuntu2~24.04) 13.3.0 Windows Server 2022 Kernel: 10.0.20348.2031 Compiler: clang 15.0.7, gcc 14.1.0 (MinGW), and MSVC VS 19.39.33521 To view detailed results, visit: https://lab.dpdk.org/results/dashboard/tarballs/32580/ UNH-IOL DPDK Community Lab To manage your email subscriptions, visit: https://lab.dpdk.org/results/dashboard/preferences/subscriptions/