From mboxrd@z Thu Jan 1 00:00:00 1970 Return-Path: Received: from mails.dpdk.org (mails.dpdk.org [217.70.189.124]) by inbox.dpdk.org (Postfix) with ESMTP id A3BA646225 for ; Sat, 15 Feb 2025 08:21:30 +0100 (CET) Received: from mails.dpdk.org (localhost [127.0.0.1]) by mails.dpdk.org (Postfix) with ESMTP id 97A094028A; Sat, 15 Feb 2025 08:21:30 +0100 (CET) Received: from mail-il1-f227.google.com (mail-il1-f227.google.com [209.85.166.227]) by mails.dpdk.org (Postfix) with ESMTP id 3EDAA400D7 for ; Sat, 15 Feb 2025 08:21:24 +0100 (CET) Received: by mail-il1-f227.google.com with SMTP id e9e14a558f8ab-3cfcf8b7455so21579145ab.3 for ; Fri, 14 Feb 2025 23:21:24 -0800 (PST) DKIM-Signature: v=1; a=rsa-sha256; c=relaxed/relaxed; d=iol.unh.edu; s=unh-iol; t=1739604083; x=1740208883; darn=dpdk.org; h=cc:to:from:subject:message-id:date:from:to:cc:subject:date :message-id:reply-to; bh=hQwj+BDYuU+mEI0k92fPIwlkgViaZOY0GXF6qP2AaCE=; b=dQ9p9ekkcFCsBshKDQn/WkRbuozeUIUof4Nd82mdM0Q4WKeD5qI1hlFnh6JU4de1tN 7UPUprW2oIjtWckEiPfXcIf7paxrMnm0DQWV7YUMOf6GtZH/HqxQXCGF1yWppPBBP4Ik UIKrzJ239cm2Mi5+0f1/NIDE3Zm701FITi99Y= X-Google-DKIM-Signature: v=1; a=rsa-sha256; c=relaxed/relaxed; d=1e100.net; s=20230601; t=1739604083; x=1740208883; h=cc:to:from:subject:message-id:date:x-gm-message-state:from:to:cc :subject:date:message-id:reply-to; bh=hQwj+BDYuU+mEI0k92fPIwlkgViaZOY0GXF6qP2AaCE=; b=hS5oKp57N9Vr1qTDD4vhW3kXPkgrohJEMciXbdJaqBQxnmHwavN6M8nrN07BezZCrM atqkaSz80JC4EbsTHver83c1po1ihp9WxkSjDlL/4SpzeE5ZN0cNeoNnma4p1VEVcQP9 xihE6SLcT7pyLZNwr8LGbHPrgwxaYvq2/gW4VO7EukqypBFrjEaGWN/X3Vpz7doroaW8 99WntQLdIKQjmvyX09DEZLQTliKFzeLoODbA8Y0f6bPAJPGbLm5wf6haiShzWgjiWLJ6 z/Q3FmSKmHm05zBxASfy6QUcOO4GO4uJhnSItOnHc2G9bWsDPfur64b/hC+/L6IYsET1 cy4w== X-Gm-Message-State: AOJu0Yz7Y/pz2j9ufzTPTjn7F4cXVYWbcVyfg/RtZCK//vXONqqhpoaj ++9NOBfXypeZTZL96FdWG0RVY18QUgDoxok/aab8Dugm6YM+ewtqo/lAfta3rARmqP+U88gUUQo KEeQeKXAq1CU6hF0FOqr6A3UrBr1d847K X-Gm-Gg: ASbGnct0W0vFHAIcW4FML4KktV2ZB5JYpPGu2JH6uXBie2kFELV4prZaD4KssYJqNjX hD8GVraMtmzep/nYjzM2O264nX8TfTeAm+RGYqJZVr/2p987fACqpL9+oKmwfSPjmgmAo+zJ4/C bP50rhEnOmv/xB6fNhmMvkBhJ1txmS88pDc49XfEK+KkYPgJgCjtGqkhhDaZTSSBM76P63GG0gT lHcR0FuGqtbcROCG2xeIqfDMS41pq8ruL1MEZ1aJwLdW7TpzOEg8NPffc/jos/5a2ZA0L1dXWM4 0LtBh6jfsSaDJHJ/PheFeDsj1RuRpA== X-Google-Smtp-Source: AGHT+IEwiy3N0c0qLuudsYgT99klfYqnuw3soJbGcaUDSX7ELCG9jmD/HStJZA86SaR1feoM0jl/mn5YeDGN X-Received: by 2002:a05:6e02:184e:b0:3d0:10a6:99aa with SMTP id e9e14a558f8ab-3d280771ec3mr22478615ab.4.1739604083592; Fri, 14 Feb 2025 23:21:23 -0800 (PST) Received: from postal.iol.unh.edu (postal.iol.unh.edu. [132.177.123.84]) by smtp-relay.gmail.com with ESMTPS id 8926c6da1cb9f-4ed282a0e15sm296881173.55.2025.02.14.23.21.23 (version=TLS1_2 cipher=ECDHE-ECDSA-AES128-GCM-SHA256 bits=128/128); Fri, 14 Feb 2025 23:21:23 -0800 (PST) X-Relaying-Domain: iol.unh.edu Date: Fri, 14 Feb 2025 23:21:23 -0800 (PST) Message-ID: <67b04073.050a0220.25e1a7.ebafSMTPIN_ADDED_MISSING@mx.google.com> Received: from [172.21.0.7] (unknown [172.18.0.240]) by postal.iol.unh.edu (Postfix) with ESMTP id 06FB66052471; Sat, 15 Feb 2025 02:21:23 -0500 (EST) Subject: |SUCCESS| [GIT MASTER] 7ce7d3341d7e21c2a81f2fea8e451681d7306d77 From: dpdklab@iol.unh.edu To: Test Report Cc: dpdk-test-reports@iol.unh.edu, Xueming Li , Christian Ehrhardt , Kevin Traynor , Luca Boccassi Content-Type: text/plain X-BeenThere: test-report@dpdk.org X-Mailman-Version: 2.1.29 Precedence: list List-Id: automatic DPDK test reports List-Unsubscribe: , List-Archive: List-Post: List-Help: List-Subscribe: , Errors-To: test-report-bounces@dpdk.org _Testing PASS_ Branch: tags/v22.11 7ce7d3341d7e21c2a81f2fea8e451681d7306d77 --> testing pass Upstream job id: Generic-DPDK-Compile-ABI#116245 Test environment and result as below: +-------------------+----------+ | Environment | abi_test | +===================+==========+ | Debian Bullseye | PASS | +-------------------+----------+ | CentOS Stream 10 | PASS | +-------------------+----------+ | Debian 12 | PASS | +-------------------+----------+ | Fedora 40 (Clang) | PASS | +-------------------+----------+ | Fedora 41 | PASS | +-------------------+----------+ | Fedora 41 (Clang) | PASS | +-------------------+----------+ | Fedora 40 | PASS | +-------------------+----------+ | RHEL9 | PASS | +-------------------+----------+ | openSUSE Leap 15 | PASS | +-------------------+----------+ | RHEL8 | PASS | +-------------------+----------+ | Ubuntu 22.04 | PASS | +-------------------+----------+ | Ubuntu 24.04 | PASS | +-------------------+----------+ | CentOS Stream 9 | PASS | +-------------------+----------+ Debian Bullseye Kernel: Depends on container host Compiler: gcc (Debian 10.2.1-6) 10.2.1 20210110 CentOS Stream 10 Kernel: Depends on container host Compiler: gcc 14.2.1 20241104 (Red Hat 14.2.1-6) Debian 12 Kernel: Depends on container host Compiler: gcc (Debian 12.2.0-14) 12.2.0 Fedora 40 (Clang) Kernel: Depends on container host Compiler: clang 18.1.8 (Fedora 18.1.8-1.fc40) Fedora 41 Kernel: Depends on container host Compiler: gcc 14.2.1 20240912 (Red Hat 14.2.1-3) Fedora 41 (Clang) Kernel: Depends on container host Compiler: clang 19.1.5 (Fedora 19.1.5-1.fc41) Fedora 40 Kernel: Depends on container host Compiler: gcc 14.2.1 20240912 (Red Hat 14.2.1-3) RHEL9 Kernel: Depends on container host Compiler: gcc 11.5.0 20240719 (Red Hat 11.5.0-2) openSUSE Leap 15 Kernel: Depends on container host Compiler: gcc (SUSE Linux) 7.5.0 RHEL8 Kernel: Depends on container host Compiler: gcc 8.5.0 20210514 (Red Hat 8.5.0-22) Ubuntu 22.04 Kernel: Depends on container host Compiler: gcc (Ubuntu 11.4.0-1ubuntu1~22.04) 11.4.0 Ubuntu 24.04 Kernel: Depends on container host Compiler: gcc (Ubuntu 13.3.0-6ubuntu2~24.04) 13.3.0 CentOS Stream 9 Kernel: Depends on container host Compiler: gcc 11.5.0 20240719 (Red Hat 11.5.0-2) To view detailed results, visit: https://lab.dpdk.org/results/dashboard/tarballs/32581/ UNH-IOL DPDK Community Lab To manage your email subscriptions, visit: https://lab.dpdk.org/results/dashboard/preferences/subscriptions/