From mboxrd@z Thu Jan 1 00:00:00 1970 Return-Path: Received: from mails.dpdk.org (mails.dpdk.org [217.70.189.124]) by inbox.dpdk.org (Postfix) with ESMTP id 75C2446225 for ; Sat, 15 Feb 2025 08:39:16 +0100 (CET) Received: from mails.dpdk.org (localhost [127.0.0.1]) by mails.dpdk.org (Postfix) with ESMTP id 5491A4028A; Sat, 15 Feb 2025 08:39:16 +0100 (CET) Received: from mail-pl1-f225.google.com (mail-pl1-f225.google.com [209.85.214.225]) by mails.dpdk.org (Postfix) with ESMTP id 31AFB400D7 for ; Sat, 15 Feb 2025 08:39:15 +0100 (CET) Received: by mail-pl1-f225.google.com with SMTP id d9443c01a7336-220d39a5627so41705455ad.1 for ; Fri, 14 Feb 2025 23:39:15 -0800 (PST) DKIM-Signature: v=1; a=rsa-sha256; c=relaxed/relaxed; d=iol.unh.edu; s=unh-iol; t=1739605154; x=1740209954; darn=dpdk.org; h=cc:to:from:subject:message-id:date:from:to:cc:subject:date :message-id:reply-to; bh=x6XrApNCcLb2W3YkYJYN8QZXDXD+JLzKEB00oTjMAO4=; b=XuQ2C/gcSr1QyNrsVCl5Dm651I/d2gGZNKLo/K4ssArILMOazfsHipEm/toKR/X6Px 7bg5p/sZx5aDAcRfUTtPSlxHDAB3XviwvehLKN20n0KjG0wExwmbob9zg/KZAfPyJqjG dCkOCvenUvkcT5R0EXopyfNJ/jPm9G8t/gcGo= X-Google-DKIM-Signature: v=1; a=rsa-sha256; c=relaxed/relaxed; d=1e100.net; s=20230601; t=1739605154; x=1740209954; h=cc:to:from:subject:message-id:date:x-gm-message-state:from:to:cc :subject:date:message-id:reply-to; bh=x6XrApNCcLb2W3YkYJYN8QZXDXD+JLzKEB00oTjMAO4=; b=XxfUKX17sKN+5J0XRuNEzsJsQp0t5mMYBXf/eymCiiXJ4H2jbF4i7Yartya0qIVznZ Ue1emL1kUAivwkdQGSpPGppoeLLZ6iw1AROeM4pFV8oAf76K6Wl3z894MZeQ+asqYCex HrHqB3CvZhfhg4DDNJCM9tWVv4Mt4fVJ3lkuUZ7VmwUKniLyh4U+3ots6yGb3f41YeDd wSJs/zsZvxfLImpGwS5v2XRSdBMa6pWwMiySC5/HAjj4sqFPIpKiQFXd2rkRyyt6NxCl 7QnWMczLpayOdRdk+7QFbtZNn0FZtaOr5xqv5marSzc42CTj3t/zgfn+sZj8cUOCR83E Eo0g== X-Gm-Message-State: AOJu0YzDpAwdREhsV3ADmhePBUF8xLHDmwMj8II6p09K4e6aMjDrcVVg 0+ZneDDMVVW8hz54jEpK8HfB8BNPTL5DxQojgTCOcK3qMy2/r6autjNtrLJF4xJqiMjc4X75Dd4 E8VqOA13vMJIBqHa6iN5ghBeW8PtUhrubpkh8z7tv0iKhCh83 X-Gm-Gg: ASbGnctlLZWWehoHAczweFAM1CCNopZk109JZ9OOwh4EXR8Y7DTG+lcK+DAsS9nlDsW 64iCnkviUE5iP2l9UBFf0Pz/Ic+5+Pmz3CUGoV3zwFNNPVhHI/OEzCy6hpOjLspqu36O+s76yoM 6BpIIbWL3EU55hLifCOCMoqs8EUUP6phKSlhYUy5vz7X1XM/P8EAqW6uPZYpah93nVGxaS7oQtd XBpQXXi8E12kNb1EkToCJ8D/E+re3n9F3w4A4wBBImgU2KunBpayRghTPn+jJ2XTAw8ovw3doMh ETnsBwqI7OzDoTzOiGChADq0n8OvnPT4KqBuv8vXdQ== X-Google-Smtp-Source: AGHT+IHpYE6A3ssDEf6rm9qmq3Kp7VqYKVTL4XLnZNdhNPr1h42HQgYkSB+B1fWJ49qsQoAikpuVFVIgtFXJ X-Received: by 2002:a05:6a20:a128:b0:1ee:1e05:206d with SMTP id adf61e73a8af0-1ee8cb7d7fbmr3972281637.21.1739605154278; Fri, 14 Feb 2025 23:39:14 -0800 (PST) Received: from postal.iol.unh.edu (postal.iol.unh.edu. [2606:4100:3880:1234::84]) by smtp-relay.gmail.com with ESMTPS id 41be03b00d2f7-ade6ae63494sm3648a12.27.2025.02.14.23.39.14 (version=TLS1_2 cipher=ECDHE-ECDSA-AES128-GCM-SHA256 bits=128/128); Fri, 14 Feb 2025 23:39:14 -0800 (PST) X-Relaying-Domain: iol.unh.edu Date: Fri, 14 Feb 2025 23:39:14 -0800 (PST) Message-ID: <67b044a2.050a0220.1eface.02aaSMTPIN_ADDED_MISSING@mx.google.com> Received: from [172.21.0.6] (unknown [172.18.0.240]) by postal.iol.unh.edu (Postfix) with ESMTP id AD1316052471; Sat, 15 Feb 2025 02:39:12 -0500 (EST) Subject: |SUCCESS| [GIT MASTER] 7ce7d3341d7e21c2a81f2fea8e451681d7306d77 From: dpdklab@iol.unh.edu To: Test Report Cc: dpdk-test-reports@iol.unh.edu, Xueming Li , Christian Ehrhardt , Kevin Traynor , Luca Boccassi Content-Type: text/plain X-BeenThere: test-report@dpdk.org X-Mailman-Version: 2.1.29 Precedence: list List-Id: automatic DPDK test reports List-Unsubscribe: , List-Archive: List-Post: List-Help: List-Subscribe: , Errors-To: test-report-bounces@dpdk.org _Testing PASS_ Branch: tags/v22.11 7ce7d3341d7e21c2a81f2fea8e451681d7306d77 --> testing pass Upstream job id: Generic-Unit-Test-DPDK#315101 Test environment and result as below: +-----------------------------+---------------------------+--------------+------------------------------+----------------+ | Environment | cryptodev_sw_zuc_autotest | lpm_autotest | cryptodev_sw_snow3g_autotest | dpdk_unit_test | +=============================+===========================+==============+==============================+================+ | Debian 12 (arm) | PASS | SKIPPED | PASS | SKIPPED | +-----------------------------+---------------------------+--------------+------------------------------+----------------+ | Ubuntu 20.04 ARM SVE | SKIPPED | PASS | SKIPPED | SKIPPED | +-----------------------------+---------------------------+--------------+------------------------------+----------------+ | 32-bit Ubuntu 22.04.4 (ARM) | SKIPPED | SKIPPED | SKIPPED | PASS | +-----------------------------+---------------------------+--------------+------------------------------+----------------+ Debian 12 (arm) Kernel: Depends on container host Compiler: gcc (Debian 12.2.0-14) 12.2.0 Ubuntu 20.04 ARM SVE Kernel: Depends on container host Compiler: gcc (Ubuntu 10.5.0-1ubuntu1~20.04) 10.5.0 32-bit Ubuntu 22.04.4 (ARM) Kernel: 5.15.83+ aarch64 Compiler: gcc (Ubuntu 11.4.0-1ubuntu1~22.04) 11.4.0 To view detailed results, visit: https://lab.dpdk.org/results/dashboard/tarballs/32581/ UNH-IOL DPDK Community Lab To manage your email subscriptions, visit: https://lab.dpdk.org/results/dashboard/preferences/subscriptions/