From mboxrd@z Thu Jan 1 00:00:00 1970 Return-Path: Received: from mails.dpdk.org (mails.dpdk.org [217.70.189.124]) by inbox.dpdk.org (Postfix) with ESMTP id 5F36646225 for ; Sat, 15 Feb 2025 09:52:28 +0100 (CET) Received: from mails.dpdk.org (localhost [127.0.0.1]) by mails.dpdk.org (Postfix) with ESMTP id 356024028A; Sat, 15 Feb 2025 09:52:28 +0100 (CET) Received: from mail-pj1-f98.google.com (mail-pj1-f98.google.com [209.85.216.98]) by mails.dpdk.org (Postfix) with ESMTP id 289F8400D7 for ; Sat, 15 Feb 2025 09:52:27 +0100 (CET) Received: by mail-pj1-f98.google.com with SMTP id 98e67ed59e1d1-2fc3027c7aeso2457275a91.0 for ; Sat, 15 Feb 2025 00:52:27 -0800 (PST) DKIM-Signature: v=1; a=rsa-sha256; c=relaxed/relaxed; d=iol.unh.edu; s=unh-iol; t=1739609546; x=1740214346; darn=dpdk.org; h=cc:to:from:subject:message-id:date:from:to:cc:subject:date :message-id:reply-to; bh=WXGlywp07vLTyBTwTQBaNaqOY2Hr3uLyCqM5/yKnEIo=; b=WZ8OERvy3fnjI2qWou0Eq8iWcMmeN6lfJc10hTmOqwfa71ahG+HbqX4LkfgsV38Ion I0ObnXN41JENtxWRZ/UTRICsofzt5lZ3DpcQ3omfMCblVhqFII2F9LmJJcBU+o8l+oE2 dnIhEqb+FVry8CToPlQMwxGm65ICt+82Jsimo= X-Google-DKIM-Signature: v=1; a=rsa-sha256; c=relaxed/relaxed; d=1e100.net; s=20230601; t=1739609546; x=1740214346; h=cc:to:from:subject:message-id:date:x-gm-message-state:from:to:cc :subject:date:message-id:reply-to; bh=WXGlywp07vLTyBTwTQBaNaqOY2Hr3uLyCqM5/yKnEIo=; b=FW/tcCmYcNBM97KMRdeOr4/U0vsDcFa648Vi5WSfbaZqn+egHqozpn/fHFEwnRa8Ea CWx6q4EML2Hi22u/2lWM9JJGl0X4YoavggFtC7zV2Qr5vwryY8JlYiyCmOBegSl0BoHi sE11yt3XDQ3Uu3sbSwGm5++LGYr6fLAWxF4yeQKnbrPb0GGcxLDhYGcfLre3tnibDSCT ODq46sWrdFRejsd5RD8WXl5zgzKr5dlN2hkxM8M0GWR+HITDYH6tL95B0LERuyvMxaD5 eWcH/ntzsmXutxTmaXI9BXhvIP9N2Gn7tN5xj4f9qC2zQC88OdjSvTZBIPsXjCI4/+7l AUWA== X-Gm-Message-State: AOJu0YzpLyp8kFn9VSl2okY9k5Ovv4A5ZtrVfE5lN2qxX0Fbz6XYvApr B6UWNYBpDFFK1o3e7YGzFP2Y6v5EcEquYjUo+mBf9++3AdnoKHwHw4GNrUUvMv+5qKLMX36je+1 ixIhFUMxmiiCyX+kCuG8N6uUZNNacG1Fh X-Gm-Gg: ASbGncsNggZdI7KlYRhNvLB2CHUAmnnUsoDVmjOwoeXq+MJciADhNg7wbCiqOkeL4rW Tdh8WKnMWNGamw1krQj9/95aM6s/K4yopsyJwq0BJ+oasrRi0OX9fdCjDXG+aKfT4jZbAbe73Vi LVz/ucp3mfqmBjeRIM9+z9KMhjvxXmIKmMsEKEcUmxtb41yekD/itSPrXAta3+b6zRGwx6/51wK m2xZPZ5cEqeod3NOC0eAGSvW4Sfw5fUcGac0ZiK+daIqfMCoJ1yrKqhGkX7/HQvlpQ2MRnODP36 pKGaSs1Yw7Denttq8X3djnqtGUFqqw== X-Google-Smtp-Source: AGHT+IEHwJed1shOW2+UUUV9niYtJQO9E2k+dkHZOsMyRnqxvr8n2TgNiYseKBLB6Up5nGTYCXDAFfbXRWmg X-Received: by 2002:a17:90a:ce8e:b0:2fa:1f1b:3db7 with SMTP id 98e67ed59e1d1-2fc40f21c36mr4159127a91.18.1739609545890; Sat, 15 Feb 2025 00:52:25 -0800 (PST) Received: from postal.iol.unh.edu (postal.iol.unh.edu. [132.177.123.84]) by smtp-relay.gmail.com with ESMTPS id 98e67ed59e1d1-2fc13aafec9sm287622a91.5.2025.02.15.00.52.25 (version=TLS1_2 cipher=ECDHE-ECDSA-AES128-GCM-SHA256 bits=128/128); Sat, 15 Feb 2025 00:52:25 -0800 (PST) X-Relaying-Domain: iol.unh.edu Date: Sat, 15 Feb 2025 00:52:25 -0800 (PST) Message-ID: <67b055c9.170a0220.3b5e65.e727SMTPIN_ADDED_MISSING@mx.google.com> Received: from [172.17.0.3] (unknown [172.18.0.217]) by postal.iol.unh.edu (Postfix) with ESMTP id E5A386052471; Sat, 15 Feb 2025 03:52:24 -0500 (EST) Subject: |SUCCESS| [GIT MASTER] 7ce7d3341d7e21c2a81f2fea8e451681d7306d77 From: dpdklab@iol.unh.edu To: Test Report Cc: dpdk-test-reports@iol.unh.edu, Xueming Li , Christian Ehrhardt , Kevin Traynor , Luca Boccassi Content-Type: text/plain X-BeenThere: test-report@dpdk.org X-Mailman-Version: 2.1.29 Precedence: list List-Id: automatic DPDK test reports List-Unsubscribe: , List-Archive: List-Post: List-Help: List-Subscribe: , Errors-To: test-report-bounces@dpdk.org _Testing PASS_ Branch: tags/v22.11 7ce7d3341d7e21c2a81f2fea8e451681d7306d77 --> testing pass Upstream job id: ACVP-FIPS-testing#8917 Test environment and result as below: +--------------------+----------------------+----------------------+ | Environment | compressdev_zlib_pmd | dpdk_fips_validation | +====================+======================+======================+ | Ubuntu 22.04 (ARM) | PASS | SKIPPED | +--------------------+----------------------+----------------------+ | Ubuntu 22.04 | PASS | SKIPPED | +--------------------+----------------------+----------------------+ | Ubuntu 20.04 | SKIPPED | PASS | +--------------------+----------------------+----------------------+ Ubuntu 22.04 (ARM) Kernel: 5.15.0-97-generic Compiler: gcc gcc (Ubuntu 11.4.0-1ubuntu1~22.04) 11.4.0 Ubuntu 22.04 Kernel: 5.15.0-100-generic Compiler: gcc gcc (Ubuntu 11.4.0-1ubuntu1~22.04) 11.4.0 Ubuntu 20.04 Kernel: Depends on container host Compiler: gcc (Ubuntu 9.4.0-1ubuntu1~20.04.2) 9.4.0 To view detailed results, visit: https://lab.dpdk.org/results/dashboard/tarballs/32581/ UNH-IOL DPDK Community Lab To manage your email subscriptions, visit: https://lab.dpdk.org/results/dashboard/preferences/subscriptions/