From mboxrd@z Thu Jan 1 00:00:00 1970 Return-Path: Received: from mails.dpdk.org (mails.dpdk.org [217.70.189.124]) by inbox.dpdk.org (Postfix) with ESMTP id 47F484622A for ; Sat, 15 Feb 2025 10:27:49 +0100 (CET) Received: from mails.dpdk.org (localhost [127.0.0.1]) by mails.dpdk.org (Postfix) with ESMTP id 3C7BA4028A; Sat, 15 Feb 2025 10:27:49 +0100 (CET) Received: from mail-qk1-f227.google.com (mail-qk1-f227.google.com [209.85.222.227]) by mails.dpdk.org (Postfix) with ESMTP id 6B03C400D7 for ; Sat, 15 Feb 2025 10:27:48 +0100 (CET) Received: by mail-qk1-f227.google.com with SMTP id af79cd13be357-7c07b65efeeso220336685a.2 for ; Sat, 15 Feb 2025 01:27:48 -0800 (PST) DKIM-Signature: v=1; a=rsa-sha256; c=relaxed/relaxed; d=iol.unh.edu; s=unh-iol; t=1739611668; x=1740216468; darn=dpdk.org; h=cc:to:from:subject:message-id:date:from:to:cc:subject:date :message-id:reply-to; bh=8UXpdNaQpp2a0hS8Lw10uiRicyFn7SrdoCFn50a+xI4=; b=IiH17MMdwy6XtbJITRxgrz2mCkPn1Qt/XucgpwiRFo0cyMkaEk0kYdV1IkCqncvJC+ k+a+kZ0KjkagxIvZmDe/MgPxobpIab8Omlo1eWXeQ2tfOrWzRP1UD4GcCJzrlye8IVc0 LFIy6uv4HniWtMAQVXCxAVKJ0QceuxgvMa5uw= X-Google-DKIM-Signature: v=1; a=rsa-sha256; c=relaxed/relaxed; d=1e100.net; s=20230601; t=1739611668; x=1740216468; h=cc:to:from:subject:message-id:date:x-gm-message-state:from:to:cc :subject:date:message-id:reply-to; bh=8UXpdNaQpp2a0hS8Lw10uiRicyFn7SrdoCFn50a+xI4=; b=boWoQXmtwDHbXryKDzQ46bLmERRITwYv9mhCwic97kETh8TKPnzqdfZsZyd/lIBaWQ UfOCmUIvmLRV4qMvDLF/7MXP3ea76BodBGde9y3NzEykFtjQQVIgWPdbsehGbZbj+y/1 8n9QJjyvbGGfeSmEsGr/DsOMVeiVzJq54jdu+e/nRPi4NJt+L8cMfj8gB4Os43Tp59xd mDczuw/jGefsIrjkB+an6FiQbz9dar6b+p5NJtUBeeBN7Vbba/nvnzM1fU+5OD/cX1MU QTdmE7Tjwfht/BiTgKMnQv9fW0oX7PrEhwkza37eUpIrn/b6zkFLAriTzYdMz1BApXCI p8uw== X-Gm-Message-State: AOJu0YxipOQ7jPA5Dm4hduhsLg8uBnOHi3bsff36DMf37BnDP+BczUPk CuvPw8RtxfWorUBzrxpdrg945aGMfHZU18EQ3VfsKxuabkLz0aXeWqqCWwtRTlJ+Rcvq55jdP85 7b6tmlXG4fQw8KrK9aVZcwTSVaBfuv80K X-Gm-Gg: ASbGncvjRDoixORdSrQctqhsJuNCPQpiMQ8mKIq5AJXaHzGjt8LNRW9zVGQS7zhsjd2 8IhC8elurczwt8LrmKLTLjkiphgv3OS4roMgDNsTwIIhmfVWs+kt99zTKaL8FtvPDQE3sBEIweX uMrs7VrT6p2D+MYjMbvgdua7x8JO2bXFhXc8VCOLUd3F44UeDPrup2/E9YUVd7xCHhxeY5DjPWH bQniD109V7ZxIWk5eNq0CyUEvICOiM7bHH08ynnfzqrNq1290iyKcnd02MCJ1zVDIqwxwKbe/qQ 9ualSItnO4SRivlIliBcyF2NkaPOOA== X-Google-Smtp-Source: AGHT+IFETu89wEJGPM/3TigjwlGAMBrgP9u1NZKjrL4a2+o31BcYfwkucOYZT3+VazAsnM00eNf8SvLLIqSs X-Received: by 2002:a05:620a:4724:b0:7c0:7921:4fc5 with SMTP id af79cd13be357-7c08aa4723bmr356257585a.44.1739611667778; Sat, 15 Feb 2025 01:27:47 -0800 (PST) Received: from postal.iol.unh.edu (postal.iol.unh.edu. [132.177.123.84]) by smtp-relay.gmail.com with ESMTPS id af79cd13be357-7c07c84eee8sm26823785a.3.2025.02.15.01.27.47 (version=TLS1_2 cipher=ECDHE-ECDSA-AES128-GCM-SHA256 bits=128/128); Sat, 15 Feb 2025 01:27:47 -0800 (PST) X-Relaying-Domain: iol.unh.edu Date: Sat, 15 Feb 2025 01:27:47 -0800 (PST) Message-ID: <67b05e13.050a0220.21b661.d4b2SMTPIN_ADDED_MISSING@mx.google.com> Received: from [172.17.0.3] (unknown [172.18.0.217]) by postal.iol.unh.edu (Postfix) with ESMTP id 791FE6052471; Sat, 15 Feb 2025 04:27:47 -0500 (EST) Subject: |SUCCESS| [GIT MASTER] c66daa12e76d7b4912cfb7109a761856a7a873ab From: dpdklab@iol.unh.edu To: Test Report Cc: dpdk-test-reports@iol.unh.edu, Xueming Li , Christian Ehrhardt , Kevin Traynor , Luca Boccassi Content-Type: text/plain X-BeenThere: test-report@dpdk.org X-Mailman-Version: 2.1.29 Precedence: list List-Id: automatic DPDK test reports List-Unsubscribe: , List-Archive: List-Post: List-Help: List-Subscribe: , Errors-To: test-report-bounces@dpdk.org _Testing PASS_ Branch: tags/v23.11 c66daa12e76d7b4912cfb7109a761856a7a873ab --> testing pass Upstream job id: ACVP-FIPS-testing#8918 Test environment and result as below: +--------------------+----------------------+----------------------+ | Environment | compressdev_zlib_pmd | dpdk_fips_validation | +====================+======================+======================+ | Ubuntu 22.04 (ARM) | PASS | SKIPPED | +--------------------+----------------------+----------------------+ | Ubuntu 22.04 | PASS | SKIPPED | +--------------------+----------------------+----------------------+ | Ubuntu 20.04 | SKIPPED | PASS | +--------------------+----------------------+----------------------+ Ubuntu 22.04 (ARM) Kernel: 5.15.0-97-generic Compiler: gcc gcc (Ubuntu 11.4.0-1ubuntu1~22.04) 11.4.0 Ubuntu 22.04 Kernel: 5.15.0-100-generic Compiler: gcc gcc (Ubuntu 11.4.0-1ubuntu1~22.04) 11.4.0 Ubuntu 20.04 Kernel: Depends on container host Compiler: gcc (Ubuntu 9.4.0-1ubuntu1~20.04.2) 9.4.0 To view detailed results, visit: https://lab.dpdk.org/results/dashboard/tarballs/32582/ UNH-IOL DPDK Community Lab To manage your email subscriptions, visit: https://lab.dpdk.org/results/dashboard/preferences/subscriptions/