From mboxrd@z Thu Jan 1 00:00:00 1970 Return-Path: Received: from mails.dpdk.org (mails.dpdk.org [217.70.189.124]) by inbox.dpdk.org (Postfix) with ESMTP id 26B824622E for ; Sat, 15 Feb 2025 16:37:25 +0100 (CET) Received: from mails.dpdk.org (localhost [127.0.0.1]) by mails.dpdk.org (Postfix) with ESMTP id F3DBF400D7; Sat, 15 Feb 2025 16:37:24 +0100 (CET) Received: from mail-qk1-f228.google.com (mail-qk1-f228.google.com [209.85.222.228]) by mails.dpdk.org (Postfix) with ESMTP id 21DF640041 for ; Sat, 15 Feb 2025 16:37:24 +0100 (CET) Received: by mail-qk1-f228.google.com with SMTP id af79cd13be357-7c07b15ad6bso159115385a.0 for ; Sat, 15 Feb 2025 07:37:24 -0800 (PST) DKIM-Signature: v=1; a=rsa-sha256; c=relaxed/relaxed; d=iol.unh.edu; s=unh-iol; t=1739633843; x=1740238643; darn=dpdk.org; h=cc:to:from:subject:message-id:date:from:to:cc:subject:date :message-id:reply-to; bh=lhXBA9s7NTaqDu/vQHd5MG2LVGmiNKrFj2oUmYrNqKI=; b=Jfu9cxxrBLinBvI/bJmypkrwei3hd1jxQwA99L5005r4OreEZuRDwmIULckPhU0aB0 lKbHxH0MI29qz+rMYzMvad4aoMd06Mwd9yyNQ3pMNfffq2zsK6uKLZ6pn4Ml/kdsy/6Y F1S793cbUska5E1PLbxIJVH2KiOwoE4oZ3yEc= X-Google-DKIM-Signature: v=1; a=rsa-sha256; c=relaxed/relaxed; d=1e100.net; s=20230601; t=1739633843; x=1740238643; h=cc:to:from:subject:message-id:date:x-gm-message-state:from:to:cc :subject:date:message-id:reply-to; bh=lhXBA9s7NTaqDu/vQHd5MG2LVGmiNKrFj2oUmYrNqKI=; b=bLOJsKI1YLVe79KRbY8GSRRNmouiBH76mHQFCoRAHKzdhvbqNYqJGI624Nv2UAS5Fk Nhoq92KJg4HYSPw0x6MffzZdo0ah4xudVyk5Mk08ThIaVn6MFZ0RGxS15yKRMvet94Z2 hV37Mk2YtOp2363OdLsXtSaticvqhg6aYkIv1P4qQFGmyRlE/NN/KCERxExXe7+y1IUF NVkFEW5mkmiU4IY4xvJQfz0m2W/nr0xlZnPVxrb8LzxOPCw+wEfKi9ZVtfDoVTWowAzs GjZ0+eXlI85FOn5pA9oUj0Tv71aycP5bVwBYk5lVWipsH/f0FHZJDxH1isJOpXYLQ8M0 dOOQ== X-Gm-Message-State: AOJu0Yz5ibiDT2+iLTLwu64QKV0npnHM3sBtcQXiEKvcv3IF5DPwSHTL BZGpItN+Aa6fFA5m5I3pPx4JA1XAqXfHeOC0809GEztTb+Udocl4v6ilhfai/5OQkJTtYySlM1G 6K8MXaqg4mbbQgNUQ7jnIdLK+5K69ik99yOx5OtltYsOZzMVt X-Gm-Gg: ASbGncudT5HZhAWBi1ATYEeA4x9UE9YPYW6i65ebCjweSsVtmrq5JUvFQ2jP++FfkFH vexlMqEQ6Tzyz3ZUZnktIQn+WVhQSFgLLdN6g8Kno5c1DA9ZUAMxXPe3xxpBxfVwQ7O0Bs552yK FyV90YifEfCvAVSP2EdU09I711MAIaGTV/4IdRaWf23/o+mKVyXaPRPhMQdX7vytMf2sJS65yV6 FYE6SwEozFvOJoA3NfHYOk4GnEppogDoSP4h/dQbN4MUHtyPnZ/J46ZEtWoTLy88TVzcWpi9yN1 4NBbzWc6Ux1B8Da6tNPSrNezLIZb87jDLCFEgQ22IA== X-Google-Smtp-Source: AGHT+IEg6+Rpljh4KzjZ71m9ESmkLKoFagyK2Uh2IQ5GLJ0s6UAodzaUiDC34mRcEKOkghb9ruANh9aPeRAo X-Received: by 2002:a05:622a:14d:b0:471:cd30:b7e5 with SMTP id d75a77b69052e-471dbeb1265mr46602681cf.43.1739633843446; Sat, 15 Feb 2025 07:37:23 -0800 (PST) Received: from postal.iol.unh.edu (postal.iol.unh.edu. [2606:4100:3880:1234::84]) by smtp-relay.gmail.com with ESMTPS id d75a77b69052e-471c2a12cf9sm2514241cf.9.2025.02.15.07.37.23 (version=TLS1_2 cipher=ECDHE-ECDSA-AES128-GCM-SHA256 bits=128/128); Sat, 15 Feb 2025 07:37:23 -0800 (PST) X-Relaying-Domain: iol.unh.edu Date: Sat, 15 Feb 2025 07:37:23 -0800 (PST) Message-ID: <67b0b4b3.c80a0220.2cc31a.de87SMTPIN_ADDED_MISSING@mx.google.com> Received: from [172.17.0.6] (unknown [172.18.0.217]) by postal.iol.unh.edu (Postfix) with ESMTP id 01DBE6052471; Sat, 15 Feb 2025 10:37:23 -0500 (EST) Subject: |WARNING| [GIT MASTER] e35323505fe65756edeaddba3bd5550ca719053c From: dpdklab@iol.unh.edu To: Test Report Cc: dpdk-test-reports@iol.unh.edu, Xueming Li , Christian Ehrhardt , Kevin Traynor , Luca Boccassi Content-Type: text/plain X-BeenThere: test-report@dpdk.org X-Mailman-Version: 2.1.29 Precedence: list List-Id: automatic DPDK test reports List-Unsubscribe: , List-Archive: List-Post: List-Help: List-Subscribe: , Errors-To: test-report-bounces@dpdk.org _Testing issues_ Branch: 23.11-staging e35323505fe65756edeaddba3bd5550ca719053c --> testing issues Upstream job id: Generic-VM-Unit-Test-DPDK#27238 Test environment and result as below: +---------------------+----------------+ | Environment | dpdk_unit_test | +=====================+================+ | CentOS Stream 10 | WARN | +---------------------+----------------+ | CentOS Stream 9 | WARN | +---------------------+----------------+ | Debian Bullseye | WARN | +---------------------+----------------+ | Fedora 40 (Clang) | PASS | +---------------------+----------------+ | Debian 12 | WARN | +---------------------+----------------+ | Fedora 41 | WARN | +---------------------+----------------+ | Fedora 40 | WARN | +---------------------+----------------+ | RHEL9 | WARN | +---------------------+----------------+ | Ubuntu 22.04 | WARN | +---------------------+----------------+ | Fedora 41 (Clang) | PASS | +---------------------+----------------+ | RHEL8 | PASS | +---------------------+----------------+ | Ubuntu 20.04 | PASS | +---------------------+----------------+ | Ubuntu 24.04 | WARN | +---------------------+----------------+ | Windows Server 2022 | PASS | +---------------------+----------------+ ==== 20 line log output for Ubuntu 24.04 (dpdk_unit_test): ==== Checking for size of "void *" : 8 Checking for size of "void *" : 8 Compiler for C supports link arguments -Wl,--undefined-version: YES Library m found: YES Library numa found: YES Has header "numaif.h" : YES Library fdt found: NO Library execinfo found: NO Has header "execinfo.h" : YES Found pkg-config: /usr/bin/pkg-config (1.8.1) Run-time dependency libarchive found: NO (tried pkgconfig) Run-time dependency libbsd found: NO (tried pkgconfig) Run-time dependency jansson found: YES 2.14 Run-time dependency openssl found: YES 3.0.13 Run-time dependency libpcap found: YES 1.10.4 Has header "pcap.h" with dependency libpcap: YES config/meson.build:333:4: ERROR: Unknown variable "warning_flags". A full log can be found at /home-local/jenkins-local/jenkins-agent/workspace/Generic-Unit-Test-DPDK/dpdk/build/meson-logs/meson-log.txt ==== End log output ==== CentOS Stream 10 Kernel: Depends on container host Compiler: gcc 14.2.1 20241104 (Red Hat 14.2.1-6) CentOS Stream 9 Kernel: Depends on container host Compiler: gcc 11.5.0 20240719 (Red Hat 11.5.0-2) Debian Bullseye Kernel: Depends on container host Compiler: gcc (Debian 10.2.1-6) 10.2.1 20210110 Fedora 40 (Clang) Kernel: Depends on container host Compiler: clang 18.1.8 (Fedora 18.1.8-1.fc40) Debian 12 Kernel: Depends on container host Compiler: gcc (Debian 12.2.0-14) 12.2.0 Fedora 41 Kernel: Depends on container host Compiler: gcc 14.2.1 20240912 (Red Hat 14.2.1-3) Fedora 40 Kernel: Depends on container host Compiler: gcc 14.2.1 20240912 (Red Hat 14.2.1-3) RHEL9 Kernel: Depends on container host Compiler: gcc 11.5.0 20240719 (Red Hat 11.5.0-2) Ubuntu 22.04 Kernel: Depends on container host Compiler: gcc (Ubuntu 11.4.0-1ubuntu1~22.04) 11.4.0 Fedora 41 (Clang) Kernel: Depends on container host Compiler: clang 19.1.5 (Fedora 19.1.5-1.fc41) RHEL8 Kernel: Depends on container host Compiler: gcc 8.5.0 20210514 (Red Hat 8.5.0-22) Ubuntu 20.04 Kernel: Depends on container host Compiler: gcc (Ubuntu 9.4.0-1ubuntu1~20.04.2) 9.4.0 Ubuntu 24.04 Kernel: Depends on container host Compiler: gcc (Ubuntu 13.3.0-6ubuntu2~24.04) 13.3.0 Windows Server 2022 Kernel: 10.0.20348.2031 Compiler: clang 15.0.7, gcc 14.1.0 (MinGW), and MSVC VS 19.39.33521 To view detailed results, visit: https://lab.dpdk.org/results/dashboard/tarballs/32583/ UNH-IOL DPDK Community Lab To manage your email subscriptions, visit: https://lab.dpdk.org/results/dashboard/preferences/subscriptions/