From mboxrd@z Thu Jan  1 00:00:00 1970
Return-Path: <test-report-bounces@dpdk.org>
Received: from mails.dpdk.org (mails.dpdk.org [217.70.189.124])
	by inbox.dpdk.org (Postfix) with ESMTP id 1AB6F46230
	for <public@inbox.dpdk.org>; Sat, 15 Feb 2025 21:35:01 +0100 (CET)
Received: from mails.dpdk.org (localhost [127.0.0.1])
	by mails.dpdk.org (Postfix) with ESMTP id 13CB1400EF;
	Sat, 15 Feb 2025 21:35:01 +0100 (CET)
Received: from mail-qv1-f97.google.com (mail-qv1-f97.google.com
 [209.85.219.97]) by mails.dpdk.org (Postfix) with ESMTP id 8FD78400D7
 for <test-report@dpdk.org>; Sat, 15 Feb 2025 21:34:59 +0100 (CET)
Received: by mail-qv1-f97.google.com with SMTP id
 6a1803df08f44-6e670d29644so4955556d6.3
 for <test-report@dpdk.org>; Sat, 15 Feb 2025 12:34:59 -0800 (PST)
DKIM-Signature: v=1; a=rsa-sha256; c=relaxed/relaxed;
 d=iol.unh.edu; s=unh-iol; t=1739651699; x=1740256499; darn=dpdk.org;
 h=references:in-reply-to:cc:to:from:subject:message-id:date:from:to
 :cc:subject:date:message-id:reply-to;
 bh=ZmqIz7ML21DdkIIpg6apwRHcz5b9a4JPvDt3nmAHcN0=;
 b=aTi3Z/fKkyQ8iolXA3ksHfsN98hMnKR6VlVz4pTjTLebS+xdYQ6Txh0Ef77z+JOJ33
 n0/Tglj180Sed1DxCeHDRSIKFZ89SzQ6AvnSP7Euu1QDrAKCenwDaFEBbnYiFAbhNA4e
 6drYwqxo4q4NeHkF7qULGFjcTvFfIfD04HnZQ=
X-Google-DKIM-Signature: v=1; a=rsa-sha256; c=relaxed/relaxed;
 d=1e100.net; s=20230601; t=1739651699; x=1740256499;
 h=references:in-reply-to:cc:to:from:subject:message-id:date
 :x-gm-message-state:from:to:cc:subject:date:message-id:reply-to;
 bh=ZmqIz7ML21DdkIIpg6apwRHcz5b9a4JPvDt3nmAHcN0=;
 b=a1OhuOJvGooTCGl881nIPQ40qqIdETtbY1gzCffQQoGHHO19S5AG5AA582+9X3gRY4
 Drl+Owbd9KKbfljSgWgd0vWv9RYpQv6DWgqnWy4HNqYIcLT1vxtBtbMm+meJ+HcUd+7A
 chMF+0ZhDJt0BFtGG99zLaSxyagc7g8WefCMsJfPRkNCUKDcMkMDmMTKPsC0y4nOb6jb
 zj9kc1HMqUtcGw+566QdnaTa4WJspawS7fSPuflrSX00II7//hPDGAllsu2Yc9xQz4An
 W8DpsHas6NyoUHBqZYLv0+YpgSK/pvTswhePCSCXiA2JC20ZeJq/HT1a7IX2arJzbNyq
 62ng==
X-Gm-Message-State: AOJu0Yz8RVqpQdFj10FASeFn9YKLhTBb5rcuCQaxycBSXC50M1FbVfhv
 4Mb0yU/f6pizlxV3wyJ/44WE01FygqxrBnnPemykG/fs7kNRHZLdCBhlRC5ti33hR+UqSgyVDf3
 EnvbypoFLq688Yg7/WIVDa2TONLexRB0iFypzBuIZ
X-Gm-Gg: ASbGncty7akq2qjSFDcRalCJvyqIwzbgWz37wZ8fxw597CDtImbfdJsmx9ZoL6Ost0I
 3x8+tE1OI6qS+vhMaZ3pqqTMixe3EEfnOzJ1SrpftkN/H4QG0MmroViTJLqD862EjzgEjAEXQm5
 Ef0NJl9vqdmxzUtTUS5pzsQBTWZerBltKjeNk+5CzEtwdChwNC8+q4tjY86iqTipHSkGPO+TFTh
 WqYAoYAdKYs0cPRHdxVjHxO8ZknFIPWALC6ZrVXtP0KnRlci0fD2c8fmPveRL7Z5CMvIqHC6Fwp
 NGewk2xaCIGyEE/INGMWBjhKyjPKOw==
X-Google-Smtp-Source: AGHT+IEZVQtW83kGhxDtrvHwO1hTbVNWCkqD/rpyb7dyHgXy4CrxNhGeb1P1MSmxspAi6xCvyOSyfS12LLke
X-Received: by 2002:a05:6214:2528:b0:6dd:c593:d999 with SMTP id
 6a1803df08f44-6e66ce2f411mr60952636d6.41.1739651698962; 
 Sat, 15 Feb 2025 12:34:58 -0800 (PST)
Received: from postal.iol.unh.edu (postal.iol.unh.edu. [132.177.123.84])
 by smtp-relay.gmail.com with ESMTPS id
 6a1803df08f44-6e65d72c497sm3002806d6.12.2025.02.15.12.34.58
 (version=TLS1_2 cipher=ECDHE-ECDSA-AES128-GCM-SHA256 bits=128/128);
 Sat, 15 Feb 2025 12:34:58 -0800 (PST)
X-Relaying-Domain: iol.unh.edu
Date: Sat, 15 Feb 2025 12:34:58 -0800 (PST)
Message-ID: <67b0fa72.d40a0220.1991aa.f963SMTPIN_ADDED_MISSING@mx.google.com>
Received: from [172.21.0.5] (unknown [172.18.0.240])
 by postal.iol.unh.edu (Postfix) with ESMTP id 9DAD96052471;
 Sat, 15 Feb 2025 15:34:58 -0500 (EST)
Subject: |SUCCESS| pw151506-151521 [PATCH] [v7,16/16] devtools/cocci: add scr
From: dpdklab@iol.unh.edu
To: Test Report <test-report@dpdk.org>
Cc: dpdk-test-reports@iol.unh.edu
In-Reply-To: <20250215190544.988310-17-stephen@networkplumber.org>
References: <20250215190544.988310-17-stephen@networkplumber.org>
Content-Type: text/plain
X-BeenThere: test-report@dpdk.org
X-Mailman-Version: 2.1.29
Precedence: list
List-Id: automatic DPDK test reports <test-report.dpdk.org>
List-Unsubscribe: <https://mails.dpdk.org/options/test-report>,
 <mailto:test-report-request@dpdk.org?subject=unsubscribe>
List-Archive: <http://mails.dpdk.org/archives/test-report/>
List-Post: <mailto:test-report@dpdk.org>
List-Help: <mailto:test-report-request@dpdk.org?subject=help>
List-Subscribe: <https://mails.dpdk.org/listinfo/test-report>,
 <mailto:test-report-request@dpdk.org?subject=subscribe>
Errors-To: test-report-bounces@dpdk.org

Test-Label: iol-unit-amd64-testing
Test-Status: SUCCESS
http://dpdk.org/patch/151521

_Testing PASS_

Submitter: Stephen Hemminger <stephen@networkplumber.org>
Date: Saturday, February 15 2025 19:04:44 
DPDK git baseline: Repo:dpdk
  Branch: master
  CommitID:e5176f23ae8b31437c3e5eb875c81f95bf3a9942

151506-151521 --> testing pass

Upstream job id: Generic-Unit-Test-DPDK#315165

Test environment and result as below:

+---------------------+----------------+
|     Environment     | dpdk_unit_test |
+=====================+================+
| CentOS Stream 10    | PASS           |
+---------------------+----------------+
| Fedora 40           | PASS           |
+---------------------+----------------+
| Debian Bullseye     | PASS           |
+---------------------+----------------+
| CentOS Stream 9     | PASS           |
+---------------------+----------------+
| Windows Server 2022 | PASS           |
+---------------------+----------------+


CentOS Stream 10
	Kernel: Depends on container host
	Compiler: gcc 14.2.1 20241104 (Red Hat 14.2.1-6)

Fedora 40
	Kernel: Depends on container host
	Compiler: gcc 14.2.1 20240912 (Red Hat 14.2.1-3)

Debian Bullseye
	Kernel: Depends on container host
	Compiler: gcc (Debian 10.2.1-6) 10.2.1 20210110

CentOS Stream 9
	Kernel: Depends on container host
	Compiler: gcc 11.5.0 20240719 (Red Hat 11.5.0-2)

Windows Server 2022
	Kernel: 10.0.20348.2031
	Compiler: clang 15.0.7, gcc 14.1.0 (MinGW), and MSVC VS 19.39.33521

To view detailed results, visit:
https://lab.dpdk.org/results/dashboard/patchsets/32584/

UNH-IOL DPDK Community Lab

To manage your email subscriptions, visit: 
https://lab.dpdk.org/results/dashboard/preferences/subscriptions/