From mboxrd@z Thu Jan 1 00:00:00 1970 Return-Path: Received: from mails.dpdk.org (mails.dpdk.org [217.70.189.124]) by inbox.dpdk.org (Postfix) with ESMTP id 3551746231 for ; Sat, 15 Feb 2025 22:00:25 +0100 (CET) Received: from mails.dpdk.org (localhost [127.0.0.1]) by mails.dpdk.org (Postfix) with ESMTP id 309FC400EF; Sat, 15 Feb 2025 22:00:25 +0100 (CET) Received: from mail-yw1-f225.google.com (mail-yw1-f225.google.com [209.85.128.225]) by mails.dpdk.org (Postfix) with ESMTP id DDC2A400D7 for ; Sat, 15 Feb 2025 22:00:23 +0100 (CET) Received: by mail-yw1-f225.google.com with SMTP id 00721157ae682-6f4bc408e49so24590097b3.1 for ; Sat, 15 Feb 2025 13:00:23 -0800 (PST) DKIM-Signature: v=1; a=rsa-sha256; c=relaxed/relaxed; d=iol.unh.edu; s=unh-iol; t=1739653223; x=1740258023; darn=dpdk.org; h=references:in-reply-to:cc:to:from:subject:message-id:date:from:to :cc:subject:date:message-id:reply-to; bh=W9mbChRYz6HzB0SnXGTHZqo5u0EZ8z6JImEXZLIQaIw=; b=MQnhnoi1QIM9ld3sq1es66BBrgo/p1cG23tuNrwKTgADuiVdjN0feQBw4I7ZcNekqO 6ZWBWLF6TzL/DHPTKGjWlkync7hafrLFe7if6l1W4UmYgIcuDOZ6RQ+ALo3g/dS+4sIO or2B3o9U9N4EZuewRJvvMopfryxGdk0tEiBoo= X-Google-DKIM-Signature: v=1; a=rsa-sha256; c=relaxed/relaxed; d=1e100.net; s=20230601; t=1739653223; x=1740258023; h=references:in-reply-to:cc:to:from:subject:message-id:date :x-gm-message-state:from:to:cc:subject:date:message-id:reply-to; bh=W9mbChRYz6HzB0SnXGTHZqo5u0EZ8z6JImEXZLIQaIw=; b=hqnRZtKARLRWvst3LCVisMLrLj1sAinPhOK96zCLMAv9MTV0JF4fZoC4IyvhOzYlC3 suk6wP8/K4/+W4xQxGBpAZtD2fIiIxNEBmWK69brbRZ6Lq9I6nCrft78O5QrlzCVtK7e KGX+u3eBw6CyWGR4JIw5GGKePt+LV4gCIMktoei0CbO4KYwCvQroNw2CD3VdeweMOlYh JTfJDXf7EJII87+RrHPT6qORItJFFiyQBDP7iHVdz8nd4Y7VZiioscjPTRs4sC928QZS OBPs6V+BGzsfRVR8bI8mdMyJtZI29Md9j+gc084OAFYKl0eo8xAvTg5YBmfLqfZK5zLa oCCQ== X-Gm-Message-State: AOJu0YwFzK4kLMFNxba1nU2w/RytgScOdYBiOMvpOvyeK/vuSBcg6clQ FsFTVyt4U2CZHoNpVXwsfr77flc/TkYIYgFL+FRiO9/8+j4bERnipwyt8hLQk5/Q+em03YmKa9e XXoi09RHnDaVBKiTRO/JRbIJG2O3ZTsPV991oTOpRov7lecrGU6h1Pcqv X-Gm-Gg: ASbGncvhnLpDi4XXtEkyNj6iFoXgFTtnXl+LB+rCuRL4nHTicQreUl/AWPDWNp0MHiN br9XkttcAMtKJ3beg1fJ4QNSUbXXzC5te/T/dKErglC/DhkpgB4lPtsZ44Ha3J75U7u0/00P8/5 R7oFSMs3JFi/xGHVnm/B9uFr7fF2BBYHOq56R3wnB9P9kjfpPBF85r7SXV9gwKVu5NUrr+lD4Nl LHQOwgsI1XPuWkYL0gyUk9Vk/e/M80UWCfjprJlBzw72ngepPDLiifnaPaZ/bvYNxzS7x/qP1nX ASf75/AG1pBE1tIfXcT8QYKkRyfpizrKi9iM7zis6w== X-Google-Smtp-Source: AGHT+IHPwZfQX2X+NWCKMyhrCsV0mxrNphi9aVaH2RG1U6kXxg58hQ4K2gn6l/bgoOpBTSafgsrDeuFD2w7N X-Received: by 2002:a05:690c:4906:b0:6f9:ac35:4483 with SMTP id 00721157ae682-6fb58377f41mr38133707b3.25.1739653223204; Sat, 15 Feb 2025 13:00:23 -0800 (PST) Received: from postal.iol.unh.edu (postal.iol.unh.edu. [2606:4100:3880:1234::84]) by smtp-relay.gmail.com with ESMTPS id 00721157ae682-6fb35d4ec42sm979137b3.20.2025.02.15.13.00.23 (version=TLS1_2 cipher=ECDHE-ECDSA-AES128-GCM-SHA256 bits=128/128); Sat, 15 Feb 2025 13:00:23 -0800 (PST) X-Relaying-Domain: iol.unh.edu Date: Sat, 15 Feb 2025 13:00:23 -0800 (PST) Message-ID: <67b10067.050a0220.32b18e.515eSMTPIN_ADDED_MISSING@mx.google.com> Received: from [172.21.0.5] (unknown [172.18.0.240]) by postal.iol.unh.edu (Postfix) with ESMTP id BD5306052471; Sat, 15 Feb 2025 16:00:22 -0500 (EST) Subject: |SUCCESS| pw151506-151521 [PATCH] [v7,16/16] devtools/cocci: add scr From: dpdklab@iol.unh.edu To: Test Report Cc: dpdk-test-reports@iol.unh.edu In-Reply-To: <20250215190544.988310-17-stephen@networkplumber.org> References: <20250215190544.988310-17-stephen@networkplumber.org> Content-Type: text/plain X-BeenThere: test-report@dpdk.org X-Mailman-Version: 2.1.29 Precedence: list List-Id: automatic DPDK test reports List-Unsubscribe: , List-Archive: List-Post: List-Help: List-Subscribe: , Errors-To: test-report-bounces@dpdk.org Test-Label: iol-abi-testing Test-Status: SUCCESS http://dpdk.org/patch/151521 _Testing PASS_ Submitter: Stephen Hemminger Date: Saturday, February 15 2025 19:04:44 DPDK git baseline: Repo:dpdk Branch: master CommitID:e5176f23ae8b31437c3e5eb875c81f95bf3a9942 151506-151521 --> testing pass Upstream job id: Generic-DPDK-Compile-ABI#116280 Test environment and result as below: +-------------------+----------+ | Environment | abi_test | +===================+==========+ | CentOS Stream 9 | PASS | +-------------------+----------+ | CentOS Stream 10 | PASS | +-------------------+----------+ | Debian Bullseye | PASS | +-------------------+----------+ | Debian 12 | PASS | +-------------------+----------+ | Fedora 40 (Clang) | PASS | +-------------------+----------+ | Fedora 40 | PASS | +-------------------+----------+ | Fedora 41 (Clang) | PASS | +-------------------+----------+ | RHEL8 | PASS | +-------------------+----------+ | openSUSE Leap 15 | PASS | +-------------------+----------+ | Fedora 41 | PASS | +-------------------+----------+ | Ubuntu 24.04 | PASS | +-------------------+----------+ | Ubuntu 22.04 | PASS | +-------------------+----------+ | RHEL9 | PASS | +-------------------+----------+ CentOS Stream 9 Kernel: Depends on container host Compiler: gcc 11.5.0 20240719 (Red Hat 11.5.0-2) CentOS Stream 10 Kernel: Depends on container host Compiler: gcc 14.2.1 20241104 (Red Hat 14.2.1-6) Debian Bullseye Kernel: Depends on container host Compiler: gcc (Debian 10.2.1-6) 10.2.1 20210110 Debian 12 Kernel: Depends on container host Compiler: gcc (Debian 12.2.0-14) 12.2.0 Fedora 40 (Clang) Kernel: Depends on container host Compiler: clang 18.1.8 (Fedora 18.1.8-1.fc40) Fedora 40 Kernel: Depends on container host Compiler: gcc 14.2.1 20240912 (Red Hat 14.2.1-3) Fedora 41 (Clang) Kernel: Depends on container host Compiler: clang 19.1.5 (Fedora 19.1.5-1.fc41) RHEL8 Kernel: Depends on container host Compiler: gcc 8.5.0 20210514 (Red Hat 8.5.0-22) openSUSE Leap 15 Kernel: Depends on container host Compiler: gcc (SUSE Linux) 7.5.0 Fedora 41 Kernel: Depends on container host Compiler: gcc 14.2.1 20240912 (Red Hat 14.2.1-3) Ubuntu 24.04 Kernel: Depends on container host Compiler: gcc (Ubuntu 13.3.0-6ubuntu2~24.04) 13.3.0 Ubuntu 22.04 Kernel: Depends on container host Compiler: gcc (Ubuntu 11.4.0-1ubuntu1~22.04) 11.4.0 RHEL9 Kernel: Depends on container host Compiler: gcc 11.5.0 20240719 (Red Hat 11.5.0-2) To view detailed results, visit: https://lab.dpdk.org/results/dashboard/patchsets/32584/ UNH-IOL DPDK Community Lab To manage your email subscriptions, visit: https://lab.dpdk.org/results/dashboard/preferences/subscriptions/