From mboxrd@z Thu Jan 1 00:00:00 1970 Return-Path: Received: from mails.dpdk.org (mails.dpdk.org [217.70.189.124]) by inbox.dpdk.org (Postfix) with ESMTP id BA1F346231 for ; Sat, 15 Feb 2025 22:12:29 +0100 (CET) Received: from mails.dpdk.org (localhost [127.0.0.1]) by mails.dpdk.org (Postfix) with ESMTP id 8F2F4400EF; Sat, 15 Feb 2025 22:12:29 +0100 (CET) Received: from mail-pl1-f226.google.com (mail-pl1-f226.google.com [209.85.214.226]) by mails.dpdk.org (Postfix) with ESMTP id E684B400D7 for ; Sat, 15 Feb 2025 22:12:28 +0100 (CET) Received: by mail-pl1-f226.google.com with SMTP id d9443c01a7336-220bfdfb3f4so66577495ad.2 for ; Sat, 15 Feb 2025 13:12:28 -0800 (PST) DKIM-Signature: v=1; a=rsa-sha256; c=relaxed/relaxed; d=iol.unh.edu; s=unh-iol; t=1739653948; x=1740258748; darn=dpdk.org; h=references:in-reply-to:cc:to:from:subject:message-id:date:from:to :cc:subject:date:message-id:reply-to; bh=fwtBQaExksxpvYNoeSJx+7Q+Bd2+hpwj90NVJUKPEGo=; b=UGSA+CbEGjRAaYS6jkF1PKhDsjUb8MzrDv23RemqJwly+yZjq0ZHXix30C0lqAaaVj LD9WDix3prvAPSRphIFD5MDGr7+6P41iO8hnpMy4Q/IBcx1iEao2a4cxKprSxQuPz3nK Ce5j8mLxxImvQgM0f0/NqJwVsZrxab5/46ZQo= X-Google-DKIM-Signature: v=1; a=rsa-sha256; c=relaxed/relaxed; d=1e100.net; s=20230601; t=1739653948; x=1740258748; h=references:in-reply-to:cc:to:from:subject:message-id:date :x-gm-message-state:from:to:cc:subject:date:message-id:reply-to; bh=fwtBQaExksxpvYNoeSJx+7Q+Bd2+hpwj90NVJUKPEGo=; b=JXQRhn1jQtB9znoax+ZZEaxONKINGN6c1pfCKN61XxcAkUK3HdMJHV7K495Z2FH5+S NEnf11iLyyvfEAiwpvqq8vhUiwCG6xH35tR4mwW2/JbhEG4rufEolIK2CTy/84xGCZ39 /LCbVKCMMkn9d+1juaFeamzXFnEsiEtzwZ8Mj++q6FIzwLGLRWX0GES3STjIYes7ESnJ J0ws2btJjJEGie+KLSAInGqS8Ym8o+dY7eszF3G2kNlYhjF1EYgAFI4yJEE7SQRhQt93 Dv4S6NULUkYAs04nGf3sDEdW4CHyO4PNQ/q3q1U2otOxWa+4I38bFvjpNiFOokI9CKQy Z1ZQ== X-Gm-Message-State: AOJu0Yy0R/puKkILpwUpDgei5s42KQFkbK2zb40J5XYmt93Sy+5NySOQ 3thh5/tAaysbkF5NCObd4BHcSJHaEhpNytmNyuPCsjbRb2Ts0oBVK5/ainZJ6cLv1CV0jwdGL77 C3Tvm1wTCPVbL1fOezBQO2VZ16/XQqdOia4hXfbl7 X-Gm-Gg: ASbGncuEPVBjww7RtznuFtb/H+k1IFTvJn7GjufVWiJ6dawQTZeeuIhjU9iZeHdNP3u JFejQxy5Chp8owQ5U2764ScvwYd1bW6EKgRxw+W5v9ykdOh0EJeLIgOYJmubapPw38QYXqts9I1 1SDipycL4Ltb9OFcNdWEgqq5kH+ogzqdESqulrN7IwkUCrR6z6NPQZ0NC4HCDnSSkgljhviAYPQ FsvD+neE3wi12pDqjFXNB3ownh4KfAZbbkDv4OffhapOnwPnynExeVO4Q4odgykgQdeNK2eMdl5 Z950jgpjru4P1k3GtVatSW97PMv6pw== X-Google-Smtp-Source: AGHT+IFki+//quvKDb5cNL3TkDK7HyWMPU7O+MWD+PbWop5scdeFtLMUraKmgvBMX5B1oN1g6XEpL9QVaSz8 X-Received: by 2002:a17:902:da8c:b0:21f:8677:5961 with SMTP id d9443c01a7336-221040bcc51mr73077595ad.34.1739653947888; Sat, 15 Feb 2025 13:12:27 -0800 (PST) Received: from postal.iol.unh.edu (postal.iol.unh.edu. [132.177.123.84]) by smtp-relay.gmail.com with ESMTPS id 98e67ed59e1d1-2fc13acb1a4sm349839a91.8.2025.02.15.13.12.27 (version=TLS1_2 cipher=ECDHE-ECDSA-AES128-GCM-SHA256 bits=128/128); Sat, 15 Feb 2025 13:12:27 -0800 (PST) X-Relaying-Domain: iol.unh.edu Date: Sat, 15 Feb 2025 13:12:27 -0800 (PST) Message-ID: <67b1033b.170a0220.100ee7.2304SMTPIN_ADDED_MISSING@mx.google.com> Received: from [172.21.0.5] (unknown [172.18.0.240]) by postal.iol.unh.edu (Postfix) with ESMTP id EEC596052471; Sat, 15 Feb 2025 16:12:26 -0500 (EST) Subject: |SUCCESS| pw151506-151521 [PATCH] [v7,16/16] devtools/cocci: add scr From: dpdklab@iol.unh.edu To: Test Report Cc: dpdk-test-reports@iol.unh.edu In-Reply-To: <20250215190544.988310-17-stephen@networkplumber.org> References: <20250215190544.988310-17-stephen@networkplumber.org> Content-Type: text/plain X-BeenThere: test-report@dpdk.org X-Mailman-Version: 2.1.29 Precedence: list List-Id: automatic DPDK test reports List-Unsubscribe: , List-Archive: List-Post: List-Help: List-Subscribe: , Errors-To: test-report-bounces@dpdk.org Test-Label: iol-sample-apps-testing Test-Status: SUCCESS http://dpdk.org/patch/151521 _Testing PASS_ Submitter: Stephen Hemminger Date: Saturday, February 15 2025 19:04:44 DPDK git baseline: Repo:dpdk Branch: master CommitID:e5176f23ae8b31437c3e5eb875c81f95bf3a9942 151506-151521 --> testing pass Upstream job id: ACVP-FIPS-testing#8920 Test environment and result as below: +--------------------+----------------------+----------------------+ | Environment | compressdev_zlib_pmd | dpdk_fips_validation | +====================+======================+======================+ | Ubuntu 22.04 (ARM) | PASS | SKIPPED | +--------------------+----------------------+----------------------+ | Ubuntu 22.04 | PASS | SKIPPED | +--------------------+----------------------+----------------------+ | Ubuntu 20.04 | SKIPPED | PASS | +--------------------+----------------------+----------------------+ Ubuntu 22.04 (ARM) Kernel: 5.15.0-97-generic Compiler: gcc gcc (Ubuntu 11.4.0-1ubuntu1~22.04) 11.4.0 Ubuntu 22.04 Kernel: 5.15.0-100-generic Compiler: gcc gcc (Ubuntu 11.4.0-1ubuntu1~22.04) 11.4.0 Ubuntu 20.04 Kernel: Depends on container host Compiler: gcc (Ubuntu 9.4.0-1ubuntu1~20.04.2) 9.4.0 To view detailed results, visit: https://lab.dpdk.org/results/dashboard/patchsets/32584/ UNH-IOL DPDK Community Lab To manage your email subscriptions, visit: https://lab.dpdk.org/results/dashboard/preferences/subscriptions/