From mboxrd@z Thu Jan 1 00:00:00 1970 Return-Path: Received: from mails.dpdk.org (mails.dpdk.org [217.70.189.124]) by inbox.dpdk.org (Postfix) with ESMTP id 089DF46231 for ; Sat, 15 Feb 2025 22:35:01 +0100 (CET) Received: from mails.dpdk.org (localhost [127.0.0.1]) by mails.dpdk.org (Postfix) with ESMTP id E3AAA400EF; Sat, 15 Feb 2025 22:35:00 +0100 (CET) Received: from mail-ua1-f100.google.com (mail-ua1-f100.google.com [209.85.222.100]) by mails.dpdk.org (Postfix) with ESMTP id CED21400D7 for ; Sat, 15 Feb 2025 22:34:59 +0100 (CET) Received: by mail-ua1-f100.google.com with SMTP id a1e0cc1a2514c-86715793b1fso877921241.0 for ; Sat, 15 Feb 2025 13:34:59 -0800 (PST) DKIM-Signature: v=1; a=rsa-sha256; c=relaxed/relaxed; d=iol.unh.edu; s=unh-iol; t=1739655299; x=1740260099; darn=dpdk.org; h=references:in-reply-to:cc:to:from:subject:message-id:date:from:to :cc:subject:date:message-id:reply-to; bh=OwiAFboD2GczPA/ZjNhbtb071EB0mxYC2oVnGNjEXmw=; b=EhHChVq8PsSl4AT2Ti3N4tuY1+7rWoJSb6ymQciztcmVNO0ijvwCdxg4jW1+dOkA6f sAxnAv5GEFQpQ9PAchTLKtje6FMdKmQUrDoMCkJ7yHyBalvqWlrr3lLeuOrqWZLooZ9k aLNYWwV/urJHdQRXfOpd7eFO8P6yfEjIlbxXI= X-Google-DKIM-Signature: v=1; a=rsa-sha256; c=relaxed/relaxed; d=1e100.net; s=20230601; t=1739655299; x=1740260099; h=references:in-reply-to:cc:to:from:subject:message-id:date :x-gm-message-state:from:to:cc:subject:date:message-id:reply-to; bh=OwiAFboD2GczPA/ZjNhbtb071EB0mxYC2oVnGNjEXmw=; b=CIeRmdS3l0gFNzPwvmt7GRmkSvsNVN0C6ZpQ/QhnzNKkfilIjrzC++ackikpBWFDwv ZTmtm2raIFQKvNu3sIoRaYAISi8sSlsd1GCyX1crwtMue3Y8n4AQ/1VSMReeEEE8gICM kkhHZTIz9oTGLiwIyuHYYp4FnQCbae+l/F5jxdtATgyFd9jFPWJJylDmw8mdQQlk8ck1 cVy5IhYD/+XlD8ikKZDT/Mo/5o1jWO9LsYGhK/zc1lBBpVOCMXC4jYb3ZsM86isTGbJL ee1oY84d1aBo9oN7WAlfrS433fUcBKfPYGV3oZRj3E4mgcJKwUK6RKcifDMI06tJFCH5 NI7A== X-Gm-Message-State: AOJu0YzFpg6KKSaS7lEfKGVZHG+Q5TI8dEecoILFflDzdaDh31DFKJGo HVz/gm/LUmAxniLIwr7cyu4qaYbEFlIm/XPc5ImKA+7iXqZHWRbzfP2Hg7rM39qXCElQhC/+uDt 9sxxp6/emAQ3K6ulvfybe7uSyZ/uhwtC/Kse6tnyDml2VC5Z3Bjk5gyNA X-Gm-Gg: ASbGncs5710AikKpowzOHSMTPL6Jzy7n/oA5lGaVwYjhtIDMf20onwkeMyeEMpVJ+e5 qUE7LpEyNeB/RaZ4fAwYYn1/9bdEKYUQNWRm9+Z9qcx4SSFoVyG1gN4W96jKR4Y7j8hGryaVYfG b3MsaSCE+oljv4fEu1W1a4fIGyaVSNWg92VF0pwVpOb8NA1AQOetO9FV9k7iv7mxQNg1jjCeGFQ xGNTN5AnfiF2paovTWF/6IoIIKDer5TkskYji5yUap2l4PW7SV4rXSWvv2MaLN+9DsugRMmq1tn GJd2NiJtw00HFBrQJ0j+n34o9Vbe9FWI+gJmGnpteA== X-Google-Smtp-Source: AGHT+IFfGgj2Rvn/qHpkp6S8dy2BxrmXCVOE4ifWNg7AsXwgXG43PNB9Qf6lArcC5hlE0lLoHevalS8nBY/+ X-Received: by 2002:a05:6122:8f10:b0:50b:e9a5:cd7b with SMTP id 71dfb90a1353d-5209dcdbd63mr1599749e0c.9.1739655299011; Sat, 15 Feb 2025 13:34:59 -0800 (PST) Received: from postal.iol.unh.edu (postal.iol.unh.edu. [2606:4100:3880:1234::84]) by smtp-relay.gmail.com with ESMTPS id 71dfb90a1353d-5207ab14d2asm292898e0c.9.2025.02.15.13.34.58 (version=TLS1_2 cipher=ECDHE-ECDSA-AES128-GCM-SHA256 bits=128/128); Sat, 15 Feb 2025 13:34:58 -0800 (PST) X-Relaying-Domain: iol.unh.edu Date: Sat, 15 Feb 2025 13:34:58 -0800 (PST) Message-ID: <67b10882.050a0220.29cfcf.e3c7SMTPIN_ADDED_MISSING@mx.google.com> Received: from [172.21.0.5] (unknown [172.18.0.240]) by postal.iol.unh.edu (Postfix) with ESMTP id 5A01E6052471; Sat, 15 Feb 2025 16:34:58 -0500 (EST) Subject: |SUCCESS| pw151506-151521 [PATCH] [v7,16/16] devtools/cocci: add scr From: dpdklab@iol.unh.edu To: Test Report Cc: dpdk-test-reports@iol.unh.edu In-Reply-To: <20250215190544.988310-17-stephen@networkplumber.org> References: <20250215190544.988310-17-stephen@networkplumber.org> Content-Type: text/plain X-BeenThere: test-report@dpdk.org X-Mailman-Version: 2.1.29 Precedence: list List-Id: automatic DPDK test reports List-Unsubscribe: , List-Archive: List-Post: List-Help: List-Subscribe: , Errors-To: test-report-bounces@dpdk.org Test-Label: iol-compile-amd64-testing Test-Status: SUCCESS http://dpdk.org/patch/151521 _Testing PASS_ Submitter: Stephen Hemminger Date: Saturday, February 15 2025 19:04:44 DPDK git baseline: Repo:dpdk Branch: master CommitID:e5176f23ae8b31437c3e5eb875c81f95bf3a9942 151506-151521 --> testing pass Upstream job id: Generic-DPDK-Compile-Meson#361868 Test environment and result as below: +---------------------+--------------------+-------------------+------------------+-------------------------+-------------------+----------------------+ | Environment | dpdk_meson_compile | dpdk_compile_spdk | dpdk_compile_ovs | dpdk_llvm_clang_compile | dpdk_msvc_compile | dpdk_mingw64_compile | +=====================+====================+===================+==================+=========================+===================+======================+ | CentOS Stream 9 | PASS | PASS | SKIPPED | SKIPPED | SKIPPED | SKIPPED | +---------------------+--------------------+-------------------+------------------+-------------------------+-------------------+----------------------+ | CentOS Stream 10 | PASS | SKIPPED | SKIPPED | SKIPPED | SKIPPED | SKIPPED | +---------------------+--------------------+-------------------+------------------+-------------------------+-------------------+----------------------+ | Fedora 41 | PASS | PASS | PASS | SKIPPED | SKIPPED | SKIPPED | +---------------------+--------------------+-------------------+------------------+-------------------------+-------------------+----------------------+ | Fedora 40 | PASS | PASS | SKIPPED | SKIPPED | SKIPPED | SKIPPED | +---------------------+--------------------+-------------------+------------------+-------------------------+-------------------+----------------------+ | Ubuntu 20.04 | PASS | SKIPPED | SKIPPED | SKIPPED | SKIPPED | SKIPPED | +---------------------+--------------------+-------------------+------------------+-------------------------+-------------------+----------------------+ | RHEL9 | PASS | SKIPPED | SKIPPED | SKIPPED | SKIPPED | SKIPPED | +---------------------+--------------------+-------------------+------------------+-------------------------+-------------------+----------------------+ | Ubuntu 22.04 | PASS | PASS | SKIPPED | SKIPPED | SKIPPED | SKIPPED | +---------------------+--------------------+-------------------+------------------+-------------------------+-------------------+----------------------+ | openSUSE Leap 15 | PASS | SKIPPED | SKIPPED | SKIPPED | SKIPPED | SKIPPED | +---------------------+--------------------+-------------------+------------------+-------------------------+-------------------+----------------------+ | RHEL8 | PASS | SKIPPED | SKIPPED | SKIPPED | SKIPPED | SKIPPED | +---------------------+--------------------+-------------------+------------------+-------------------------+-------------------+----------------------+ | Ubuntu 24.04 | PASS | PASS | PASS | SKIPPED | SKIPPED | SKIPPED | +---------------------+--------------------+-------------------+------------------+-------------------------+-------------------+----------------------+ | Alpine | PASS | SKIPPED | SKIPPED | SKIPPED | SKIPPED | SKIPPED | +---------------------+--------------------+-------------------+------------------+-------------------------+-------------------+----------------------+ | FreeBSD 13.4 | PASS | SKIPPED | SKIPPED | SKIPPED | SKIPPED | SKIPPED | +---------------------+--------------------+-------------------+------------------+-------------------------+-------------------+----------------------+ | FreeBSD 14.2 | PASS | SKIPPED | SKIPPED | SKIPPED | SKIPPED | SKIPPED | +---------------------+--------------------+-------------------+------------------+-------------------------+-------------------+----------------------+ | Windows Server 2022 | SKIPPED | SKIPPED | SKIPPED | PASS | PASS | PASS | +---------------------+--------------------+-------------------+------------------+-------------------------+-------------------+----------------------+ CentOS Stream 9 Kernel: Depends on container host Compiler: gcc 11.5.0 20240719 (Red Hat 11.5.0-2) CentOS Stream 10 Kernel: Depends on container host Compiler: gcc 14.2.1 20241104 (Red Hat 14.2.1-6) Fedora 41 Kernel: Depends on container host Compiler: gcc 14.2.1 20240912 (Red Hat 14.2.1-3) Fedora 40 Kernel: Depends on container host Compiler: gcc 14.2.1 20240912 (Red Hat 14.2.1-3) Ubuntu 20.04 Kernel: Depends on container host Compiler: gcc (Ubuntu 9.4.0-1ubuntu1~20.04.2) 9.4.0 RHEL9 Kernel: Depends on container host Compiler: gcc 11.5.0 20240719 (Red Hat 11.5.0-2) Ubuntu 22.04 Kernel: Depends on container host Compiler: gcc (Ubuntu 11.4.0-1ubuntu1~22.04) 11.4.0 openSUSE Leap 15 Kernel: Depends on container host Compiler: gcc (SUSE Linux) 7.5.0 RHEL8 Kernel: Depends on container host Compiler: gcc 8.5.0 20210514 (Red Hat 8.5.0-22) Ubuntu 24.04 Kernel: Depends on container host Compiler: gcc (Ubuntu 13.3.0-6ubuntu2~24.04) 13.3.0 Alpine Kernel: Depends on container host Compiler: gcc (Alpine 14.2.0) 14.2.0 FreeBSD 13.4 Kernel: 13.4-RELEASE-p1 Compiler: clang 18.1.6 FreeBSD 14.2 Kernel: 14.2-RELEASE Compiler: clang 18.1.6 Windows Server 2022 Kernel: 10.0.20348.2031 Compiler: clang 15.0.7, gcc 14.1.0 (MinGW), and MSVC VS 19.39.33521 To view detailed results, visit: https://lab.dpdk.org/results/dashboard/patchsets/32584/ UNH-IOL DPDK Community Lab To manage your email subscriptions, visit: https://lab.dpdk.org/results/dashboard/preferences/subscriptions/