From mboxrd@z Thu Jan 1 00:00:00 1970 Return-Path: Received: from mails.dpdk.org (mails.dpdk.org [217.70.189.124]) by inbox.dpdk.org (Postfix) with ESMTP id C100646231 for ; Sat, 15 Feb 2025 22:42:37 +0100 (CET) Received: from mails.dpdk.org (localhost [127.0.0.1]) by mails.dpdk.org (Postfix) with ESMTP id 9BB1C400EF; Sat, 15 Feb 2025 22:42:37 +0100 (CET) Received: from mail-ot1-f100.google.com (mail-ot1-f100.google.com [209.85.210.100]) by mails.dpdk.org (Postfix) with ESMTP id 0A16C400D7 for ; Sat, 15 Feb 2025 22:42:36 +0100 (CET) Received: by mail-ot1-f100.google.com with SMTP id 46e09a7af769-726fe6dda74so2249757a34.0 for ; Sat, 15 Feb 2025 13:42:35 -0800 (PST) DKIM-Signature: v=1; a=rsa-sha256; c=relaxed/relaxed; d=iol.unh.edu; s=unh-iol; t=1739655755; x=1740260555; darn=dpdk.org; h=references:in-reply-to:cc:to:from:subject:message-id:date:from:to :cc:subject:date:message-id:reply-to; bh=U6t8Fnp91G3uw3X2Pcw10kt+DTo9oItK+w2+X88wGN8=; b=OKQ0MyXfPZy2HId4Bkeb6w+le2iJl4avQMsPcclGu/kWNyANbWR1MECpLx9MouVE+b izIvCsqSVWc58JXTWzReNYfrrnWOUcjUd56rykBVi0BsELNBOVRxSZAepO6gw9gxCgz8 moiVo9AWZUc1uNr7/s8CENvtlO2Yq1vGPRT+M= X-Google-DKIM-Signature: v=1; a=rsa-sha256; c=relaxed/relaxed; d=1e100.net; s=20230601; t=1739655755; x=1740260555; h=references:in-reply-to:cc:to:from:subject:message-id:date :x-gm-message-state:from:to:cc:subject:date:message-id:reply-to; bh=U6t8Fnp91G3uw3X2Pcw10kt+DTo9oItK+w2+X88wGN8=; b=ECaqVZXTxUO1bqg5My4evuOj9TopYJiW21JpqZdBzIoDnmQOyGdm9clHDMW+46RsJm DAKePhiEo2612zTtv/c04ab+QULpopyWCXTDNVuVHpfaSlcKkJPiHzgAy72dQJCOT0Vx /IpHSsPVn0vBOvdBGl2NI9WvaZNhVGpupwoOJtwqWXcF/ovNICwiqcTgMSEyQmAn7p8H yD5MUdz4IBSk/FqDPFRKhRWAbT9qbXOzPb78lq3N61yq5HkspT/kbL74j2pe51EX9mm9 1Lkx1f3SIs83seSkLmgv78RXA4nT+wG6WlnMPWmWc25st22OuO+UM9iuYDB4IvnxOQL4 GAag== X-Gm-Message-State: AOJu0YxKMjoUN3Fr1KLn456CXidF+r05pq63bS8JTbjNk9RmqoF0uyC9 B795EDapPmB2WhYb7xYtMceK+vgHpee4eKCumHQ+IhE00QRBHfDXe8X9qpRCl2WZ8LdzI/0OwdM hspSoWNZIIpb0OpF9qogAsCEgFqo3lhBzcYQfU8ef3EEdTtZiiV2gyRrv X-Gm-Gg: ASbGncuwglUZkRGkpLit+HZhF4DIG0mcY5Rtb4bjciVzJmsS9BweFXFGc8T1CoNNpb3 gw/mzHbT26Q2p0HjGMCyMJzYhNvod83ifvWz2ohTNvFXWHMzPoQaFt6FH/kE/nvdK1cSxgId8ga I93IxreZPn+NAByU39fwZ2wm0dneRoomhLvGsttnXm8z1W+sIN8BhWHhzejkgyG1tBXiOIjRKIP zScmVzQWgLfFgpC/aApRgeTmcdjSw4NIShpzqouO6823myyvs5zlacwfLrlNrUofm6e/EU5INoZ Ipo3w6uOjqdO8wXi2GgoIlisbhRaR6lPCw4mFYclyg== X-Google-Smtp-Source: AGHT+IECU1mBMEu1/4zIERFaaIFuQGn+kJbyModBtxpN2P45lro0ZgbjxNdFpwa7SkAxbiR9DA9eA2xnB057 X-Received: by 2002:a05:6830:6f44:b0:727:cf:aba9 with SMTP id 46e09a7af769-7271204367amr2777529a34.9.1739655754994; Sat, 15 Feb 2025 13:42:34 -0800 (PST) Received: from postal.iol.unh.edu (postal.iol.unh.edu. [2606:4100:3880:1234::84]) by smtp-relay.gmail.com with ESMTPS id 586e51a60fabf-2b95a6bf616sm441704fac.28.2025.02.15.13.42.34 (version=TLS1_2 cipher=ECDHE-ECDSA-AES128-GCM-SHA256 bits=128/128); Sat, 15 Feb 2025 13:42:34 -0800 (PST) X-Relaying-Domain: iol.unh.edu Date: Sat, 15 Feb 2025 13:42:34 -0800 (PST) Message-ID: <67b10a4a.050a0220.3023ab.7aafSMTPIN_ADDED_MISSING@mx.google.com> Received: from [172.21.0.7] (unknown [172.18.0.240]) by postal.iol.unh.edu (Postfix) with ESMTP id 015BA6052471; Sat, 15 Feb 2025 16:42:33 -0500 (EST) Subject: |SUCCESS| pw151500-151505 [PATCH] [v2,6/6] net/virtio: remove unneed From: dpdklab@iol.unh.edu To: Test Report Cc: dpdk-test-reports@iol.unh.edu In-Reply-To: <20250214174224.79142-7-stephen@networkplumber.org> References: <20250214174224.79142-7-stephen@networkplumber.org> Content-Type: text/plain X-BeenThere: test-report@dpdk.org X-Mailman-Version: 2.1.29 Precedence: list List-Id: automatic DPDK test reports List-Unsubscribe: , List-Archive: List-Post: List-Help: List-Subscribe: , Errors-To: test-report-bounces@dpdk.org Test-Label: iol-unit-arm64-testing Test-Status: SUCCESS http://dpdk.org/patch/151505 _Testing PASS_ Submitter: Stephen Hemminger Date: Friday, February 14 2025 17:38:59 DPDK git baseline: Repo:dpdk Branch: master CommitID:88ece085bcd743e916172b653337ac94f79f472d 151500-151505 --> testing pass Upstream job id: Generic-Unit-Test-DPDK#315206 Test environment and result as below: +-----------------------------+----------------+--------------+---------------------------+------------------------------+ | Environment | dpdk_unit_test | lpm_autotest | cryptodev_sw_zuc_autotest | cryptodev_sw_snow3g_autotest | +=============================+================+==============+===========================+==============================+ | 32-bit Ubuntu 22.04.4 (ARM) | PASS | SKIPPED | SKIPPED | SKIPPED | +-----------------------------+----------------+--------------+---------------------------+------------------------------+ | CentOS Stream 9 (ARM) | PASS | SKIPPED | SKIPPED | SKIPPED | +-----------------------------+----------------+--------------+---------------------------+------------------------------+ | Debian 11 (Buster) (ARM) | PASS | SKIPPED | SKIPPED | SKIPPED | +-----------------------------+----------------+--------------+---------------------------+------------------------------+ | CentOS Stream 10 (ARM) | PASS | SKIPPED | SKIPPED | SKIPPED | +-----------------------------+----------------+--------------+---------------------------+------------------------------+ | Debian 12 (arm) | PASS | SKIPPED | PASS | PASS | +-----------------------------+----------------+--------------+---------------------------+------------------------------+ | Fedora 40 (ARM Clang) | PASS | SKIPPED | SKIPPED | SKIPPED | +-----------------------------+----------------+--------------+---------------------------+------------------------------+ | Fedora 40 (ARM) | PASS | SKIPPED | SKIPPED | SKIPPED | +-----------------------------+----------------+--------------+---------------------------+------------------------------+ | Fedora 41 (ARM) | PASS | SKIPPED | SKIPPED | SKIPPED | +-----------------------------+----------------+--------------+---------------------------+------------------------------+ | RHEL9 (ARM) | PASS | SKIPPED | SKIPPED | SKIPPED | +-----------------------------+----------------+--------------+---------------------------+------------------------------+ | Fedora 41 (ARM Clang) | PASS | SKIPPED | SKIPPED | SKIPPED | +-----------------------------+----------------+--------------+---------------------------+------------------------------+ | Ubuntu 22.04 (ARM) | PASS | SKIPPED | SKIPPED | SKIPPED | +-----------------------------+----------------+--------------+---------------------------+------------------------------+ | Ubuntu 20.04 (ARM) | PASS | SKIPPED | SKIPPED | SKIPPED | +-----------------------------+----------------+--------------+---------------------------+------------------------------+ | Ubuntu 24.04 (ARM) | PASS | SKIPPED | SKIPPED | SKIPPED | +-----------------------------+----------------+--------------+---------------------------+------------------------------+ | Ubuntu 20.04 ARM SVE | SKIPPED | PASS | SKIPPED | SKIPPED | +-----------------------------+----------------+--------------+---------------------------+------------------------------+ 32-bit Ubuntu 22.04.4 (ARM) Kernel: 5.15.83+ aarch64 Compiler: gcc (Ubuntu 11.4.0-1ubuntu1~22.04) 11.4.0 CentOS Stream 9 (ARM) Kernel: Depends on container host Compiler: gcc 11.5.0 20240719 (Red Hat 11.5.0-2) Debian 11 (Buster) (ARM) Kernel: Depends on container host Compiler: gcc (Debian 10.2.1-6) 10.2.1 20210110 CentOS Stream 10 (ARM) Kernel: Depends on container host Compiler: gcc 14.2.1 20241104 (Red Hat 14.2.1-6) Debian 12 (arm) Kernel: Depends on container host Compiler: gcc (Debian 12.2.0-14) 12.2.0 Fedora 40 (ARM Clang) Kernel: Depends on container host Compiler: clang 18.1.8 (Fedora 18.1.8-1.fc40) Fedora 40 (ARM) Kernel: Depends on container host Compiler: gcc 14.2.1 20240912 (Red Hat 14.2.1-3) Fedora 41 (ARM) Kernel: Depends on container host Compiler: gcc 14.2.1 20240912 (Red Hat 14.2.1-3) RHEL9 (ARM) Kernel: Depends on container host Compiler: gcc 11.5.0 20240719 (Red Hat 11.5.0-2) Fedora 41 (ARM Clang) Kernel: Depends on container host Compiler: clang 19.1.5 (Fedora 19.1.5-1.fc41) Ubuntu 22.04 (ARM) Kernel: Depends on container host Compiler: gcc (Ubuntu 11.4.0-1ubuntu1~22.04) 11.4.0 Ubuntu 20.04 (ARM) Kernel: Depends on container host Compiler: gcc (Ubuntu 9.4.0-1ubuntu1~20.04.2) 9.4.0 Ubuntu 24.04 (ARM) Kernel: Depends on container host Compiler: gcc (Ubuntu 13.3.0-6ubuntu2~24.04) 13.3.0 Ubuntu 20.04 ARM SVE Kernel: Depends on container host Compiler: gcc (Ubuntu 10.5.0-1ubuntu1~20.04) 10.5.0 To view detailed results, visit: https://lab.dpdk.org/results/dashboard/patchsets/32583/ UNH-IOL DPDK Community Lab To manage your email subscriptions, visit: https://lab.dpdk.org/results/dashboard/preferences/subscriptions/