From mboxrd@z Thu Jan 1 00:00:00 1970 Return-Path: Received: from mails.dpdk.org (mails.dpdk.org [217.70.189.124]) by inbox.dpdk.org (Postfix) with ESMTP id 5C3D946231 for ; Sat, 15 Feb 2025 23:12:10 +0100 (CET) Received: from mails.dpdk.org (localhost [127.0.0.1]) by mails.dpdk.org (Postfix) with ESMTP id 3BEA1400EF; Sat, 15 Feb 2025 23:12:10 +0100 (CET) Received: from mail-pl1-f228.google.com (mail-pl1-f228.google.com [209.85.214.228]) by mails.dpdk.org (Postfix) with ESMTP id 570FB400D7 for ; Sat, 15 Feb 2025 23:12:09 +0100 (CET) Received: by mail-pl1-f228.google.com with SMTP id d9443c01a7336-220f4dd756eso30479105ad.3 for ; Sat, 15 Feb 2025 14:12:09 -0800 (PST) DKIM-Signature: v=1; a=rsa-sha256; c=relaxed/relaxed; d=iol.unh.edu; s=unh-iol; t=1739657528; x=1740262328; darn=dpdk.org; h=references:in-reply-to:cc:to:from:subject:message-id:date:from:to :cc:subject:date:message-id:reply-to; bh=+1JlVxtDzL/aK3TB9nwv+9+3mqfXuvttJ/QiBrvSONk=; b=EC1VYm0BRNWAREX0jQSR67B/jFnrCcARHVTQ/2Z6Pa3h+ubqdPMV6+15KucICLW0UE Vzmc0g995B99yDpZrZx1Z4+Ec04cfvkyVWMCqhOXzqhDWk3AyTVfiRmxCgq1WCrDNRXn hCYnsoAG8cqW4bhCfpQxuiSYpBsbEJ/03eBwk= X-Google-DKIM-Signature: v=1; a=rsa-sha256; c=relaxed/relaxed; d=1e100.net; s=20230601; t=1739657528; x=1740262328; h=references:in-reply-to:cc:to:from:subject:message-id:date :x-gm-message-state:from:to:cc:subject:date:message-id:reply-to; bh=+1JlVxtDzL/aK3TB9nwv+9+3mqfXuvttJ/QiBrvSONk=; b=MWDyFNdS69s9X98rGdLZ4F/8QnWCphKYSMI82Nhg7WeG/HpBrA9tP0krZN6JX5H2Je Iz3j/MIkvpbBkhG7XIRkW3D2Isoefa+Y/WJIxnyPMwZ8whQ55vzajXSe4h2l39qY+6Mq Hsj32dHTgX0GPehzAvLscEjh6hqI8BYCRJio2uGTy/I2Lc7Cen7z3tMXdGNslANvjply QS2T5GbiYVY1Wb9gvJgkvmBeT9yS2vEMnBlRp314bd0ZKbBeP5yDZhPycetuvjgLZp+j u8yLGy2ltjT3R63kMcFMJjXictHwLdwwv6L7glH/r6z5aXkMXF2MB6rrmaqAYAo/7u0S Ct5A== X-Gm-Message-State: AOJu0YwzprPODs9gP3+JCIsoiM67Veh/2/rzZy3WuT0v/uTIlAXtR1kE YrU5R236fof0T5rQBstAmxLpMZgOMxKt3+8aiDYKDuT+15R80N62uVAHWUliS+TkFfPvwuBCid2 sw9usY5WRRS6qHwa+luAh351t5sI3KLZwXe4viDLG5BP8+PJMYt/i1Dz0 X-Gm-Gg: ASbGnctCrIoIq4cbz3Q6aKh+poezeBocgV8k0QQqdfPnyAeJylAApwY7D7TeCwuFidd 4qrWE0R3gwOqRybT2Pz4KlYhjKjRg8aRZ8Jkvpp/ID9cbcFTREvO2Z4942re1xYAxa93OtjYa3D 37wI2oAkaTvm3Q95S6tfufuB0lDRjyytznUBsLt5SJEJ0epMxVhq7YkSvbaRYS4u9rQqWLQhcdE 5wigsNKs2bHkl5h3zJ7qHbExpRi2IqhJ2VlBaYpkZ0UimVrbuNp4DT941f3SIQwxb1nMgpJAhbr yedQehxOBEuD/apSQgwwpmqzTrXlyLoSKgokUguF5A== X-Google-Smtp-Source: AGHT+IEoDeIw9VnwctIk50TVCIP7Gv+271Nzs0uqNPWmIyt7JdlUgbvN8dLthzr5i/73QBMsFcryddlbTdRB X-Received: by 2002:a17:902:ce89:b0:220:cd5f:9d76 with SMTP id d9443c01a7336-221040d8397mr70751145ad.50.1739657528414; Sat, 15 Feb 2025 14:12:08 -0800 (PST) Received: from postal.iol.unh.edu (postal.iol.unh.edu. [2606:4100:3880:1234::84]) by smtp-relay.gmail.com with ESMTPS id d9443c01a7336-220d532b0fasm3334805ad.58.2025.02.15.14.12.08 (version=TLS1_2 cipher=ECDHE-ECDSA-AES128-GCM-SHA256 bits=128/128); Sat, 15 Feb 2025 14:12:08 -0800 (PST) X-Relaying-Domain: iol.unh.edu Date: Sat, 15 Feb 2025 14:12:08 -0800 (PST) Message-ID: <67b11138.170a0220.545cf.194dSMTPIN_ADDED_MISSING@mx.google.com> Received: from [172.17.0.5] (unknown [172.18.0.217]) by postal.iol.unh.edu (Postfix) with ESMTP id 83E7C6052471; Sat, 15 Feb 2025 17:12:07 -0500 (EST) Subject: |SUCCESS| pw151500-151505 [PATCH] [v2,6/6] net/virtio: remove unneed From: dpdklab@iol.unh.edu To: Test Report Cc: dpdk-test-reports@iol.unh.edu In-Reply-To: <20250214174224.79142-7-stephen@networkplumber.org> References: <20250214174224.79142-7-stephen@networkplumber.org> Content-Type: text/plain X-BeenThere: test-report@dpdk.org X-Mailman-Version: 2.1.29 Precedence: list List-Id: automatic DPDK test reports List-Unsubscribe: , List-Archive: List-Post: List-Help: List-Subscribe: , Errors-To: test-report-bounces@dpdk.org Test-Label: iol-unit-amd64-testing Test-Status: SUCCESS http://dpdk.org/patch/151505 _Testing PASS_ Submitter: Stephen Hemminger Date: Friday, February 14 2025 17:38:59 DPDK git baseline: Repo:dpdk Branch: master CommitID:88ece085bcd743e916172b653337ac94f79f472d 151500-151505 --> testing pass Upstream job id: Generic-Unit-Test-DPDK#315214 Test environment and result as below: +---------------------+----------------+ | Environment | dpdk_unit_test | +=====================+================+ | Debian 12 | PASS | +---------------------+----------------+ | CentOS Stream 9 | PASS | +---------------------+----------------+ | CentOS Stream 10 | PASS | +---------------------+----------------+ | Debian Bullseye | PASS | +---------------------+----------------+ | Fedora 40 | PASS | +---------------------+----------------+ | Fedora 40 (Clang) | PASS | +---------------------+----------------+ | Fedora 41 | PASS | +---------------------+----------------+ | Fedora 41 (Clang) | PASS | +---------------------+----------------+ | RHEL8 | PASS | +---------------------+----------------+ | Ubuntu 20.04 | PASS | +---------------------+----------------+ | RHEL9 | PASS | +---------------------+----------------+ | Ubuntu 22.04 | PASS | +---------------------+----------------+ | Ubuntu 24.04 | PASS | +---------------------+----------------+ | Windows Server 2022 | PASS | +---------------------+----------------+ Debian 12 Kernel: Depends on container host Compiler: gcc (Debian 12.2.0-14) 12.2.0 CentOS Stream 9 Kernel: Depends on container host Compiler: gcc 11.5.0 20240719 (Red Hat 11.5.0-2) CentOS Stream 10 Kernel: Depends on container host Compiler: gcc 14.2.1 20241104 (Red Hat 14.2.1-6) Debian Bullseye Kernel: Depends on container host Compiler: gcc (Debian 10.2.1-6) 10.2.1 20210110 Fedora 40 Kernel: Depends on container host Compiler: gcc 14.2.1 20240912 (Red Hat 14.2.1-3) Fedora 40 (Clang) Kernel: Depends on container host Compiler: clang 18.1.8 (Fedora 18.1.8-1.fc40) Fedora 41 Kernel: Depends on container host Compiler: gcc 14.2.1 20240912 (Red Hat 14.2.1-3) Fedora 41 (Clang) Kernel: Depends on container host Compiler: clang 19.1.5 (Fedora 19.1.5-1.fc41) RHEL8 Kernel: Depends on container host Compiler: gcc 8.5.0 20210514 (Red Hat 8.5.0-22) Ubuntu 20.04 Kernel: Depends on container host Compiler: gcc (Ubuntu 9.4.0-1ubuntu1~20.04.2) 9.4.0 RHEL9 Kernel: Depends on container host Compiler: gcc 11.5.0 20240719 (Red Hat 11.5.0-2) Ubuntu 22.04 Kernel: Depends on container host Compiler: gcc (Ubuntu 11.4.0-1ubuntu1~22.04) 11.4.0 Ubuntu 24.04 Kernel: Depends on container host Compiler: gcc (Ubuntu 13.3.0-6ubuntu2~24.04) 13.3.0 Windows Server 2022 Kernel: 10.0.20348.2031 Compiler: clang 15.0.7, gcc 14.1.0 (MinGW), and MSVC VS 19.39.33521 To view detailed results, visit: https://lab.dpdk.org/results/dashboard/patchsets/32583/ UNH-IOL DPDK Community Lab To manage your email subscriptions, visit: https://lab.dpdk.org/results/dashboard/preferences/subscriptions/