From mboxrd@z Thu Jan 1 00:00:00 1970 Return-Path: Received: from mails.dpdk.org (mails.dpdk.org [217.70.189.124]) by inbox.dpdk.org (Postfix) with ESMTP id 63F3346231 for ; Sat, 15 Feb 2025 23:33:00 +0100 (CET) Received: from mails.dpdk.org (localhost [127.0.0.1]) by mails.dpdk.org (Postfix) with ESMTP id 39CC9400EF; Sat, 15 Feb 2025 23:33:00 +0100 (CET) Received: from mail-il1-f227.google.com (mail-il1-f227.google.com [209.85.166.227]) by mails.dpdk.org (Postfix) with ESMTP id A511E400D7 for ; Sat, 15 Feb 2025 23:32:58 +0100 (CET) Received: by mail-il1-f227.google.com with SMTP id e9e14a558f8ab-3d28792a49dso5164375ab.3 for ; Sat, 15 Feb 2025 14:32:58 -0800 (PST) DKIM-Signature: v=1; a=rsa-sha256; c=relaxed/relaxed; d=iol.unh.edu; s=unh-iol; t=1739658778; x=1740263578; darn=dpdk.org; h=references:in-reply-to:cc:to:from:subject:message-id:date:from:to :cc:subject:date:message-id:reply-to; bh=+Dml7z+/76J7dw9a5cK6bdfYo+D00CZRDpEqs+e8MfM=; b=gUB/C/bIYiBGjSxoB7B3sRMxcZV8VgHvm48+O2Zz2Egx9ne9TUX+SxaBXrTqbyQLrN unrOhJsVrTals1IvzmJQJqOSn2arNhu7+y0wbLkIAP196Rlv2MuijxUDwmxbe38R53Il dFwFNrVI6arQDHOC/ee+5gwDr+2VKqsQLH3fo= X-Google-DKIM-Signature: v=1; a=rsa-sha256; c=relaxed/relaxed; d=1e100.net; s=20230601; t=1739658778; x=1740263578; h=references:in-reply-to:cc:to:from:subject:message-id:date :x-gm-message-state:from:to:cc:subject:date:message-id:reply-to; bh=+Dml7z+/76J7dw9a5cK6bdfYo+D00CZRDpEqs+e8MfM=; b=PJ99IDFJShDehJjK6HJ2zJK5PgbdjXZR1T3TrV6PoBrxRuPYTnQda/npZJnAvrbDdE yPNr4tKkgfx/Qf+Uu+J2qzyduV2j/AfNgcEpYv+LTjSnBOCfTqzT6wehJ4PVQtH7VDIx O+m23dLAOCclSclnwqyQAfSRF442Bfedqru2cSf0PeOmI4S0bIRIafPv64npFOvcjAPn kgX0PGG9kNZZisSWj9C2m0H3OnXyhReDhFXecHLLvQ4hqLUUOJ+OxwqsldjbjzGoisVp MTD6FlOspH2IS827msB/IFzsivDV+9xj8jGemKMGxTtvxHaGTLdX7smsqoECsWzm94eV 1sMA== X-Gm-Message-State: AOJu0YysmSWn9DZmKUIk92Ze9HOJYxAWJouDTlO10DM2h9h+dGZNYmZy PzbNUS10rR9QNGmRAxLYEmAMok9amQpINDEwJfKGJ4O5D7YvTL65cbomdLX0YXuhjuWF9ijSluc Lu2oTzKc8BBEUl3V9oxl2gLhvusJVJJKy5LTKD20oylpwTK+ram67pl3R X-Gm-Gg: ASbGncseml6P/xLybEcImXljkmHMNvnwm5+URSZ2D28pTlrrHyO1v+ulY2pSywg9Qkz Pu1X9OsAPiHrKEO8kfh6wf/WlvjNRVDjVFxdq/7V68UFvGFGMitbSUWwrZXaLCfIBon1+PuD1Ug ENa1kzCvPYe/wZiM+5M7WuSZFwV40m1BFElAHvBRn9uurS0jPjiKKIa2VD0zXmJ0surEIbaW8Ni BynJPk1Atn4obG+0UlP7QkXYRyY5DQKqQ5qpFfXSw58BjR/bsAxBdznLNGrCW6rtGYRcPiFwPDi QECFMBst2qwT6GclBAvT9C6X+hTVb6mvGqi0rfqh7g== X-Google-Smtp-Source: AGHT+IGgBx2e69noBcuoRlbaD99Ij1CuVhpBHtmplbzIrMOOuvyoPFe+h6yHZbBGQY89ljwQK8KZiZlkmN9s X-Received: by 2002:a05:6e02:138e:b0:3d1:a1d7:ea5c with SMTP id e9e14a558f8ab-3d28078d499mr32805365ab.2.1739658777885; Sat, 15 Feb 2025 14:32:57 -0800 (PST) Received: from postal.iol.unh.edu (postal.iol.unh.edu. [2606:4100:3880:1234::84]) by smtp-relay.gmail.com with ESMTPS id 8926c6da1cb9f-4ee88121cccsm100414173.29.2025.02.15.14.32.57 (version=TLS1_2 cipher=ECDHE-ECDSA-AES128-GCM-SHA256 bits=128/128); Sat, 15 Feb 2025 14:32:57 -0800 (PST) X-Relaying-Domain: iol.unh.edu Date: Sat, 15 Feb 2025 14:32:57 -0800 (PST) Message-ID: <67b11619.050a0220.cf2a2.4fc8SMTPIN_ADDED_MISSING@mx.google.com> Received: from [172.17.0.3] (unknown [172.18.0.217]) by postal.iol.unh.edu (Postfix) with ESMTP id DAF8D6052471; Sat, 15 Feb 2025 17:32:56 -0500 (EST) Subject: |SUCCESS| pw151500-151505 [PATCH] [v2,6/6] net/virtio: remove unneed From: dpdklab@iol.unh.edu To: Test Report Cc: dpdk-test-reports@iol.unh.edu In-Reply-To: <20250214174224.79142-7-stephen@networkplumber.org> References: <20250214174224.79142-7-stephen@networkplumber.org> Content-Type: text/plain X-BeenThere: test-report@dpdk.org X-Mailman-Version: 2.1.29 Precedence: list List-Id: automatic DPDK test reports List-Unsubscribe: , List-Archive: List-Post: List-Help: List-Subscribe: , Errors-To: test-report-bounces@dpdk.org Test-Label: iol-compile-amd64-testing Test-Status: SUCCESS http://dpdk.org/patch/151505 _Testing PASS_ Submitter: Stephen Hemminger Date: Friday, February 14 2025 17:38:59 DPDK git baseline: Repo:dpdk Branch: master CommitID:88ece085bcd743e916172b653337ac94f79f472d 151500-151505 --> testing pass Upstream job id: Generic-DPDK-Compile-Meson#361893 Test environment and result as below: +---------------------+--------------------+-------------------+------------------+-------------------------+-------------------+----------------------+ | Environment | dpdk_meson_compile | dpdk_compile_spdk | dpdk_compile_ovs | dpdk_llvm_clang_compile | dpdk_msvc_compile | dpdk_mingw64_compile | +=====================+====================+===================+==================+=========================+===================+======================+ | Debian 12 | PASS | PASS | SKIPPED | SKIPPED | SKIPPED | SKIPPED | +---------------------+--------------------+-------------------+------------------+-------------------------+-------------------+----------------------+ | CentOS Stream 10 | PASS | SKIPPED | SKIPPED | SKIPPED | SKIPPED | SKIPPED | +---------------------+--------------------+-------------------+------------------+-------------------------+-------------------+----------------------+ | Fedora 40 (Clang) | PASS | PASS | SKIPPED | SKIPPED | SKIPPED | SKIPPED | +---------------------+--------------------+-------------------+------------------+-------------------------+-------------------+----------------------+ | Debian Bullseye | PASS | PASS | SKIPPED | SKIPPED | SKIPPED | SKIPPED | +---------------------+--------------------+-------------------+------------------+-------------------------+-------------------+----------------------+ | Fedora 40 | PASS | PASS | SKIPPED | SKIPPED | SKIPPED | SKIPPED | +---------------------+--------------------+-------------------+------------------+-------------------------+-------------------+----------------------+ | openSUSE Leap 15 | PASS | SKIPPED | SKIPPED | SKIPPED | SKIPPED | SKIPPED | +---------------------+--------------------+-------------------+------------------+-------------------------+-------------------+----------------------+ | Ubuntu 20.04 | PASS | SKIPPED | SKIPPED | SKIPPED | SKIPPED | SKIPPED | +---------------------+--------------------+-------------------+------------------+-------------------------+-------------------+----------------------+ | RHEL8 | PASS | SKIPPED | SKIPPED | SKIPPED | SKIPPED | SKIPPED | +---------------------+--------------------+-------------------+------------------+-------------------------+-------------------+----------------------+ | Fedora 41 (Clang) | PASS | PASS | PASS | SKIPPED | SKIPPED | SKIPPED | +---------------------+--------------------+-------------------+------------------+-------------------------+-------------------+----------------------+ | Fedora 41 | PASS | PASS | PASS | SKIPPED | SKIPPED | SKIPPED | +---------------------+--------------------+-------------------+------------------+-------------------------+-------------------+----------------------+ | RHEL9 | PASS | SKIPPED | SKIPPED | SKIPPED | SKIPPED | SKIPPED | +---------------------+--------------------+-------------------+------------------+-------------------------+-------------------+----------------------+ | Ubuntu 22.04 | PASS | PASS | SKIPPED | SKIPPED | SKIPPED | SKIPPED | +---------------------+--------------------+-------------------+------------------+-------------------------+-------------------+----------------------+ | Ubuntu 24.04 | PASS | PASS | PASS | SKIPPED | SKIPPED | SKIPPED | +---------------------+--------------------+-------------------+------------------+-------------------------+-------------------+----------------------+ | Alpine | PASS | SKIPPED | SKIPPED | SKIPPED | SKIPPED | SKIPPED | +---------------------+--------------------+-------------------+------------------+-------------------------+-------------------+----------------------+ | FreeBSD 13.4 | PASS | SKIPPED | SKIPPED | SKIPPED | SKIPPED | SKIPPED | +---------------------+--------------------+-------------------+------------------+-------------------------+-------------------+----------------------+ | FreeBSD 14.2 | PASS | SKIPPED | SKIPPED | SKIPPED | SKIPPED | SKIPPED | +---------------------+--------------------+-------------------+------------------+-------------------------+-------------------+----------------------+ | CentOS Stream 9 | PASS | PASS | SKIPPED | SKIPPED | SKIPPED | SKIPPED | +---------------------+--------------------+-------------------+------------------+-------------------------+-------------------+----------------------+ | Windows Server 2022 | SKIPPED | SKIPPED | SKIPPED | PASS | PASS | PASS | +---------------------+--------------------+-------------------+------------------+-------------------------+-------------------+----------------------+ Debian 12 Kernel: Depends on container host Compiler: gcc (Debian 12.2.0-14) 12.2.0 CentOS Stream 10 Kernel: Depends on container host Compiler: gcc 14.2.1 20241104 (Red Hat 14.2.1-6) Fedora 40 (Clang) Kernel: Depends on container host Compiler: clang 18.1.8 (Fedora 18.1.8-1.fc40) Debian Bullseye Kernel: Depends on container host Compiler: gcc (Debian 10.2.1-6) 10.2.1 20210110 Fedora 40 Kernel: Depends on container host Compiler: gcc 14.2.1 20240912 (Red Hat 14.2.1-3) openSUSE Leap 15 Kernel: Depends on container host Compiler: gcc (SUSE Linux) 7.5.0 Ubuntu 20.04 Kernel: Depends on container host Compiler: gcc (Ubuntu 9.4.0-1ubuntu1~20.04.2) 9.4.0 RHEL8 Kernel: Depends on container host Compiler: gcc 8.5.0 20210514 (Red Hat 8.5.0-22) Fedora 41 (Clang) Kernel: Depends on container host Compiler: clang 19.1.5 (Fedora 19.1.5-1.fc41) Fedora 41 Kernel: Depends on container host Compiler: gcc 14.2.1 20240912 (Red Hat 14.2.1-3) RHEL9 Kernel: Depends on container host Compiler: gcc 11.5.0 20240719 (Red Hat 11.5.0-2) Ubuntu 22.04 Kernel: Depends on container host Compiler: gcc (Ubuntu 11.4.0-1ubuntu1~22.04) 11.4.0 Ubuntu 24.04 Kernel: Depends on container host Compiler: gcc (Ubuntu 13.3.0-6ubuntu2~24.04) 13.3.0 Alpine Kernel: Depends on container host Compiler: gcc (Alpine 14.2.0) 14.2.0 FreeBSD 13.4 Kernel: 13.4-RELEASE-p1 Compiler: clang 18.1.6 FreeBSD 14.2 Kernel: 14.2-RELEASE Compiler: clang 18.1.6 CentOS Stream 9 Kernel: Depends on container host Compiler: gcc 11.5.0 20240719 (Red Hat 11.5.0-2) Windows Server 2022 Kernel: 10.0.20348.2031 Compiler: clang 15.0.7, gcc 14.1.0 (MinGW), and MSVC VS 19.39.33521 To view detailed results, visit: https://lab.dpdk.org/results/dashboard/patchsets/32583/ UNH-IOL DPDK Community Lab To manage your email subscriptions, visit: https://lab.dpdk.org/results/dashboard/preferences/subscriptions/