From mboxrd@z Thu Jan 1 00:00:00 1970 Return-Path: Received: from mails.dpdk.org (mails.dpdk.org [217.70.189.124]) by inbox.dpdk.org (Postfix) with ESMTP id A2FE846231 for ; Sun, 16 Feb 2025 02:57:54 +0100 (CET) Received: from mails.dpdk.org (localhost [127.0.0.1]) by mails.dpdk.org (Postfix) with ESMTP id 9B471400EF; Sun, 16 Feb 2025 02:57:54 +0100 (CET) Received: from mail-qv1-f99.google.com (mail-qv1-f99.google.com [209.85.219.99]) by mails.dpdk.org (Postfix) with ESMTP id 0BD63400D7 for ; Sun, 16 Feb 2025 02:57:54 +0100 (CET) Received: by mail-qv1-f99.google.com with SMTP id 6a1803df08f44-6dd0d09215aso27367686d6.2 for ; Sat, 15 Feb 2025 17:57:53 -0800 (PST) DKIM-Signature: v=1; a=rsa-sha256; c=relaxed/relaxed; d=iol.unh.edu; s=unh-iol; t=1739671073; x=1740275873; darn=dpdk.org; h=cc:to:from:subject:message-id:date:from:to:cc:subject:date :message-id:reply-to; bh=mQxCudTKw+8wFKfHEi+Ytu/QmUNfCVTXYSXW0y5AWd8=; b=N/sqEqi67zp7MZi9EQ4W7CwL15wwEXVclfwiVu+LupTJTnh1E9n5mp2FOk8WC+09Qs l7Q66T7GfX6NhOQhZzbmYPtkbcR3A4wyz6VvHavTvXmr4mChCnuzKr+LLgSmjbEVdJHZ K6JYjsC7YfOJRUGzX/z5F+34P0LYOwBKIKAhE= X-Google-DKIM-Signature: v=1; a=rsa-sha256; c=relaxed/relaxed; d=1e100.net; s=20230601; t=1739671073; x=1740275873; h=cc:to:from:subject:message-id:date:x-gm-message-state:from:to:cc :subject:date:message-id:reply-to; bh=mQxCudTKw+8wFKfHEi+Ytu/QmUNfCVTXYSXW0y5AWd8=; b=b1gBFnkmIXoJ0zM70nFuY7TWzTQ/JeqBxrkpVrfQ0tZBPYVbvlYbNUDQzVjePKgZjW hYy2WkLKfAZA6SJj9+duQSZn2pcV4tGh/G3V22HOJ7F/sySzJ/HkrXI1xsl+c/NSnhvX jqnNSD1+J/xPon9KdMFZY8XQbIlNhdLpO3uvWwugqWCsg4q3JUBXMTyt4SYIUu0jWCEz xzdWaND6NOTvQEBuU0uKG8vnwTkJTQFajlDYszwJywxeeF5GBjPfJ1AcbuiWhH+qyB1x ccsDHzrqDIBPqYm5/A+Wr9bS/JS6vfLsKk/AOGXu/HrqaliUdgFIA9bfmMqlZ5vOfVy8 yBbA== X-Gm-Message-State: AOJu0YwQmFFxKp12ySoKnUw+y5AkP3FPVfQ4CvIwKRO48aaQK7sYSEBm uLJewTPggIG8KSm7DwDJpmRXiAqvYpsWPJAzISX6dCWIa37h7kgY8rES0nGB4TgnqvJbOEwCR1v MyTnVMMvmbN1+5n75o09JAIzu9Upb84f15UYc4b4W X-Gm-Gg: ASbGncsGROEdhcfa3gFouL+OBOwD3mUewb0/nO5YSmqJWA+ETK0yw/M9Af4r/EzXqwG fFUIe8M//7UIiz2XS1t3ywobEt5oOsmurOLnUQ0y7Em1Zq2s4yfyBhHOe+LKyVszu2V/sRzFyZY GXKmU8oDAnXQdfNSU++czlitHPH4KGpGjmVaA8j3tXmit9PxJWpQ3JsMPpZwfVsh1tL1+dSlYUC RvdHZeCYTq9KnhfCrAsoNK1ODr78dZ01NhiXolU3wPPb2YzXW9Jfb4dGodGajj2Kx0sqkGwkW5P G6eyjhKqHjJyiLFiHC3Eik944xF83g== X-Google-Smtp-Source: AGHT+IEJhySfD8w5sQscmjrT0DIxnxpAqhZ4ztRtXK63bqiDwZ4wFngnsP6w+IU4714OdX0Vr6ZTkn6cG1Uz X-Received: by 2002:a05:6214:19e1:b0:6d9:3016:d0e7 with SMTP id 6a1803df08f44-6e66ccf058cmr69885396d6.29.1739671073438; Sat, 15 Feb 2025 17:57:53 -0800 (PST) Received: from postal.iol.unh.edu (postal.iol.unh.edu. [132.177.123.84]) by smtp-relay.gmail.com with ESMTPS id d75a77b69052e-471c290a312sm2917931cf.0.2025.02.15.17.57.53 (version=TLS1_2 cipher=ECDHE-ECDSA-AES128-GCM-SHA256 bits=128/128); Sat, 15 Feb 2025 17:57:53 -0800 (PST) X-Relaying-Domain: iol.unh.edu Date: Sat, 15 Feb 2025 17:57:53 -0800 (PST) Message-ID: <67b14621.c80a0220.2ec7ed.f87aSMTPIN_ADDED_MISSING@mx.google.com> Received: from [172.21.0.5] (unknown [172.18.0.240]) by postal.iol.unh.edu (Postfix) with ESMTP id D02AB6052471; Sat, 15 Feb 2025 20:57:52 -0500 (EST) Subject: |SUCCESS| [GIT MASTER] e5176f23ae8b31437c3e5eb875c81f95bf3a9942 From: dpdklab@iol.unh.edu To: Test Report Cc: dpdk-test-reports@iol.unh.edu Content-Type: text/plain X-BeenThere: test-report@dpdk.org X-Mailman-Version: 2.1.29 Precedence: list List-Id: automatic DPDK test reports List-Unsubscribe: , List-Archive: List-Post: List-Help: List-Subscribe: , Errors-To: test-report-bounces@dpdk.org _Testing PASS_ Branch: dpdk e5176f23ae8b31437c3e5eb875c81f95bf3a9942 --> testing pass Upstream job id: Generic-Unit-Test-DPDK#315231 Test environment and result as below: +-----------------------------+----------------+--------------+---------------------------+------------------------------+ | Environment | dpdk_unit_test | lpm_autotest | cryptodev_sw_zuc_autotest | cryptodev_sw_snow3g_autotest | +=============================+================+==============+===========================+==============================+ | 32-bit Ubuntu 22.04.4 (ARM) | PASS | SKIPPED | SKIPPED | SKIPPED | +-----------------------------+----------------+--------------+---------------------------+------------------------------+ | CentOS Stream 9 (ARM) | PASS | SKIPPED | SKIPPED | SKIPPED | +-----------------------------+----------------+--------------+---------------------------+------------------------------+ | CentOS Stream 10 (ARM) | PASS | SKIPPED | SKIPPED | SKIPPED | +-----------------------------+----------------+--------------+---------------------------+------------------------------+ | Debian 11 (Buster) (ARM) | PASS | SKIPPED | SKIPPED | SKIPPED | +-----------------------------+----------------+--------------+---------------------------+------------------------------+ | Fedora 40 (ARM) | PASS | SKIPPED | SKIPPED | SKIPPED | +-----------------------------+----------------+--------------+---------------------------+------------------------------+ | Debian 12 (arm) | PASS | SKIPPED | PASS | PASS | +-----------------------------+----------------+--------------+---------------------------+------------------------------+ | Fedora 41 (ARM) | PASS | SKIPPED | SKIPPED | SKIPPED | +-----------------------------+----------------+--------------+---------------------------+------------------------------+ | Fedora 40 (ARM Clang) | PASS | SKIPPED | SKIPPED | SKIPPED | +-----------------------------+----------------+--------------+---------------------------+------------------------------+ | Fedora 41 (ARM Clang) | PASS | SKIPPED | SKIPPED | SKIPPED | +-----------------------------+----------------+--------------+---------------------------+------------------------------+ | Ubuntu 20.04 (ARM) | PASS | SKIPPED | SKIPPED | SKIPPED | +-----------------------------+----------------+--------------+---------------------------+------------------------------+ | RHEL9 (ARM) | PASS | SKIPPED | SKIPPED | SKIPPED | +-----------------------------+----------------+--------------+---------------------------+------------------------------+ | Ubuntu 24.04 (ARM) | PASS | SKIPPED | SKIPPED | SKIPPED | +-----------------------------+----------------+--------------+---------------------------+------------------------------+ | Ubuntu 22.04 (ARM) | PASS | SKIPPED | SKIPPED | SKIPPED | +-----------------------------+----------------+--------------+---------------------------+------------------------------+ | Ubuntu 20.04 ARM SVE | SKIPPED | PASS | SKIPPED | SKIPPED | +-----------------------------+----------------+--------------+---------------------------+------------------------------+ 32-bit Ubuntu 22.04.4 (ARM) Kernel: 5.15.83+ aarch64 Compiler: gcc (Ubuntu 11.4.0-1ubuntu1~22.04) 11.4.0 CentOS Stream 9 (ARM) Kernel: Depends on container host Compiler: gcc 11.5.0 20240719 (Red Hat 11.5.0-2) CentOS Stream 10 (ARM) Kernel: Depends on container host Compiler: gcc 14.2.1 20241104 (Red Hat 14.2.1-6) Debian 11 (Buster) (ARM) Kernel: Depends on container host Compiler: gcc (Debian 10.2.1-6) 10.2.1 20210110 Fedora 40 (ARM) Kernel: Depends on container host Compiler: gcc 14.2.1 20240912 (Red Hat 14.2.1-3) Debian 12 (arm) Kernel: Depends on container host Compiler: gcc (Debian 12.2.0-14) 12.2.0 Fedora 41 (ARM) Kernel: Depends on container host Compiler: gcc 14.2.1 20240912 (Red Hat 14.2.1-3) Fedora 40 (ARM Clang) Kernel: Depends on container host Compiler: clang 18.1.8 (Fedora 18.1.8-1.fc40) Fedora 41 (ARM Clang) Kernel: Depends on container host Compiler: clang 19.1.5 (Fedora 19.1.5-1.fc41) Ubuntu 20.04 (ARM) Kernel: Depends on container host Compiler: gcc (Ubuntu 9.4.0-1ubuntu1~20.04.2) 9.4.0 RHEL9 (ARM) Kernel: Depends on container host Compiler: gcc 11.5.0 20240719 (Red Hat 11.5.0-2) Ubuntu 24.04 (ARM) Kernel: Depends on container host Compiler: gcc (Ubuntu 13.3.0-6ubuntu2~24.04) 13.3.0 Ubuntu 22.04 (ARM) Kernel: Depends on container host Compiler: gcc (Ubuntu 11.4.0-1ubuntu1~22.04) 11.4.0 Ubuntu 20.04 ARM SVE Kernel: Depends on container host Compiler: gcc (Ubuntu 10.5.0-1ubuntu1~20.04) 10.5.0 To view detailed results, visit: https://lab.dpdk.org/results/dashboard/tarballs/32586/ UNH-IOL DPDK Community Lab To manage your email subscriptions, visit: https://lab.dpdk.org/results/dashboard/preferences/subscriptions/