From mboxrd@z Thu Jan 1 00:00:00 1970 Return-Path: Received: from mails.dpdk.org (mails.dpdk.org [217.70.189.124]) by inbox.dpdk.org (Postfix) with ESMTP id 14BAC46231 for ; Sun, 16 Feb 2025 02:59:55 +0100 (CET) Received: from mails.dpdk.org (localhost [127.0.0.1]) by mails.dpdk.org (Postfix) with ESMTP id EAA92400EF; Sun, 16 Feb 2025 02:59:54 +0100 (CET) Received: from mail-pj1-f99.google.com (mail-pj1-f99.google.com [209.85.216.99]) by mails.dpdk.org (Postfix) with ESMTP id 83258400D7 for ; Sun, 16 Feb 2025 02:59:53 +0100 (CET) Received: by mail-pj1-f99.google.com with SMTP id 98e67ed59e1d1-2fa48404207so6683097a91.1 for ; Sat, 15 Feb 2025 17:59:53 -0800 (PST) DKIM-Signature: v=1; a=rsa-sha256; c=relaxed/relaxed; d=iol.unh.edu; s=unh-iol; t=1739671192; x=1740275992; darn=dpdk.org; h=references:in-reply-to:cc:to:from:subject:message-id:date:from:to :cc:subject:date:message-id:reply-to; bh=Mnvd2yyEc0kvBw5C2HsktrezlCy09Omrb6/sgU7WSTU=; b=JZlUf3Iak+YigAK/vo+7zZdazXgk1GmkAT9Pe0Bdc7q6db9q2Q4rKL1G8xHSbtwIyV a0z6SlbGvM1zPotb1GcYS4bt2+6QXt/pw65C2T542bjaK979bKbVd4BkPz02awQaYLhK M6QtNsNDtCUY1A8Uv+NpZHUTYA+TWZD2bnuOc= X-Google-DKIM-Signature: v=1; a=rsa-sha256; c=relaxed/relaxed; d=1e100.net; s=20230601; t=1739671192; x=1740275992; h=references:in-reply-to:cc:to:from:subject:message-id:date :x-gm-message-state:from:to:cc:subject:date:message-id:reply-to; bh=Mnvd2yyEc0kvBw5C2HsktrezlCy09Omrb6/sgU7WSTU=; b=j3QAtxtuXOKI1ISq61Ne6rr6wb4rWeye+WxRv+WwNyC3faOUffhgRYHk+Md9O3LfU6 YG7dCRRKtgkqSBq5KnX+lc88gB9/DxeXE/i3v3wEn91Xnbh0gJWWxMozbwpkzm4nq3QL 3DxDV573VK5pYLfmgXPNzsZqwIBu6iai/AWHjv6p6mPn0DgzWASPN3rRF412b4iAOibK 0S8XtkurL2yZUnHHISa61Rfl3K1kjgoXjhgzwWBmi4muyA/9QV10e4EKvV8D5w8fTYuX QZwy6q9TqCCT9vvEH0apH1BYeZ8bvrflX5JPNDmWzRwwTQcCeWbrhknyI/+gj4hO5Qkd yMyA== X-Gm-Message-State: AOJu0YwgxFPPSoAKcJ/ROckX6Ha7JLlU/C+SPMJ3TNQgP4pHdc16s4Ea yqL2jVgSt5OxwtHJEBTFKQZ5XE1203Kz4PiUDJ/3veDrGLHS3UPLyMBuSh80egwtXBbsgzw9S43 nkC7Bf+UHeB57FPi1G0xHnyNN2tyH/SXgmrSya5i4 X-Gm-Gg: ASbGncsOzicK2JcqcGnsZunvC/wCLqDwaQdrzG1u0rm2RA2bWyg48iXjTjRDbm64vDh 123lvcCea0jby3idFmwsWP0Li6huSg0zYw1/zhE/a86j5RsZ7sAJaz/1w0pCN+CKXvwTAerQxmn ybsZrtis00E/r7DfkayhL2hlh42Pc3L9wq7goh1jZfEMG/Z8oG1mVFIwUwCwalRnzXVn6Okznw7 oPRNVnVZtxh0vep4s/psKNAnS5aOE17bcjprsQya64hMMOE+7Fh51xEDT0aBeUT6v3WQxc7HpGz NpX0avby23uerSrWK+Xrb7JH80iyYw== X-Google-Smtp-Source: AGHT+IHmkM0WrtsLRa53CDDs1eC7y7PnHg9H5rqj171unGiIhs79+3TLVzu2PKKncNKmGOMErMxtGkZrBv4E X-Received: by 2002:a05:6a00:1256:b0:730:91fc:f9c9 with SMTP id d2e1a72fcca58-732618b0b1dmr8111244b3a.16.1739671192398; Sat, 15 Feb 2025 17:59:52 -0800 (PST) Received: from postal.iol.unh.edu (postal.iol.unh.edu. [132.177.123.84]) by smtp-relay.gmail.com with ESMTPS id d2e1a72fcca58-73268c07964sm124804b3a.15.2025.02.15.17.59.52 (version=TLS1_2 cipher=ECDHE-ECDSA-AES128-GCM-SHA256 bits=128/128); Sat, 15 Feb 2025 17:59:52 -0800 (PST) X-Relaying-Domain: iol.unh.edu Date: Sat, 15 Feb 2025 17:59:52 -0800 (PST) Message-ID: <67b14698.050a0220.1a7f4c.6c9eSMTPIN_ADDED_MISSING@mx.google.com> Received: from [172.21.0.5] (unknown [172.18.0.240]) by postal.iol.unh.edu (Postfix) with ESMTP id 804B46052471; Sat, 15 Feb 2025 20:59:51 -0500 (EST) Subject: |SUCCESS| pw151500-151505 [PATCH] [v2,6/6] net/virtio: remove unneed From: dpdklab@iol.unh.edu To: Test Report Cc: dpdk-test-reports@iol.unh.edu In-Reply-To: <20250214174224.79142-7-stephen@networkplumber.org> References: <20250214174224.79142-7-stephen@networkplumber.org> Content-Type: text/plain X-BeenThere: test-report@dpdk.org X-Mailman-Version: 2.1.29 Precedence: list List-Id: automatic DPDK test reports List-Unsubscribe: , List-Archive: List-Post: List-Help: List-Subscribe: , Errors-To: test-report-bounces@dpdk.org Test-Label: iol-compile-arm64-testing Test-Status: SUCCESS http://dpdk.org/patch/151505 _Testing PASS_ Submitter: Stephen Hemminger Date: Friday, February 14 2025 17:38:59 DPDK git baseline: Repo:dpdk Branch: master CommitID:88ece085bcd743e916172b653337ac94f79f472d 151500-151505 --> testing pass Upstream job id: Generic-DPDK-Compile-Meson#361910 Test environment and result as below: +----------------------------------------+--------------------+ | Environment | dpdk_meson_compile | +========================================+====================+ | RHEL9 (ARM) | PASS | +----------------------------------------+--------------------+ | Ubuntu 20.04 ARM GCC Cross Compile | PASS | +----------------------------------------+--------------------+ | Ubuntu 20.04 ARM SVE | PASS | +----------------------------------------+--------------------+ | Debian 12 with MUSDK | PASS | +----------------------------------------+--------------------+ | Fedora 40 (ARM Clang) | PASS | +----------------------------------------+--------------------+ | Fedora 40 (ARM) | PASS | +----------------------------------------+--------------------+ | Fedora 41 (ARM) | PASS | +----------------------------------------+--------------------+ | Fedora 41 (ARM Clang) | PASS | +----------------------------------------+--------------------+ | Ubuntu 22.04 (ARM) | PASS | +----------------------------------------+--------------------+ | Ubuntu 20.04 (ARM) | PASS | +----------------------------------------+--------------------+ | Ubuntu 24.04 (ARM) | PASS | +----------------------------------------+--------------------+ | CentOS Stream 9 (ARM) | PASS | +----------------------------------------+--------------------+ | CentOS Stream 10 (ARM) | PASS | +----------------------------------------+--------------------+ | Debian 12 (arm) | PASS | +----------------------------------------+--------------------+ | Ubuntu 20.04 aarch32 GCC Cross Compile | PASS | +----------------------------------------+--------------------+ | Ubuntu 20.04 ARM Clang Cross Compile | PASS | +----------------------------------------+--------------------+ | Debian 11 (Buster) (ARM) | PASS | +----------------------------------------+--------------------+ RHEL9 (ARM) Kernel: Depends on container host Compiler: gcc 11.5.0 20240719 (Red Hat 11.5.0-2) Ubuntu 20.04 ARM GCC Cross Compile Kernel: Depends on container host Compiler: aarch64-linux-gnu-gcc (Ubuntu 9.4.0-1ubuntu1~20.04.2) 9.4.0 Ubuntu 20.04 ARM SVE Kernel: Depends on container host Compiler: gcc (Ubuntu 10.5.0-1ubuntu1~20.04) 10.5.0 Debian 12 with MUSDK Kernel: Depends on container host Compiler: gcc (Debian 12.2.0-14) 12.2.0 Fedora 40 (ARM Clang) Kernel: Depends on container host Compiler: clang 18.1.8 (Fedora 18.1.8-1.fc40) Fedora 40 (ARM) Kernel: Depends on container host Compiler: gcc 14.2.1 20240912 (Red Hat 14.2.1-3) Fedora 41 (ARM) Kernel: Depends on container host Compiler: gcc 14.2.1 20240912 (Red Hat 14.2.1-3) Fedora 41 (ARM Clang) Kernel: Depends on container host Compiler: clang 19.1.5 (Fedora 19.1.5-1.fc41) Ubuntu 22.04 (ARM) Kernel: Depends on container host Compiler: gcc (Ubuntu 11.4.0-1ubuntu1~22.04) 11.4.0 Ubuntu 20.04 (ARM) Kernel: Depends on container host Compiler: gcc (Ubuntu 9.4.0-1ubuntu1~20.04.2) 9.4.0 Ubuntu 24.04 (ARM) Kernel: Depends on container host Compiler: gcc (Ubuntu 13.3.0-6ubuntu2~24.04) 13.3.0 CentOS Stream 9 (ARM) Kernel: Depends on container host Compiler: gcc 11.5.0 20240719 (Red Hat 11.5.0-2) CentOS Stream 10 (ARM) Kernel: Depends on container host Compiler: gcc 14.2.1 20241104 (Red Hat 14.2.1-6) Debian 12 (arm) Kernel: Depends on container host Compiler: gcc (Debian 12.2.0-14) 12.2.0 Ubuntu 20.04 aarch32 GCC Cross Compile Kernel: Depends on container host Compiler: gcc 9.4.0 Ubuntu 20.04 ARM Clang Cross Compile Kernel: Depends on container host Compiler: clang 10.0.0-4ubuntu1 Debian 11 (Buster) (ARM) Kernel: Depends on container host Compiler: gcc (Debian 10.2.1-6) 10.2.1 20210110 To view detailed results, visit: https://lab.dpdk.org/results/dashboard/patchsets/32583/ UNH-IOL DPDK Community Lab To manage your email subscriptions, visit: https://lab.dpdk.org/results/dashboard/preferences/subscriptions/