From mboxrd@z Thu Jan 1 00:00:00 1970 Return-Path: Received: from mails.dpdk.org (mails.dpdk.org [217.70.189.124]) by inbox.dpdk.org (Postfix) with ESMTP id DE96D46231 for ; Sun, 16 Feb 2025 03:53:44 +0100 (CET) Received: from mails.dpdk.org (localhost [127.0.0.1]) by mails.dpdk.org (Postfix) with ESMTP id B2A78400EF; Sun, 16 Feb 2025 03:53:44 +0100 (CET) Received: from mail-pl1-f227.google.com (mail-pl1-f227.google.com [209.85.214.227]) by mails.dpdk.org (Postfix) with ESMTP id D65E1400D7 for ; Sun, 16 Feb 2025 03:53:42 +0100 (CET) Received: by mail-pl1-f227.google.com with SMTP id d9443c01a7336-220c4159f87so43792615ad.0 for ; Sat, 15 Feb 2025 18:53:42 -0800 (PST) DKIM-Signature: v=1; a=rsa-sha256; c=relaxed/relaxed; d=iol.unh.edu; s=unh-iol; t=1739674422; x=1740279222; darn=dpdk.org; h=cc:to:from:subject:message-id:date:from:to:cc:subject:date :message-id:reply-to; bh=NAElgvGi8jkbzrM/hCnNEdVFS8dW2LINqCvssDr0atE=; b=JsOnZvimLXMv4Buv7abo1DNjhcS4mV9apvhVCZ9R/A0SSl5ie9k3NJ08e44CzEuVx/ EKXMkkVRdl4h1vGeZhBxWAWqzFHq4NJlWEN9loySCbWeRBKsORTqvtZUFZOB9j194iMs W9hsdWL8frltbkSgtzcd2nmcK+K8GoZY8ALGA= X-Google-DKIM-Signature: v=1; a=rsa-sha256; c=relaxed/relaxed; d=1e100.net; s=20230601; t=1739674422; x=1740279222; h=cc:to:from:subject:message-id:date:x-gm-message-state:from:to:cc :subject:date:message-id:reply-to; bh=NAElgvGi8jkbzrM/hCnNEdVFS8dW2LINqCvssDr0atE=; b=Ic+XT64oewTHfPDaqREHUEMqtBWPKM81Xhi5aSDiCYtrioCRl9e34vCnJN2mAG7lyl zEDN3I932B++mnmMPBBWNP36Qlb/PZOXrjHOSpxkKFnqkIf0x5NuqZjQAviu/LESz4fa z9x2Y221HXdSKdHPCwsfzlX/fxryWYrIrApN91zk8tm0WYrWg7JFRoZJShdVO5xibDZm E/fAOEMqIsiMcv1Hr8tJwgxipk9b5VeWOJFd8Z5/hQtHYP77r/eqgnqDsPQGgqcXbD7N Kuhgt1g3Wn1dxAJ2ydOC6LjmrVlxfThjyX1sO5mLdj0NUkNMUVfd4RIJxCgqOcM90ZRJ eVVg== X-Gm-Message-State: AOJu0Yycter22KwnIjj07T8/DMC8pVXEK0UC1Hp+0zI8Yc2wl3ut4iT/ SO3bfwCpYKsdfOjPY3fojHzAOEf6pmv1DQQ5T1F5jGckO+s0W41Ppl/YcXCJ+Ap0npWr6r1ZQ/5 cTMfm9AAYOikb+Y/Wtk1R0pscfElga79YnvHL0xui X-Gm-Gg: ASbGncsybvV4JDBybn7VfSkDZDL7B4EolklRgm+YU0VpARMM5uP0qKyeUFP2Jt8BoK7 95QUyCSz4PW6qoGU5mBOpeCmLGpl40XJxVfMozj+70aKiI/wnOUaSeDZrnDPnO2d+xfpRcEDz00 gDJf+yEZrGSia3yJSSKr5ApEweF4W7iMyuSpCp7O6mmuFz7zyXvVqQua+u2ZUXbo+0yzMEQ4tT7 e4X6EF3eammcHVYSxFPtGKmDm/Sb2IGro3Mh1FRq6ZfhE6bJQpQIrXD0We638ajb55BfHHpa0O7 DcXUap/8UgDg1bx5zqUI0YUQOKiv6g== X-Google-Smtp-Source: AGHT+IH27n09aVf8Hh3P3+ByJd+g1DbgakyujcuA27moksLp7KOzNceisOQ4eM6yOk4V/rkaNQYlkoAeyxxJ X-Received: by 2002:a17:903:2341:b0:21f:9107:fca3 with SMTP id d9443c01a7336-2210405c6ccmr72973445ad.30.1739674421873; Sat, 15 Feb 2025 18:53:41 -0800 (PST) Received: from postal.iol.unh.edu (postal.iol.unh.edu. [132.177.123.84]) by smtp-relay.gmail.com with ESMTPS id d9443c01a7336-220d543d675sm3388485ad.128.2025.02.15.18.53.41 (version=TLS1_2 cipher=ECDHE-ECDSA-AES128-GCM-SHA256 bits=128/128); Sat, 15 Feb 2025 18:53:41 -0800 (PST) X-Relaying-Domain: iol.unh.edu Date: Sat, 15 Feb 2025 18:53:41 -0800 (PST) Message-ID: <67b15335.170a0220.1efae0.1379SMTPIN_ADDED_MISSING@mx.google.com> Received: from [172.17.0.3] (unknown [172.18.0.217]) by postal.iol.unh.edu (Postfix) with ESMTP id 3BB0F6052471; Sat, 15 Feb 2025 21:53:41 -0500 (EST) Subject: |SUCCESS| [GIT MASTER] e5176f23ae8b31437c3e5eb875c81f95bf3a9942 From: dpdklab@iol.unh.edu To: Test Report Cc: dpdk-test-reports@iol.unh.edu Content-Type: text/plain X-BeenThere: test-report@dpdk.org X-Mailman-Version: 2.1.29 Precedence: list List-Id: automatic DPDK test reports List-Unsubscribe: , List-Archive: List-Post: List-Help: List-Subscribe: , Errors-To: test-report-bounces@dpdk.org _Testing PASS_ Branch: dpdk e5176f23ae8b31437c3e5eb875c81f95bf3a9942 --> testing pass Upstream job id: Generic-DPDK-Compile-Meson#361925 Test environment and result as below: +----------------------------------------+--------------------+ | Environment | dpdk_meson_compile | +========================================+====================+ | RHEL9 (ARM) | PASS | +----------------------------------------+--------------------+ | Ubuntu 20.04 ARM GCC Cross Compile | PASS | +----------------------------------------+--------------------+ | Debian 12 with MUSDK | PASS | +----------------------------------------+--------------------+ | Ubuntu 20.04 ARM SVE | PASS | +----------------------------------------+--------------------+ | Fedora 40 (ARM Clang) | PASS | +----------------------------------------+--------------------+ | Fedora 41 (ARM) | PASS | +----------------------------------------+--------------------+ | Fedora 41 (ARM Clang) | PASS | +----------------------------------------+--------------------+ | Debian 11 (Buster) (ARM) | PASS | +----------------------------------------+--------------------+ | Ubuntu 22.04 (ARM) | PASS | +----------------------------------------+--------------------+ | CentOS Stream 10 (ARM) | PASS | +----------------------------------------+--------------------+ | Ubuntu 24.04 (ARM) | PASS | +----------------------------------------+--------------------+ | CentOS Stream 9 (ARM) | PASS | +----------------------------------------+--------------------+ | Debian 12 (arm) | PASS | +----------------------------------------+--------------------+ | Ubuntu 20.04 aarch32 GCC Cross Compile | PASS | +----------------------------------------+--------------------+ | Ubuntu 20.04 ARM Clang Cross Compile | PASS | +----------------------------------------+--------------------+ | Fedora 40 (ARM) | PASS | +----------------------------------------+--------------------+ | Ubuntu 20.04 (ARM) | PASS | +----------------------------------------+--------------------+ RHEL9 (ARM) Kernel: Depends on container host Compiler: gcc 11.5.0 20240719 (Red Hat 11.5.0-2) Ubuntu 20.04 ARM GCC Cross Compile Kernel: Depends on container host Compiler: aarch64-linux-gnu-gcc (Ubuntu 9.4.0-1ubuntu1~20.04.2) 9.4.0 Debian 12 with MUSDK Kernel: Depends on container host Compiler: gcc (Debian 12.2.0-14) 12.2.0 Ubuntu 20.04 ARM SVE Kernel: Depends on container host Compiler: gcc (Ubuntu 10.5.0-1ubuntu1~20.04) 10.5.0 Fedora 40 (ARM Clang) Kernel: Depends on container host Compiler: clang 18.1.8 (Fedora 18.1.8-1.fc40) Fedora 41 (ARM) Kernel: Depends on container host Compiler: gcc 14.2.1 20240912 (Red Hat 14.2.1-3) Fedora 41 (ARM Clang) Kernel: Depends on container host Compiler: clang 19.1.5 (Fedora 19.1.5-1.fc41) Debian 11 (Buster) (ARM) Kernel: Depends on container host Compiler: gcc (Debian 10.2.1-6) 10.2.1 20210110 Ubuntu 22.04 (ARM) Kernel: Depends on container host Compiler: gcc (Ubuntu 11.4.0-1ubuntu1~22.04) 11.4.0 CentOS Stream 10 (ARM) Kernel: Depends on container host Compiler: gcc 14.2.1 20241104 (Red Hat 14.2.1-6) Ubuntu 24.04 (ARM) Kernel: Depends on container host Compiler: gcc (Ubuntu 13.3.0-6ubuntu2~24.04) 13.3.0 CentOS Stream 9 (ARM) Kernel: Depends on container host Compiler: gcc 11.5.0 20240719 (Red Hat 11.5.0-2) Debian 12 (arm) Kernel: Depends on container host Compiler: gcc (Debian 12.2.0-14) 12.2.0 Ubuntu 20.04 aarch32 GCC Cross Compile Kernel: Depends on container host Compiler: gcc 9.4.0 Ubuntu 20.04 ARM Clang Cross Compile Kernel: Depends on container host Compiler: clang 10.0.0-4ubuntu1 Fedora 40 (ARM) Kernel: Depends on container host Compiler: gcc 14.2.1 20240912 (Red Hat 14.2.1-3) Ubuntu 20.04 (ARM) Kernel: Depends on container host Compiler: gcc (Ubuntu 9.4.0-1ubuntu1~20.04.2) 9.4.0 To view detailed results, visit: https://lab.dpdk.org/results/dashboard/tarballs/32586/ UNH-IOL DPDK Community Lab To manage your email subscriptions, visit: https://lab.dpdk.org/results/dashboard/preferences/subscriptions/