From mboxrd@z Thu Jan 1 00:00:00 1970 Return-Path: Received: from mails.dpdk.org (mails.dpdk.org [217.70.189.124]) by inbox.dpdk.org (Postfix) with ESMTP id 018AF46237 for ; Sun, 16 Feb 2025 08:35:51 +0100 (CET) Received: from mails.dpdk.org (localhost [127.0.0.1]) by mails.dpdk.org (Postfix) with ESMTP id F179A400EF; Sun, 16 Feb 2025 08:35:50 +0100 (CET) Received: from mail-io1-f99.google.com (mail-io1-f99.google.com [209.85.166.99]) by mails.dpdk.org (Postfix) with ESMTP id 898DC400D7 for ; Sun, 16 Feb 2025 08:35:49 +0100 (CET) Received: by mail-io1-f99.google.com with SMTP id ca18e2360f4ac-8558229e184so10371339f.3 for ; Sat, 15 Feb 2025 23:35:49 -0800 (PST) DKIM-Signature: v=1; a=rsa-sha256; c=relaxed/relaxed; d=iol.unh.edu; s=unh-iol; t=1739691349; x=1740296149; darn=dpdk.org; h=cc:to:from:subject:message-id:date:from:to:cc:subject:date :message-id:reply-to; bh=/UX11pCHUF7MSeuVViyp/exXfGxCkkrxqn3iBtPIKRA=; b=YjdUl294u5m+PIYt+Acek4qaBTjHPQnW2dDAJUDd/mNG7kgolV8Tze73dxSuNWte2D O5JfciO/cQAXyD7IBAt5hB0A7AvA9tAedlaVjmjRklNurIZvux/Oa0XX8a1GGWSuNixU weRoXjVxWzYW6BirWMgpUj4zfCRkXPvF3wiu8= X-Google-DKIM-Signature: v=1; a=rsa-sha256; c=relaxed/relaxed; d=1e100.net; s=20230601; t=1739691349; x=1740296149; h=cc:to:from:subject:message-id:date:x-gm-message-state:from:to:cc :subject:date:message-id:reply-to; bh=/UX11pCHUF7MSeuVViyp/exXfGxCkkrxqn3iBtPIKRA=; b=XeRZ4zms6n/cv/j81V2HXFUfO0Khn9R15sSX288pgB3vUTBfQ+veQ2MC14vYrRV0uv fk96s4hYiHLCeKbDsf6gx2vid0TvzvSgK03HsLy1nWmIG3DTJ+Vz3KmmqHiohSon3UHV rbjhVekMOkkHz5Gmu/tm3M1IgYdq4xFqX+F+Si70jRK+Pxy8TuX850OItMtTjApXvVbV dTInaS4Z9GpCjt5ivWW8LElNlwC93xfQA/5NwpD9t8jC2+ux6duldqUDP4tvmYR3lYaf fiIjXHggTbdf+T4g3odXUI/ZfxHZ91A+GLpVJDmRQ5dpiQZy+iz7uSou7zNRTttbKcxw 2fyQ== X-Gm-Message-State: AOJu0YwAexy1fIsvzjV7JtxdMVHn7LOt3Srn2zBiJeiFbMtLZqiVx1hf dVJ/qgNWew2PFfVaSTahk62149X5UuoSO6/0dZnOT+0qWKr6gvCg6WHD7R1QmSU45DY3F/xR/TN jwHIqHBkKBHf32t4LA5ykC0hoGlw6p6V8TEOe/X/PkN9vN6wS X-Gm-Gg: ASbGncuDAlBot7TFK25zUVPYDuKTA8m3/VXZG2fSIB/TOmtkVZjx/Hx3pHSq0GSOgtb 4fFCA5XCuEGDtO+j7q4fC8U4deABDw1Hykh9LybtC+yWTRBBOvJclEwdmVMvfxoq+Fz5noDTTJ6 KFA87hSYPAApMLrEgl+cydsb1gDaizU5ncDKKbLJRuxOkabwtqelP6nFJk3SnldAlgKfDX1wVtL W2LoWh69Hh1Oh0Prbl/5zkGajYXdtp61BPEoYP+6s+wN9tuJka/TVmLfIAG1COouO3g3xUJdHWH 91eZnV93R9lCtbsOu4o0SbC1njE/JqJBCn/+P3Y++g== X-Google-Smtp-Source: AGHT+IH1LuEDg5KDC4hLznniL7g/R/9SJsdRCiowsjsu4uCdqfZ8WnwgqoSGonpv8rEbs8WJhIg0Z9emePBg X-Received: by 2002:a05:6602:6408:b0:855:2919:17d4 with SMTP id ca18e2360f4ac-8557a0d0739mr425098339f.5.1739691348852; Sat, 15 Feb 2025 23:35:48 -0800 (PST) Received: from postal.iol.unh.edu (postal.iol.unh.edu. [2606:4100:3880:1234::84]) by smtp-relay.gmail.com with ESMTPS id 8926c6da1cb9f-4ed281494ccsm436825173.4.2025.02.15.23.35.48 (version=TLS1_2 cipher=ECDHE-ECDSA-AES128-GCM-SHA256 bits=128/128); Sat, 15 Feb 2025 23:35:48 -0800 (PST) X-Relaying-Domain: iol.unh.edu Date: Sat, 15 Feb 2025 23:35:48 -0800 (PST) Message-ID: <67b19554.050a0220.213d71.6458SMTPIN_ADDED_MISSING@mx.google.com> Received: from [172.21.0.8] (unknown [172.18.0.240]) by postal.iol.unh.edu (Postfix) with ESMTP id 5E3796052471; Sun, 16 Feb 2025 02:35:48 -0500 (EST) Subject: |SUCCESS| [GIT MASTER] f2eea2f37a82bb73fb01d56350708f7d70e21379 From: dpdklab@iol.unh.edu To: Test Report Cc: dpdk-test-reports@iol.unh.edu, Xueming Li , Christian Ehrhardt , Kevin Traynor , Luca Boccassi Content-Type: text/plain X-BeenThere: test-report@dpdk.org X-Mailman-Version: 2.1.29 Precedence: list List-Id: automatic DPDK test reports List-Unsubscribe: , List-Archive: List-Post: List-Help: List-Subscribe: , Errors-To: test-report-bounces@dpdk.org _Testing PASS_ Branch: tags/v24.11 f2eea2f37a82bb73fb01d56350708f7d70e21379 --> testing pass Upstream job id: Generic-Unit-Test-DPDK#315270 Test environment and result as below: +-----------------------------+----------------+------------------------------+--------------+---------------------------+ | Environment | dpdk_unit_test | cryptodev_sw_snow3g_autotest | lpm_autotest | cryptodev_sw_zuc_autotest | +=============================+================+==============================+==============+===========================+ | CentOS Stream 9 (ARM) | PASS | SKIPPED | SKIPPED | SKIPPED | +-----------------------------+----------------+------------------------------+--------------+---------------------------+ | Debian 12 (arm) | PASS | PASS | SKIPPED | PASS | +-----------------------------+----------------+------------------------------+--------------+---------------------------+ | CentOS Stream 10 (ARM) | PASS | SKIPPED | SKIPPED | SKIPPED | +-----------------------------+----------------+------------------------------+--------------+---------------------------+ | Fedora 40 (ARM Clang) | PASS | SKIPPED | SKIPPED | SKIPPED | +-----------------------------+----------------+------------------------------+--------------+---------------------------+ | Fedora 40 (ARM) | PASS | SKIPPED | SKIPPED | SKIPPED | +-----------------------------+----------------+------------------------------+--------------+---------------------------+ | Debian 11 (Buster) (ARM) | PASS | SKIPPED | SKIPPED | SKIPPED | +-----------------------------+----------------+------------------------------+--------------+---------------------------+ | Fedora 41 (ARM) | PASS | SKIPPED | SKIPPED | SKIPPED | +-----------------------------+----------------+------------------------------+--------------+---------------------------+ | Fedora 41 (ARM Clang) | PASS | SKIPPED | SKIPPED | SKIPPED | +-----------------------------+----------------+------------------------------+--------------+---------------------------+ | RHEL9 (ARM) | PASS | SKIPPED | SKIPPED | SKIPPED | +-----------------------------+----------------+------------------------------+--------------+---------------------------+ | Ubuntu 22.04 (ARM) | PASS | SKIPPED | SKIPPED | SKIPPED | +-----------------------------+----------------+------------------------------+--------------+---------------------------+ | Ubuntu 24.04 (ARM) | PASS | SKIPPED | SKIPPED | SKIPPED | +-----------------------------+----------------+------------------------------+--------------+---------------------------+ | Ubuntu 20.04 (ARM) | PASS | SKIPPED | SKIPPED | SKIPPED | +-----------------------------+----------------+------------------------------+--------------+---------------------------+ | 32-bit Ubuntu 22.04.4 (ARM) | PASS | SKIPPED | SKIPPED | SKIPPED | +-----------------------------+----------------+------------------------------+--------------+---------------------------+ | Ubuntu 20.04 ARM SVE | SKIPPED | SKIPPED | PASS | SKIPPED | +-----------------------------+----------------+------------------------------+--------------+---------------------------+ CentOS Stream 9 (ARM) Kernel: Depends on container host Compiler: gcc 11.5.0 20240719 (Red Hat 11.5.0-2) Debian 12 (arm) Kernel: Depends on container host Compiler: gcc (Debian 12.2.0-14) 12.2.0 CentOS Stream 10 (ARM) Kernel: Depends on container host Compiler: gcc 14.2.1 20241104 (Red Hat 14.2.1-6) Fedora 40 (ARM Clang) Kernel: Depends on container host Compiler: clang 18.1.8 (Fedora 18.1.8-1.fc40) Fedora 40 (ARM) Kernel: Depends on container host Compiler: gcc 14.2.1 20240912 (Red Hat 14.2.1-3) Debian 11 (Buster) (ARM) Kernel: Depends on container host Compiler: gcc (Debian 10.2.1-6) 10.2.1 20210110 Fedora 41 (ARM) Kernel: Depends on container host Compiler: gcc 14.2.1 20240912 (Red Hat 14.2.1-3) Fedora 41 (ARM Clang) Kernel: Depends on container host Compiler: clang 19.1.5 (Fedora 19.1.5-1.fc41) RHEL9 (ARM) Kernel: Depends on container host Compiler: gcc 11.5.0 20240719 (Red Hat 11.5.0-2) Ubuntu 22.04 (ARM) Kernel: Depends on container host Compiler: gcc (Ubuntu 11.4.0-1ubuntu1~22.04) 11.4.0 Ubuntu 24.04 (ARM) Kernel: Depends on container host Compiler: gcc (Ubuntu 13.3.0-6ubuntu2~24.04) 13.3.0 Ubuntu 20.04 (ARM) Kernel: Depends on container host Compiler: gcc (Ubuntu 9.4.0-1ubuntu1~20.04.2) 9.4.0 32-bit Ubuntu 22.04.4 (ARM) Kernel: 5.15.83+ aarch64 Compiler: gcc (Ubuntu 11.4.0-1ubuntu1~22.04) 11.4.0 Ubuntu 20.04 ARM SVE Kernel: Depends on container host Compiler: gcc (Ubuntu 10.5.0-1ubuntu1~20.04) 10.5.0 To view detailed results, visit: https://lab.dpdk.org/results/dashboard/tarballs/32587/ UNH-IOL DPDK Community Lab To manage your email subscriptions, visit: https://lab.dpdk.org/results/dashboard/preferences/subscriptions/