From mboxrd@z Thu Jan  1 00:00:00 1970
Return-Path: <test-report-bounces@dpdk.org>
Received: from mails.dpdk.org (mails.dpdk.org [217.70.189.124])
	by inbox.dpdk.org (Postfix) with ESMTP id 503AC46237
	for <public@inbox.dpdk.org>; Sun, 16 Feb 2025 08:48:41 +0100 (CET)
Received: from mails.dpdk.org (localhost [127.0.0.1])
	by mails.dpdk.org (Postfix) with ESMTP id 25C74400EF;
	Sun, 16 Feb 2025 08:48:41 +0100 (CET)
Received: from mail-oa1-f97.google.com (mail-oa1-f97.google.com
 [209.85.160.97]) by mails.dpdk.org (Postfix) with ESMTP id EAF4A400D7
 for <test-report@dpdk.org>; Sun, 16 Feb 2025 08:48:38 +0100 (CET)
Received: by mail-oa1-f97.google.com with SMTP id
 586e51a60fabf-2bcc0c6c149so130690fac.1
 for <test-report@dpdk.org>; Sat, 15 Feb 2025 23:48:38 -0800 (PST)
DKIM-Signature: v=1; a=rsa-sha256; c=relaxed/relaxed;
 d=iol.unh.edu; s=unh-iol; t=1739692118; x=1740296918; darn=dpdk.org;
 h=cc:to:from:subject:message-id:date:from:to:cc:subject:date
 :message-id:reply-to;
 bh=m1lw4U35vCT+IhDqjZUJwy0MNDYBwzun+59uxzEM7VU=;
 b=CQsynjYSrJ0D+Rte9xdr5Sp2XsKJRuTfdnQ+4cVqSOfY2vAA3lrUKlYHyp6v3+P01x
 qJpmvzteDCYA7bMIXG5PssKgJdwxPiav1I4aLV35xnhGMF9NTL6UHJW+bLG5wiT065hB
 ACdBG1TFaFG6Z3S+w/P6ceVMXxVE7ROmULa2U=
X-Google-DKIM-Signature: v=1; a=rsa-sha256; c=relaxed/relaxed;
 d=1e100.net; s=20230601; t=1739692118; x=1740296918;
 h=cc:to:from:subject:message-id:date:x-gm-message-state:from:to:cc
 :subject:date:message-id:reply-to;
 bh=m1lw4U35vCT+IhDqjZUJwy0MNDYBwzun+59uxzEM7VU=;
 b=Mx4XBfK0VY3vARJoeYCqd2lmFe6HjmgG/4VLPL2UXX/l6q2xqECWcSXw4ZN8geJ1cj
 /HEgGQeOR5tHSpBR26MRnfnw34VNY+epWMPNfMHOxhGOQxCqBmRPk9bUMUuzbgdQiVFR
 Zi5r9HRbvZWurGwsQ2MAvC5Q9aElZ7fH8/Kylwrb5+YonYa5uHwuj55SR2zAbE6hSQhW
 KTkFksk7Esytf9fBRRTvk9q3G34RXy6sqOxb3q1tBohWc0tk/O7Tj4TFroB5n/2bG+XK
 CIG3+nBxKS7fvRkngxs3Av0hD7v6DLJqday6sgmOrxoGYX0jylh1MvArHVGgAEl0wiCi
 /O1A==
X-Gm-Message-State: AOJu0YxE3ypOEf6f86PC+spUexd0X453K6kAR2Nbbsu2O2en6pVcEJb6
 tEwbm98McVb58LWly4mY14vXnYAQL6Ok8p+yiedkuyG94+jPX6MFE0YbwlyIXwMI2eBa2DaShcz
 B00JcQhlGJ1h6VGrsZo776vygN9ZXOI7M
X-Gm-Gg: ASbGncvy2DQbRmJwdxmOcPy9rhy34meUIAKhomj/0/z7wJMmHQzm3LyOekSK7MXoin9
 iwhW1FdhMnw6rULVYDlod/Ua/ouWygeiH1pSsgrHgcPz+uVVRMED4MvVzglLBLoj6PqZBWI55vo
 hiQs7VCaLbfpbn1kF/i80TUT1CgqiF8Fh75cPyTjNcu8G2+EFa5O3ZNPM1/y7nGfdlM1SjgjWql
 YB1OtlJnJUoHiOdjcx+JmADI7U2z/Uhu0hv01J1+BmjtBYjHPiQKCP2+QH6SX/weXTl7aUiVx4z
 cKKVvNnsKxIf1rw37kIiMarmzU4XFA==
X-Google-Smtp-Source: AGHT+IHXyr9quNIpIQwBN0OfsmipYyo1Q5poAvCgV3Y3FaaRbkkMy4LmTwo7PqdVgWKMc2jhOfAh+GOw6SSm
X-Received: by 2002:a05:6870:c18d:b0:29f:b7f1:d844 with SMTP id
 586e51a60fabf-2bc99a5928amr3166253fac.2.1739692118108; 
 Sat, 15 Feb 2025 23:48:38 -0800 (PST)
Received: from postal.iol.unh.edu (postal.iol.unh.edu. [132.177.123.84])
 by smtp-relay.gmail.com with ESMTPS id
 586e51a60fabf-2b963a07db1sm464854fac.34.2025.02.15.23.48.38
 (version=TLS1_2 cipher=ECDHE-ECDSA-AES128-GCM-SHA256 bits=128/128);
 Sat, 15 Feb 2025 23:48:38 -0800 (PST)
X-Relaying-Domain: iol.unh.edu
Date: Sat, 15 Feb 2025 23:48:38 -0800 (PST)
Message-ID: <67b19856.050a0220.2c201b.8d9dSMTPIN_ADDED_MISSING@mx.google.com>
Received: from [172.21.0.6] (unknown [172.18.0.240])
 by postal.iol.unh.edu (Postfix) with ESMTP id 7FB7A6052471;
 Sun, 16 Feb 2025 02:48:37 -0500 (EST)
Subject: |SUCCESS| [GIT MASTER] c66daa12e76d7b4912cfb7109a761856a7a873ab
From: dpdklab@iol.unh.edu
To: Test Report <test-report@dpdk.org>
Cc: dpdk-test-reports@iol.unh.edu, Xueming Li <xuemingl@nvidia.com>,
 Christian Ehrhardt <christian.ehrhardt@canonical.com>,
 Kevin Traynor <ktraynor@redhat.com>, Luca Boccassi <bluca@debian.org>
Content-Type: text/plain
X-BeenThere: test-report@dpdk.org
X-Mailman-Version: 2.1.29
Precedence: list
List-Id: automatic DPDK test reports <test-report.dpdk.org>
List-Unsubscribe: <https://mails.dpdk.org/options/test-report>,
 <mailto:test-report-request@dpdk.org?subject=unsubscribe>
List-Archive: <http://mails.dpdk.org/archives/test-report/>
List-Post: <mailto:test-report@dpdk.org>
List-Help: <mailto:test-report-request@dpdk.org?subject=help>
List-Subscribe: <https://mails.dpdk.org/listinfo/test-report>,
 <mailto:test-report-request@dpdk.org?subject=subscribe>
Errors-To: test-report-bounces@dpdk.org

_Testing PASS_

Branch: tags/v23.11

c66daa12e76d7b4912cfb7109a761856a7a873ab --> testing pass

Upstream job id: Generic-Unit-Test-DPDK#315300

Test environment and result as below:

+-----------------------------+--------------+------------------------------+---------------------------+----------------+
|         Environment         | lpm_autotest | cryptodev_sw_snow3g_autotest | cryptodev_sw_zuc_autotest | dpdk_unit_test |
+=============================+==============+==============================+===========================+================+
| Ubuntu 20.04 ARM SVE        | PASS         | SKIPPED                      | SKIPPED                   | SKIPPED        |
+-----------------------------+--------------+------------------------------+---------------------------+----------------+
| Debian 12 (arm)             | SKIPPED      | PASS                         | PASS                      | PASS           |
+-----------------------------+--------------+------------------------------+---------------------------+----------------+
| CentOS Stream 9 (ARM)       | SKIPPED      | SKIPPED                      | SKIPPED                   | PASS           |
+-----------------------------+--------------+------------------------------+---------------------------+----------------+
| CentOS Stream 10 (ARM)      | SKIPPED      | SKIPPED                      | SKIPPED                   | PASS           |
+-----------------------------+--------------+------------------------------+---------------------------+----------------+
| Fedora 40 (ARM)             | SKIPPED      | SKIPPED                      | SKIPPED                   | PASS           |
+-----------------------------+--------------+------------------------------+---------------------------+----------------+
| Debian 11 (Buster) (ARM)    | SKIPPED      | SKIPPED                      | SKIPPED                   | PASS           |
+-----------------------------+--------------+------------------------------+---------------------------+----------------+
| Fedora 41 (ARM)             | SKIPPED      | SKIPPED                      | SKIPPED                   | PASS           |
+-----------------------------+--------------+------------------------------+---------------------------+----------------+
| Fedora 41 (ARM Clang)       | SKIPPED      | SKIPPED                      | SKIPPED                   | PASS           |
+-----------------------------+--------------+------------------------------+---------------------------+----------------+
| Fedora 40 (ARM Clang)       | SKIPPED      | SKIPPED                      | SKIPPED                   | PASS           |
+-----------------------------+--------------+------------------------------+---------------------------+----------------+
| Ubuntu 22.04 (ARM)          | SKIPPED      | SKIPPED                      | SKIPPED                   | PASS           |
+-----------------------------+--------------+------------------------------+---------------------------+----------------+
| RHEL9 (ARM)                 | SKIPPED      | SKIPPED                      | SKIPPED                   | PASS           |
+-----------------------------+--------------+------------------------------+---------------------------+----------------+
| Ubuntu 20.04 (ARM)          | SKIPPED      | SKIPPED                      | SKIPPED                   | PASS           |
+-----------------------------+--------------+------------------------------+---------------------------+----------------+
| Ubuntu 24.04 (ARM)          | SKIPPED      | SKIPPED                      | SKIPPED                   | PASS           |
+-----------------------------+--------------+------------------------------+---------------------------+----------------+
| 32-bit Ubuntu 22.04.4 (ARM) | SKIPPED      | SKIPPED                      | SKIPPED                   | PASS           |
+-----------------------------+--------------+------------------------------+---------------------------+----------------+


Ubuntu 20.04 ARM SVE
	Kernel: Depends on container host
	Compiler: gcc (Ubuntu 10.5.0-1ubuntu1~20.04) 10.5.0

Debian 12 (arm)
	Kernel: Depends on container host
	Compiler: gcc (Debian 12.2.0-14) 12.2.0

CentOS Stream 9 (ARM)
	Kernel: Depends on container host
	Compiler: gcc 11.5.0 20240719 (Red Hat 11.5.0-2)

CentOS Stream 10 (ARM)
	Kernel: Depends on container host
	Compiler: gcc 14.2.1 20241104 (Red Hat 14.2.1-6)

Fedora 40 (ARM)
	Kernel: Depends on container host
	Compiler: gcc 14.2.1 20240912 (Red Hat 14.2.1-3)

Debian 11 (Buster) (ARM)
	Kernel: Depends on container host
	Compiler: gcc (Debian 10.2.1-6) 10.2.1 20210110

Fedora 41 (ARM)
	Kernel: Depends on container host
	Compiler: gcc 14.2.1 20240912 (Red Hat 14.2.1-3)

Fedora 41 (ARM Clang)
	Kernel: Depends on container host
	Compiler: clang 19.1.5 (Fedora 19.1.5-1.fc41)

Fedora 40 (ARM Clang)
	Kernel: Depends on container host
	Compiler: clang 18.1.8 (Fedora 18.1.8-1.fc40)

Ubuntu 22.04 (ARM)
	Kernel: Depends on container host
	Compiler: gcc (Ubuntu 11.4.0-1ubuntu1~22.04) 11.4.0

RHEL9 (ARM)
	Kernel: Depends on container host
	Compiler: gcc 11.5.0 20240719 (Red Hat 11.5.0-2)

Ubuntu 20.04 (ARM)
	Kernel: Depends on container host
	Compiler: gcc (Ubuntu 9.4.0-1ubuntu1~20.04.2) 9.4.0

Ubuntu 24.04 (ARM)
	Kernel: Depends on container host
	Compiler: gcc (Ubuntu 13.3.0-6ubuntu2~24.04) 13.3.0

32-bit Ubuntu 22.04.4 (ARM)
	Kernel: 5.15.83+ aarch64
	Compiler: gcc (Ubuntu 11.4.0-1ubuntu1~22.04) 11.4.0

To view detailed results, visit:
https://lab.dpdk.org/results/dashboard/tarballs/32588/

UNH-IOL DPDK Community Lab

To manage your email subscriptions, visit: 
https://lab.dpdk.org/results/dashboard/preferences/subscriptions/