From mboxrd@z Thu Jan 1 00:00:00 1970 Return-Path: Received: from mails.dpdk.org (mails.dpdk.org [217.70.189.124]) by inbox.dpdk.org (Postfix) with ESMTP id 1030946237 for ; Sun, 16 Feb 2025 09:18:40 +0100 (CET) Received: from mails.dpdk.org (localhost [127.0.0.1]) by mails.dpdk.org (Postfix) with ESMTP id D77F0400EF; Sun, 16 Feb 2025 09:18:39 +0100 (CET) Received: from mail-pj1-f97.google.com (mail-pj1-f97.google.com [209.85.216.97]) by mails.dpdk.org (Postfix) with ESMTP id 44981400D7 for ; Sun, 16 Feb 2025 09:18:38 +0100 (CET) Received: by mail-pj1-f97.google.com with SMTP id 98e67ed59e1d1-2fc3db58932so1839872a91.2 for ; Sun, 16 Feb 2025 00:18:38 -0800 (PST) DKIM-Signature: v=1; a=rsa-sha256; c=relaxed/relaxed; d=iol.unh.edu; s=unh-iol; t=1739693917; x=1740298717; darn=dpdk.org; h=cc:to:from:subject:message-id:date:from:to:cc:subject:date :message-id:reply-to; bh=vXAk02l0reuBXO/s8AfX1R3Lxb0sixTdFmO41E27Q2Q=; b=R+6SKuIN4jX/HV/QXcVJYvrZYjC6uT5t7qzukaThhmN/hRf4TUagIn6ZAfOyn/0jJI 1LMy2HtIOyOouREEnrR/rb/cDpfqPCg5d6rsIw06ixxX6St8ZlvQ31dykS/H/PUyt5tu GSCkElPX54dd8QwAx6PfRuitRmnVf26m+76f4= X-Google-DKIM-Signature: v=1; a=rsa-sha256; c=relaxed/relaxed; d=1e100.net; s=20230601; t=1739693917; x=1740298717; h=cc:to:from:subject:message-id:date:x-gm-message-state:from:to:cc :subject:date:message-id:reply-to; bh=vXAk02l0reuBXO/s8AfX1R3Lxb0sixTdFmO41E27Q2Q=; b=B6P/bjqrsnaTsScd5P+Eqd1MhB9bwNEJtK7AC4zoLfynb5xtPbqAUfR0cTX6XjvbmN tw8NOQE9XIfqn9qGwecymWJbhNEtYcAo40j5qLqv24yCSXLaWa68HCEOPYw+D5KbgeSn 8m0ubWfCAWUEiZ9sLOcbSq+LzD2PEbaye9vclDuZAR4om36NrYu255zsWPuGd8dkUQH7 R2JsaIRnpz6aM2qJlQCS2Jhaez8NxAxVjUml2DXlXi6fLGUmjD73gDu0D9Nh/UXhrdIe kiDe6kLfygIXbsZakNPMWZK5b2I8MS5E3MsrlnluoNvzbXJHOO0QOonE9SznOlVv/xIF 32IQ== X-Gm-Message-State: AOJu0Yxf0VjvJ9uHDJ3Vhh9wefShqAqrEjZY5im0Xq7N0h1S8gcb78w/ +ctgJ8lQy5N2uD0FQLQWbsCm2e1xXqjF7Or3fTWn0JX/sXb1LXKTtHk9d6oVeFO+EmDe1oLpNxr b4xq+Z61uPjgtKvIN889X1SUzcnxcQn/C X-Gm-Gg: ASbGncu/2eKvNgL739Vm8Cr2KVHOyoYbI6tIbop5wZAkfl5Ut+9lMfisQ8INmn14k5X mcxH2xVQ0+ZmhYtgG4Agoqjo3ILuhCn+UygbNml7ras8kGcI7/0fIRrwjGP+wPMZR1ZmyFgt4MG KQnAfoTv/ywrn/glTYTTyiKfTKD6tBAc4gIiYMdG74pJ7h4Yzya8pmav87i2s31Qq2l+zfgduLE sHaSvIQxg3I6FpGvcZSURcmecQgwqj9jvsglWhLMZPYYdIDB7sTcQWptmBqV+wcLvgazzsQ5wW7 xVytRXFvopflEUjSMppphJrlCP5Jbw== X-Google-Smtp-Source: AGHT+IH17vDZA6qlO1k+I2bMvIEvw4igwFEyNpqA2OsQv1uStLv1sdJF0Qvf7smdgrsObXCCXXu5PjJGSzy/ X-Received: by 2002:a17:90b:3c4e:b0:2ee:6d08:7936 with SMTP id 98e67ed59e1d1-2fc40f233bamr8092445a91.20.1739693917263; Sun, 16 Feb 2025 00:18:37 -0800 (PST) Received: from postal.iol.unh.edu (postal.iol.unh.edu. [132.177.123.84]) by smtp-relay.gmail.com with ESMTPS id 98e67ed59e1d1-2fbf989aee8sm565411a91.1.2025.02.16.00.18.37 (version=TLS1_2 cipher=ECDHE-ECDSA-AES128-GCM-SHA256 bits=128/128); Sun, 16 Feb 2025 00:18:37 -0800 (PST) X-Relaying-Domain: iol.unh.edu Date: Sun, 16 Feb 2025 00:18:37 -0800 (PST) Message-ID: <67b19f5d.170a0220.245024.dc87SMTPIN_ADDED_MISSING@mx.google.com> Received: from [172.17.0.5] (unknown [172.18.0.217]) by postal.iol.unh.edu (Postfix) with ESMTP id 7413B6052471; Sun, 16 Feb 2025 03:18:36 -0500 (EST) Subject: |SUCCESS| [GIT MASTER] c66daa12e76d7b4912cfb7109a761856a7a873ab From: dpdklab@iol.unh.edu To: Test Report Cc: dpdk-test-reports@iol.unh.edu, Xueming Li , Christian Ehrhardt , Kevin Traynor , Luca Boccassi Content-Type: text/plain X-BeenThere: test-report@dpdk.org X-Mailman-Version: 2.1.29 Precedence: list List-Id: automatic DPDK test reports List-Unsubscribe: , List-Archive: List-Post: List-Help: List-Subscribe: , Errors-To: test-report-bounces@dpdk.org _Testing PASS_ Branch: tags/v23.11 c66daa12e76d7b4912cfb7109a761856a7a873ab --> testing pass Upstream job id: Generic-Unit-Test-DPDK#315290 Test environment and result as below: +---------------------+----------------+ | Environment | dpdk_unit_test | +=====================+================+ | CentOS Stream 10 | PASS | +---------------------+----------------+ | CentOS Stream 9 | PASS | +---------------------+----------------+ | Fedora 41 | PASS | +---------------------+----------------+ | Debian 12 | PASS | +---------------------+----------------+ | Debian Bullseye | PASS | +---------------------+----------------+ | Fedora 40 | PASS | +---------------------+----------------+ | Fedora 40 (Clang) | PASS | +---------------------+----------------+ | Ubuntu 20.04 | PASS | +---------------------+----------------+ | RHEL9 | PASS | +---------------------+----------------+ | RHEL8 | PASS | +---------------------+----------------+ | Fedora 41 (Clang) | PASS | +---------------------+----------------+ | Ubuntu 22.04 | PASS | +---------------------+----------------+ | Ubuntu 24.04 | PASS | +---------------------+----------------+ | Windows Server 2022 | PASS | +---------------------+----------------+ CentOS Stream 10 Kernel: Depends on container host Compiler: gcc 14.2.1 20241104 (Red Hat 14.2.1-6) CentOS Stream 9 Kernel: Depends on container host Compiler: gcc 11.5.0 20240719 (Red Hat 11.5.0-2) Fedora 41 Kernel: Depends on container host Compiler: gcc 14.2.1 20240912 (Red Hat 14.2.1-3) Debian 12 Kernel: Depends on container host Compiler: gcc (Debian 12.2.0-14) 12.2.0 Debian Bullseye Kernel: Depends on container host Compiler: gcc (Debian 10.2.1-6) 10.2.1 20210110 Fedora 40 Kernel: Depends on container host Compiler: gcc 14.2.1 20240912 (Red Hat 14.2.1-3) Fedora 40 (Clang) Kernel: Depends on container host Compiler: clang 18.1.8 (Fedora 18.1.8-1.fc40) Ubuntu 20.04 Kernel: Depends on container host Compiler: gcc (Ubuntu 9.4.0-1ubuntu1~20.04.2) 9.4.0 RHEL9 Kernel: Depends on container host Compiler: gcc 11.5.0 20240719 (Red Hat 11.5.0-2) RHEL8 Kernel: Depends on container host Compiler: gcc 8.5.0 20210514 (Red Hat 8.5.0-22) Fedora 41 (Clang) Kernel: Depends on container host Compiler: clang 19.1.5 (Fedora 19.1.5-1.fc41) Ubuntu 22.04 Kernel: Depends on container host Compiler: gcc (Ubuntu 11.4.0-1ubuntu1~22.04) 11.4.0 Ubuntu 24.04 Kernel: Depends on container host Compiler: gcc (Ubuntu 13.3.0-6ubuntu2~24.04) 13.3.0 Windows Server 2022 Kernel: 10.0.20348.2031 Compiler: clang 15.0.7, gcc 14.1.0 (MinGW), and MSVC VS 19.39.33521 To view detailed results, visit: https://lab.dpdk.org/results/dashboard/tarballs/32588/ UNH-IOL DPDK Community Lab To manage your email subscriptions, visit: https://lab.dpdk.org/results/dashboard/preferences/subscriptions/