From mboxrd@z Thu Jan 1 00:00:00 1970 Return-Path: Received: from mails.dpdk.org (mails.dpdk.org [217.70.189.124]) by inbox.dpdk.org (Postfix) with ESMTP id 8F75C46237 for ; Sun, 16 Feb 2025 09:24:16 +0100 (CET) Received: from mails.dpdk.org (localhost [127.0.0.1]) by mails.dpdk.org (Postfix) with ESMTP id 6A1AF400EF; Sun, 16 Feb 2025 09:24:16 +0100 (CET) Received: from mail-vk1-f226.google.com (mail-vk1-f226.google.com [209.85.221.226]) by mails.dpdk.org (Postfix) with ESMTP id 3CA97400D7 for ; Sun, 16 Feb 2025 09:24:15 +0100 (CET) Received: by mail-vk1-f226.google.com with SMTP id 71dfb90a1353d-5209f22ecfeso197929e0c.1 for ; Sun, 16 Feb 2025 00:24:15 -0800 (PST) DKIM-Signature: v=1; a=rsa-sha256; c=relaxed/relaxed; d=iol.unh.edu; s=unh-iol; t=1739694254; x=1740299054; darn=dpdk.org; h=cc:to:from:subject:message-id:date:from:to:cc:subject:date :message-id:reply-to; bh=D+vhREgXcDrMv5Uvt/IlCc+xjv3bmNpHt7+Xyk2erMo=; b=Qgy+Z607VwZ3TnPjLLqsPsYsGWIsOjMtWd23Bgp+POEY/E3IQp3DQL5kBvp52X7/0l u5dTuWV1eevbAfC97vVc5JF/GA7Ml6aPjr+Gl0bxoaBSBgKOXNQDmqVBSpz3RLlHzJic FtGeEUnT6FTEN7gUvKG33hBw5BEY1U28/ce24= X-Google-DKIM-Signature: v=1; a=rsa-sha256; c=relaxed/relaxed; d=1e100.net; s=20230601; t=1739694254; x=1740299054; h=cc:to:from:subject:message-id:date:x-gm-message-state:from:to:cc :subject:date:message-id:reply-to; bh=D+vhREgXcDrMv5Uvt/IlCc+xjv3bmNpHt7+Xyk2erMo=; b=uE8rdmoTZ9f+fciUpXk0u4Tm0Dtj+8qCumwB9b3+3hZJL127OnOM0jinH1LNQM0qT4 7pkiOovjNpAYNRHUJ1gF9u9CxnsEx76mz6dk0hRajtrvU5xRDt648k03znTo574fxrp2 r4H75ME4DSSBZfZXTt4GfOzRHqcinZ4lP2hw12vKLSx6V5AvAdVOtbwpObS9s8Jg9XVG 2CTXo/Y2W1bflEx5uuNKtTUBX7lZMMMGMz3UPfK4P5L87Br42mzRtBIMc9YglTEmiSJL bu16pRL28F/GBbqWr9yJCGaPQGbJYLjJlK9/FFXt3vrMWnT0Ozds6plFdRYaQii82mbJ Ju5w== X-Gm-Message-State: AOJu0Yy9eV2Shoy2KC8lFfcLiQ8iwpsfBONLGEnzVbUJD9bX2uTG8O5V 2maqk4wIwOtPWNfR7nF5d8aNj0pLa6L4ity6z5YR29wDlKS9kl1tbDjLum+O9yHQv2cWaVUNHU0 H70GHIYH/7HtokPE/lu85JxVx7BX21V1W X-Gm-Gg: ASbGncv3OdBhwRyvgNqCgHWW7+Bl/Q77XjxfEKMzvClp2MqqHAUxB1GSZgHgA6VY1ab tZYJ3Z2O0+chH8HgaGl7Qd00jzsLEs+9Y/n4ZY1jrp6iGBmEORc4UR4GCKCyHJ3XlByuv3wqNZx x9zzcbFldA5d7nhD6DofsjQeY2G3y2fiWX4TndxZ8wH0YyBXrXtyRzP59/IVdXncWYNfubXMycY p2dJAkLSWo0MYnP0b6wyP4Kaq/YVOTbVLiPhaMvJv4jdj+nliePZFngy7c+GswvhJ/9Q2mB5bkg RoUPEazx4f49E5sceEVAcfb0f2xrGA== X-Google-Smtp-Source: AGHT+IE/J7EAwt24Sjo1Ecg158LkbM4nh2PVwmbLhnES+SmeBarkuYrR7z6vFdNliNuXoVemUidB4qWYYgcA X-Received: by 2002:a05:6122:4693:b0:520:5185:1c31 with SMTP id 71dfb90a1353d-5209dd17086mr2186823e0c.9.1739694254505; Sun, 16 Feb 2025 00:24:14 -0800 (PST) Received: from postal.iol.unh.edu (postal.iol.unh.edu. [132.177.123.84]) by smtp-relay.gmail.com with ESMTPS id 71dfb90a1353d-5207aa6bb25sm356074e0c.4.2025.02.16.00.24.14 (version=TLS1_2 cipher=ECDHE-ECDSA-AES128-GCM-SHA256 bits=128/128); Sun, 16 Feb 2025 00:24:14 -0800 (PST) X-Relaying-Domain: iol.unh.edu Date: Sun, 16 Feb 2025 00:24:14 -0800 (PST) Message-ID: <67b1a0ae.050a0220.32a9af.18baSMTPIN_ADDED_MISSING@mx.google.com> Received: from [172.17.0.5] (unknown [172.18.0.217]) by postal.iol.unh.edu (Postfix) with ESMTP id 281CB6052471; Sun, 16 Feb 2025 03:24:14 -0500 (EST) Subject: |SUCCESS| [GIT MASTER] c66daa12e76d7b4912cfb7109a761856a7a873ab From: dpdklab@iol.unh.edu To: Test Report Cc: dpdk-test-reports@iol.unh.edu, Xueming Li , Christian Ehrhardt , Kevin Traynor , Luca Boccassi Content-Type: text/plain X-BeenThere: test-report@dpdk.org X-Mailman-Version: 2.1.29 Precedence: list List-Id: automatic DPDK test reports List-Unsubscribe: , List-Archive: List-Post: List-Help: List-Subscribe: , Errors-To: test-report-bounces@dpdk.org _Testing PASS_ Branch: tags/v23.11 c66daa12e76d7b4912cfb7109a761856a7a873ab --> testing pass Upstream job id: ACVP-FIPS-testing#8924 Test environment and result as below: +--------------------+----------------------+----------------------+ | Environment | compressdev_zlib_pmd | dpdk_fips_validation | +====================+======================+======================+ | Ubuntu 22.04 (ARM) | PASS | SKIPPED | +--------------------+----------------------+----------------------+ | Ubuntu 22.04 | PASS | SKIPPED | +--------------------+----------------------+----------------------+ | Ubuntu 20.04 | SKIPPED | PASS | +--------------------+----------------------+----------------------+ Ubuntu 22.04 (ARM) Kernel: 5.15.0-97-generic Compiler: gcc gcc (Ubuntu 11.4.0-1ubuntu1~22.04) 11.4.0 Ubuntu 22.04 Kernel: 5.15.0-100-generic Compiler: gcc gcc (Ubuntu 11.4.0-1ubuntu1~22.04) 11.4.0 Ubuntu 20.04 Kernel: Depends on container host Compiler: gcc (Ubuntu 9.4.0-1ubuntu1~20.04.2) 9.4.0 To view detailed results, visit: https://lab.dpdk.org/results/dashboard/tarballs/32588/ UNH-IOL DPDK Community Lab To manage your email subscriptions, visit: https://lab.dpdk.org/results/dashboard/preferences/subscriptions/