From mboxrd@z Thu Jan 1 00:00:00 1970 Return-Path: Received: from mails.dpdk.org (mails.dpdk.org [217.70.189.124]) by inbox.dpdk.org (Postfix) with ESMTP id 4712046239 for ; Sun, 16 Feb 2025 10:22:57 +0100 (CET) Received: from mails.dpdk.org (localhost [127.0.0.1]) by mails.dpdk.org (Postfix) with ESMTP id 1B6864065F; Sun, 16 Feb 2025 10:22:57 +0100 (CET) Received: from mail-qt1-f228.google.com (mail-qt1-f228.google.com [209.85.160.228]) by mails.dpdk.org (Postfix) with ESMTP id 55160402DF for ; Sun, 16 Feb 2025 10:22:56 +0100 (CET) Received: by mail-qt1-f228.google.com with SMTP id d75a77b69052e-471b937f2feso37568951cf.3 for ; Sun, 16 Feb 2025 01:22:56 -0800 (PST) DKIM-Signature: v=1; a=rsa-sha256; c=relaxed/relaxed; d=iol.unh.edu; s=unh-iol; t=1739697775; x=1740302575; darn=dpdk.org; h=cc:to:from:subject:message-id:date:from:to:cc:subject:date :message-id:reply-to; bh=56GGGSaS4fSo0Qe+EuP+eo2tyvX5Xpz2LKjQ2cHbUHE=; b=P6POiBuRtYwU2zamoaJt285e+IQV935aX8guGdPMZniBQbyKZZ73CsDWOvovnrhh1Y jK6tiRkpxlGjLgfRsCTDQcM9rxTNjUu94jcPPR4dAnak6FzI7Vo7vtm++T1AfCm/QiKl BgEoZEF1g9uUW4I6iI8WWaus1blYmA2nrS5vM= X-Google-DKIM-Signature: v=1; a=rsa-sha256; c=relaxed/relaxed; d=1e100.net; s=20230601; t=1739697775; x=1740302575; h=cc:to:from:subject:message-id:date:x-gm-message-state:from:to:cc :subject:date:message-id:reply-to; bh=56GGGSaS4fSo0Qe+EuP+eo2tyvX5Xpz2LKjQ2cHbUHE=; b=UiO17W8lqMfWqdoi6Ln3QKKotKP+n56p9dIB0FW0w+xtojJ/FZUJqLytrwgn6ceQZD PtYuAUCyhhmOitb6EkwR1h4JLxNkzQM9olfftfK0j8F/YizJzQ00YP+hRddYifJwefvK 3eIDVzT7MUakhyqV4YGeawi0rRXAZkW3pfKH9vsWzWKBm59CHWYDL6kj04CeAF/sbTO5 W3X8Wa4pi+1BNlZ3lHXZ8cmteFyh+oWTYBCA1SGZL/+d+ADz9Wk8ZJumyM1y3FAJ8gBr d5x7lnEbgJcXL6Els9UQxKiAfNN2tqkRKtIB1TjmCH/f7x6yja5ikN9WxbUpQ72Iebyp S9FA== X-Gm-Message-State: AOJu0Ywgs6P1mogYDYAfdUv5yxrdY9Ca0VuR4AiycDiha4FwoOhoBFm4 zbdnQEdAMydXk+BJYxo8ZGyrnZ+86VwqlY55+tAvhZxrDIDVSRUwEgBe+voFH0o2CbsmD+P2L7r UMbm2Kt2NGYlXSf4yMTsjWp5OA/LWVIqR X-Gm-Gg: ASbGncvX7rKZdav3G44pc+3AIQykAxuhiYhEiEyVW8puhpH7GXBWFFy2FPbLkOiqz13 RL7b+MgaxPHIeuzHrj+0I/qPJng/pcC2siR1CMg3D7pRbOww3xmgUALwraibyu1HbymsAkNy4oo +rRxcOc/C9rtj8oA7QzML8CAdnDmGqY1JSM4F+lVRRAJRDEXAxYRm9jBQ+Z+Cv07yvGB//+4Q3M /X2NN4RsPt1xY9bhjJnvO0dTGsixfxuropHjonDBov5AAPbHf02R33I0t5HeQTL7cDx2KzUAsxU UsQKEArC+VkB908y23BOC5HlWcpXGA== X-Google-Smtp-Source: AGHT+IE09YBDMrThqDasZyiJwNW3bxjJ1v5xc9lrnJI4XvvfZ/5YpEg079L+muLUsd5nhwWdZD6031m9ayeN X-Received: by 2002:ac8:584c:0:b0:471:cdeb:da26 with SMTP id d75a77b69052e-471dbcc6a4bmr71714091cf.3.1739697775647; Sun, 16 Feb 2025 01:22:55 -0800 (PST) Received: from postal.iol.unh.edu (postal.iol.unh.edu. [132.177.123.84]) by smtp-relay.gmail.com with ESMTPS id d75a77b69052e-471c2b0cdb7sm3186061cf.21.2025.02.16.01.22.55 (version=TLS1_2 cipher=ECDHE-ECDSA-AES128-GCM-SHA256 bits=128/128); Sun, 16 Feb 2025 01:22:55 -0800 (PST) X-Relaying-Domain: iol.unh.edu Date: Sun, 16 Feb 2025 01:22:55 -0800 (PST) Message-ID: <67b1ae6f.050a0220.30c228.01f6SMTPIN_ADDED_MISSING@mx.google.com> Received: from [172.17.0.3] (unknown [172.18.0.217]) by postal.iol.unh.edu (Postfix) with ESMTP id 245A26052471; Sun, 16 Feb 2025 04:22:55 -0500 (EST) Subject: |SUCCESS| [GIT MASTER] c66daa12e76d7b4912cfb7109a761856a7a873ab From: dpdklab@iol.unh.edu To: Test Report Cc: dpdk-test-reports@iol.unh.edu, Xueming Li , Christian Ehrhardt , Kevin Traynor , Luca Boccassi Content-Type: text/plain X-BeenThere: test-report@dpdk.org X-Mailman-Version: 2.1.29 Precedence: list List-Id: automatic DPDK test reports List-Unsubscribe: , List-Archive: List-Post: List-Help: List-Subscribe: , Errors-To: test-report-bounces@dpdk.org _Testing PASS_ Branch: tags/v23.11 c66daa12e76d7b4912cfb7109a761856a7a873ab --> testing pass Upstream job id: Generic-DPDK-Compile-Meson#362001 Test environment and result as below: +------------------------------------+--------------------+ | Environment | dpdk_meson_compile | +====================================+====================+ | RHEL9 (ARM) | PASS | +------------------------------------+--------------------+ | Ubuntu 20.04 ARM GCC Cross Compile | PASS | +------------------------------------+--------------------+ | Ubuntu 20.04 ARM SVE | PASS | +------------------------------------+--------------------+ | Fedora 40 (ARM Clang) | PASS | +------------------------------------+--------------------+ | Fedora 41 (ARM Clang) | PASS | +------------------------------------+--------------------+ | Debian 12 with MUSDK | PASS | +------------------------------------+--------------------+ | Fedora 40 (ARM) | PASS | +------------------------------------+--------------------+ | Fedora 41 (ARM) | PASS | +------------------------------------+--------------------+ | Ubuntu 20.04 (ARM) | PASS | +------------------------------------+--------------------+ | Ubuntu 22.04 (ARM) | PASS | +------------------------------------+--------------------+ | CentOS Stream 9 (ARM) | PASS | +------------------------------------+--------------------+ | Debian 12 (arm) | PASS | +------------------------------------+--------------------+ | Debian 11 (Buster) (ARM) | PASS | +------------------------------------+--------------------+ | CentOS Stream 10 (ARM) | PASS | +------------------------------------+--------------------+ | Ubuntu 24.04 (ARM) | PASS | +------------------------------------+--------------------+ RHEL9 (ARM) Kernel: Depends on container host Compiler: gcc 11.5.0 20240719 (Red Hat 11.5.0-2) Ubuntu 20.04 ARM GCC Cross Compile Kernel: Depends on container host Compiler: aarch64-linux-gnu-gcc (Ubuntu 9.4.0-1ubuntu1~20.04.2) 9.4.0 Ubuntu 20.04 ARM SVE Kernel: Depends on container host Compiler: gcc (Ubuntu 10.5.0-1ubuntu1~20.04) 10.5.0 Fedora 40 (ARM Clang) Kernel: Depends on container host Compiler: clang 18.1.8 (Fedora 18.1.8-1.fc40) Fedora 41 (ARM Clang) Kernel: Depends on container host Compiler: clang 19.1.5 (Fedora 19.1.5-1.fc41) Debian 12 with MUSDK Kernel: Depends on container host Compiler: gcc (Debian 12.2.0-14) 12.2.0 Fedora 40 (ARM) Kernel: Depends on container host Compiler: gcc 14.2.1 20240912 (Red Hat 14.2.1-3) Fedora 41 (ARM) Kernel: Depends on container host Compiler: gcc 14.2.1 20240912 (Red Hat 14.2.1-3) Ubuntu 20.04 (ARM) Kernel: Depends on container host Compiler: gcc (Ubuntu 9.4.0-1ubuntu1~20.04.2) 9.4.0 Ubuntu 22.04 (ARM) Kernel: Depends on container host Compiler: gcc (Ubuntu 11.4.0-1ubuntu1~22.04) 11.4.0 CentOS Stream 9 (ARM) Kernel: Depends on container host Compiler: gcc 11.5.0 20240719 (Red Hat 11.5.0-2) Debian 12 (arm) Kernel: Depends on container host Compiler: gcc (Debian 12.2.0-14) 12.2.0 Debian 11 (Buster) (ARM) Kernel: Depends on container host Compiler: gcc (Debian 10.2.1-6) 10.2.1 20210110 CentOS Stream 10 (ARM) Kernel: Depends on container host Compiler: gcc 14.2.1 20241104 (Red Hat 14.2.1-6) Ubuntu 24.04 (ARM) Kernel: Depends on container host Compiler: gcc (Ubuntu 13.3.0-6ubuntu2~24.04) 13.3.0 To view detailed results, visit: https://lab.dpdk.org/results/dashboard/tarballs/32588/ UNH-IOL DPDK Community Lab To manage your email subscriptions, visit: https://lab.dpdk.org/results/dashboard/preferences/subscriptions/