From mboxrd@z Thu Jan 1 00:00:00 1970 Return-Path: Received: from mails.dpdk.org (mails.dpdk.org [217.70.189.124]) by inbox.dpdk.org (Postfix) with ESMTP id 7BD7C4623C for ; Sun, 16 Feb 2025 16:23:59 +0100 (CET) Received: from mails.dpdk.org (localhost [127.0.0.1]) by mails.dpdk.org (Postfix) with ESMTP id 5208140156; Sun, 16 Feb 2025 16:23:59 +0100 (CET) Received: from mail-pl1-f225.google.com (mail-pl1-f225.google.com [209.85.214.225]) by mails.dpdk.org (Postfix) with ESMTP id 3F4AC40150 for ; Sun, 16 Feb 2025 16:23:57 +0100 (CET) Received: by mail-pl1-f225.google.com with SMTP id d9443c01a7336-220dc3831e3so48984305ad.0 for ; Sun, 16 Feb 2025 07:23:57 -0800 (PST) DKIM-Signature: v=1; a=rsa-sha256; c=relaxed/relaxed; d=iol.unh.edu; s=unh-iol; t=1739719436; x=1740324236; darn=dpdk.org; h=references:in-reply-to:cc:to:from:subject:message-id:date:from:to :cc:subject:date:message-id:reply-to; bh=90MXmwM/9oiFdiNq/VZKFVlr9jaTc4CyNLozNcsLYWQ=; b=g6lEorCxf2AUS/3w7/UPdLI0mCnd/1F1J3djB+6HSnoMNwfJyCC1lTAxqIb/O99/Jm nxvZMmaMbwU+yZpPNL1V8SRtVc1IIaG43dTm847XaqCY9CnMfQcr24BV2bSrd84jvREc X3xtxZWbFeITYoTNBWl8KuRE35Y/dWoZPqsxU= X-Google-DKIM-Signature: v=1; a=rsa-sha256; c=relaxed/relaxed; d=1e100.net; s=20230601; t=1739719436; x=1740324236; h=references:in-reply-to:cc:to:from:subject:message-id:date :x-gm-message-state:from:to:cc:subject:date:message-id:reply-to; bh=90MXmwM/9oiFdiNq/VZKFVlr9jaTc4CyNLozNcsLYWQ=; b=if441PtyfDp77QN5Xc1cUYWlZ/7NZIb8srkJtOrbPmWYj+7DXaTPFqaKP4492UC/uz 2Xwl6R2bvp45uN0Cd7p/fr4j+q7h5KzfNgTg//tar7blZOhiFSzrLTWdIZIl4ZwxdYPs 6c7j/Xb76zdjkxh611nqv7USLfQaBUj8QFQ58FPz69TyvLUHWh9768VkecvIOcRUnTcN lqyDuxsyP1IFXBcDg/Knm+XpWrmbBxwyBqliW5mN4Wn4EuU9qbvR5EzBQ9VyKm+fFhen t98hKsddgTyjKS3odFlRVgNJUi9xG0YXnU2wm8ml4BYKWgzD+MXEnTNeWgzooHxgleXV yjxQ== X-Gm-Message-State: AOJu0YxqUMSwyY6CYhw3qi4UrYhrKLAigKf+055l6UzIURKRYY/q9Dha NWxT9eO1+GszLT13qYneghSvalhWAZDukaXzSxHdka7WqT18F5Zb5dZGnuJclbh2uP9HZJs5bmQ SoL/J/dEdBwHz78vJUOuHRjdbQcxwYjvdYkQiS5sb X-Gm-Gg: ASbGnctwK/SS/70AgTvQVzB9tjFCr4HS/GMYhfSO8zH7P1q7Ao4HlFJCZV/NqTvfkyz HSeVWwoBEZWiOLigxMCJNIkHfi1WNJ9UhDzrQ62plZlfBOJKYhKCpjMSGTWKiiO2XJAbhipYmur PCuiGsJ5uEI4IlfuKoXQ6yrPJtbiefRZrMaVqiFnOcd+xFB15TM8g6XbEMq95qjwK1owXS03H9w L4ONUvzLFVk55k6FYnJ0921ZFF7KQTwkxQzPSbbMpPflL7vEVQekvD/+FGr+KVJaQ6tYPL9gap5 LElNIw2caGinotHVKDos2+yGACgk0w== X-Google-Smtp-Source: AGHT+IHThKr/1bdO6EcBE+WPvQyG6Z5v0kYpfhmHAc5ujNnbe+rvRwZ6nyXpXgyfTCzycdnydk3Xt0cwWAxd X-Received: by 2002:a05:6a20:2444:b0:1e1:b105:158f with SMTP id adf61e73a8af0-1ee6c6c6411mr19323467637.19.1739719435921; Sun, 16 Feb 2025 07:23:55 -0800 (PST) Received: from postal.iol.unh.edu (postal.iol.unh.edu. [132.177.123.84]) by smtp-relay.gmail.com with ESMTPS id 41be03b00d2f7-adfa73d2638sm55057a12.10.2025.02.16.07.23.55 (version=TLS1_2 cipher=ECDHE-ECDSA-AES128-GCM-SHA256 bits=128/128); Sun, 16 Feb 2025 07:23:55 -0800 (PST) X-Relaying-Domain: iol.unh.edu Date: Sun, 16 Feb 2025 07:23:55 -0800 (PST) Message-ID: <67b2030b.630a0220.25b4f4.2c5dSMTPIN_ADDED_MISSING@mx.google.com> Received: from [172.17.0.5] (unknown [172.18.0.217]) by postal.iol.unh.edu (Postfix) with ESMTP id 0C0126052471; Sun, 16 Feb 2025 10:23:55 -0500 (EST) Subject: |SUCCESS| pw151530 [PATCH] testpmd: support meter_mark init_color in From: dpdklab@iol.unh.edu To: Test Report Cc: dpdk-test-reports@iol.unh.edu In-Reply-To: <20250216140420.216805-1-getelson@nvidia.com> References: <20250216140420.216805-1-getelson@nvidia.com> Content-Type: text/plain X-BeenThere: test-report@dpdk.org X-Mailman-Version: 2.1.29 Precedence: list List-Id: automatic DPDK test reports List-Unsubscribe: , List-Archive: List-Post: List-Help: List-Subscribe: , Errors-To: test-report-bounces@dpdk.org Test-Label: iol-unit-amd64-testing Test-Status: SUCCESS http://dpdk.org/patch/151530 _Testing PASS_ Submitter: Gregory Etelson Date: Sunday, February 16 2025 14:04:20 DPDK git baseline: Repo:dpdk Branch: master CommitID:88ece085bcd743e916172b653337ac94f79f472d 151530 --> testing pass Upstream job id: Generic-Unit-Test-DPDK#315343 Test environment and result as below: +---------------------+----------------+ | Environment | dpdk_unit_test | +=====================+================+ | CentOS Stream 9 | PASS | +---------------------+----------------+ | CentOS Stream 10 | PASS | +---------------------+----------------+ | Fedora 40 | PASS | +---------------------+----------------+ | Debian Bullseye | PASS | +---------------------+----------------+ | Fedora 40 (Clang) | PASS | +---------------------+----------------+ | Fedora 41 | PASS | +---------------------+----------------+ | Debian 12 | PASS | +---------------------+----------------+ | Fedora 41 (Clang) | PASS | +---------------------+----------------+ | RHEL8 | PASS | +---------------------+----------------+ | Ubuntu 20.04 | PASS | +---------------------+----------------+ | RHEL9 | PASS | +---------------------+----------------+ | Ubuntu 24.04 | PASS | +---------------------+----------------+ | Ubuntu 22.04 | PASS | +---------------------+----------------+ | Windows Server 2022 | PASS | +---------------------+----------------+ CentOS Stream 9 Kernel: Depends on container host Compiler: gcc 11.5.0 20240719 (Red Hat 11.5.0-2) CentOS Stream 10 Kernel: Depends on container host Compiler: gcc 14.2.1 20241104 (Red Hat 14.2.1-6) Fedora 40 Kernel: Depends on container host Compiler: gcc 14.2.1 20240912 (Red Hat 14.2.1-3) Debian Bullseye Kernel: Depends on container host Compiler: gcc (Debian 10.2.1-6) 10.2.1 20210110 Fedora 40 (Clang) Kernel: Depends on container host Compiler: clang 18.1.8 (Fedora 18.1.8-1.fc40) Fedora 41 Kernel: Depends on container host Compiler: gcc 14.2.1 20240912 (Red Hat 14.2.1-3) Debian 12 Kernel: Depends on container host Compiler: gcc (Debian 12.2.0-14) 12.2.0 Fedora 41 (Clang) Kernel: Depends on container host Compiler: clang 19.1.5 (Fedora 19.1.5-1.fc41) RHEL8 Kernel: Depends on container host Compiler: gcc 8.5.0 20210514 (Red Hat 8.5.0-22) Ubuntu 20.04 Kernel: Depends on container host Compiler: gcc (Ubuntu 9.4.0-1ubuntu1~20.04.2) 9.4.0 RHEL9 Kernel: Depends on container host Compiler: gcc 11.5.0 20240719 (Red Hat 11.5.0-2) Ubuntu 24.04 Kernel: Depends on container host Compiler: gcc (Ubuntu 13.3.0-6ubuntu2~24.04) 13.3.0 Ubuntu 22.04 Kernel: Depends on container host Compiler: gcc (Ubuntu 11.4.0-1ubuntu1~22.04) 11.4.0 Windows Server 2022 Kernel: 10.0.20348.2031 Compiler: clang 15.0.7, gcc 14.1.0 (MinGW), and MSVC VS 19.39.33521 To view detailed results, visit: https://lab.dpdk.org/results/dashboard/patchsets/32586/ UNH-IOL DPDK Community Lab To manage your email subscriptions, visit: https://lab.dpdk.org/results/dashboard/preferences/subscriptions/