From mboxrd@z Thu Jan 1 00:00:00 1970 Return-Path: Received: from mails.dpdk.org (mails.dpdk.org [217.70.189.124]) by inbox.dpdk.org (Postfix) with ESMTP id D1E344623C for ; Sun, 16 Feb 2025 16:37:19 +0100 (CET) Received: from mails.dpdk.org (localhost [127.0.0.1]) by mails.dpdk.org (Postfix) with ESMTP id A99F840156; Sun, 16 Feb 2025 16:37:19 +0100 (CET) Received: from mail-ot1-f98.google.com (mail-ot1-f98.google.com [209.85.210.98]) by mails.dpdk.org (Postfix) with ESMTP id 5641140150 for ; Sun, 16 Feb 2025 16:37:18 +0100 (CET) Received: by mail-ot1-f98.google.com with SMTP id 46e09a7af769-7270003d9c8so2133853a34.2 for ; Sun, 16 Feb 2025 07:37:18 -0800 (PST) DKIM-Signature: v=1; a=rsa-sha256; c=relaxed/relaxed; d=iol.unh.edu; s=unh-iol; t=1739720237; x=1740325037; darn=dpdk.org; h=references:in-reply-to:cc:to:from:subject:message-id:date:from:to :cc:subject:date:message-id:reply-to; bh=ZQVbtB9bDndWFvOLm/CHWf4OOV0FJX0bet5fJZZIKvU=; b=cAkVIz1chzS2A2CE3Gi5NjyE6rNMp+zLDzM/570uTo7RPYyYZifufZfXBOLMOSu6Up WR+bdgK4j1/OG+X5KFnPerHhKDjRWAHEjwgC83my4Zo06TVNqqroxjB5hQZRzFuPMZQ8 8l4FFtUCliQjfhtlteoyhCOtpSNd0dzKZhtJc= X-Google-DKIM-Signature: v=1; a=rsa-sha256; c=relaxed/relaxed; d=1e100.net; s=20230601; t=1739720237; x=1740325037; h=references:in-reply-to:cc:to:from:subject:message-id:date :x-gm-message-state:from:to:cc:subject:date:message-id:reply-to; bh=ZQVbtB9bDndWFvOLm/CHWf4OOV0FJX0bet5fJZZIKvU=; b=nRnKL9Bp7btf92OWtLmNAEpsnz4E60HHzgVpPEidz4+1XSa1E5OKHLO7eU3SPRZYQS 3z9TxbZl7HCgO4dfmLrsi6HyBwUEsSGNewadfkiNo+lIIPF1axODLUHUcPTeQOiqCvR1 Xn3bXBvVHb5abEriQtv2COL2upFSTxIsb2YyCny7NgM078jHzhd7+OEwsYzCLhiK5O6N nV5VjWJOHWhWav5qNzsf6rhBapFmeFBd5pMsag3I357iB3onj2sS25EZl4jhgn/UHA4Q iRm6dL1s+V72Zv4/liHV+zxUgpBamwcwCxfn4nyB3Ff3TmsweBLKrh8kFMjuPPdV8Umh JbPg== X-Gm-Message-State: AOJu0YyBZwJUCI9ACS2T/UDn73DhnzNXyoIdRPxVxWz88Y6GOx4mdU1r tazqGBr9sa52PXK0z2io8jceZ9qmtaNqYrz893ZDUf+l8yc97hRWpWEqxkA+3HOZM2rdslGYSrK 8M5gkgsP/qdQXRiwl/GNAsdF0Qhd6m/l/wRcvKawr X-Gm-Gg: ASbGnctiGVLJ9owLyp5W6SuLOmipZvVQa38tEwS6DIDPqMxV+MpJho3HgI2x/HBav96 3kjMiB0J14Ah1cz7hvzU3liUQKGvtvso/i4HUNqBrUzL9aoMZz8Pospl/6DTcadxKOpXv2WWmLC XtifmRQDHXAJpERyh6lEVbi9bUJ4x6Mpq3Ipj36WM4994NI0ISpqoB/uVxl/rF0rj3zrKbUBh+m E9nmo/aKkxBt9bj6MmPuZ+GfaP+Y5lg7GqOGJ1ZHx/q6cwJ9/zLaeGULpqLobVZWdcp8TMQDvdm 6hxVpkLZ1R8OsyA6OppIB7zVjAUOnw== X-Google-Smtp-Source: AGHT+IG9JHpQFnfJO/0sZlVImRRGczQBnsXBQX+loLd5vARH+gS7gyH5WH60pNkHLs3L0FMgbVDlAHSRoyKg X-Received: by 2002:a05:6830:358e:b0:727:a41:7ed9 with SMTP id 46e09a7af769-727120cdab4mr4370265a34.25.1739720237497; Sun, 16 Feb 2025 07:37:17 -0800 (PST) Received: from postal.iol.unh.edu (postal.iol.unh.edu. [132.177.123.84]) by smtp-relay.gmail.com with ESMTPS id 586e51a60fabf-2bca23dc501sm164366fac.41.2025.02.16.07.37.17 (version=TLS1_2 cipher=ECDHE-ECDSA-AES128-GCM-SHA256 bits=128/128); Sun, 16 Feb 2025 07:37:17 -0800 (PST) X-Relaying-Domain: iol.unh.edu Date: Sun, 16 Feb 2025 07:37:17 -0800 (PST) Message-ID: <67b2062d.050a0220.34d5a7.7ac5SMTPIN_ADDED_MISSING@mx.google.com> Received: from [172.17.0.3] (unknown [172.18.0.217]) by postal.iol.unh.edu (Postfix) with ESMTP id 10D836052471; Sun, 16 Feb 2025 10:37:17 -0500 (EST) Subject: |SUCCESS| pw151530 [PATCH] testpmd: support meter_mark init_color in From: dpdklab@iol.unh.edu To: Test Report Cc: dpdk-test-reports@iol.unh.edu In-Reply-To: <20250216140420.216805-1-getelson@nvidia.com> References: <20250216140420.216805-1-getelson@nvidia.com> Content-Type: text/plain X-BeenThere: test-report@dpdk.org X-Mailman-Version: 2.1.29 Precedence: list List-Id: automatic DPDK test reports List-Unsubscribe: , List-Archive: List-Post: List-Help: List-Subscribe: , Errors-To: test-report-bounces@dpdk.org Test-Label: iol-unit-arm64-testing Test-Status: SUCCESS http://dpdk.org/patch/151530 _Testing PASS_ Submitter: Gregory Etelson Date: Sunday, February 16 2025 14:04:20 DPDK git baseline: Repo:dpdk Branch: master CommitID:88ece085bcd743e916172b653337ac94f79f472d 151530 --> testing pass Upstream job id: Generic-Unit-Test-DPDK#315335 Test environment and result as below: +-----------------------------+----------------+--------------+---------------------------+------------------------------+ | Environment | dpdk_unit_test | lpm_autotest | cryptodev_sw_zuc_autotest | cryptodev_sw_snow3g_autotest | +=============================+================+==============+===========================+==============================+ | CentOS Stream 9 (ARM) | PASS | SKIPPED | SKIPPED | SKIPPED | +-----------------------------+----------------+--------------+---------------------------+------------------------------+ | CentOS Stream 10 (ARM) | PASS | SKIPPED | SKIPPED | SKIPPED | +-----------------------------+----------------+--------------+---------------------------+------------------------------+ | Fedora 41 (ARM) | PASS | SKIPPED | SKIPPED | SKIPPED | +-----------------------------+----------------+--------------+---------------------------+------------------------------+ | Fedora 40 (ARM) | PASS | SKIPPED | SKIPPED | SKIPPED | +-----------------------------+----------------+--------------+---------------------------+------------------------------+ | Debian 11 (Buster) (ARM) | PASS | SKIPPED | SKIPPED | SKIPPED | +-----------------------------+----------------+--------------+---------------------------+------------------------------+ | Debian 12 (arm) | PASS | SKIPPED | PASS | PASS | +-----------------------------+----------------+--------------+---------------------------+------------------------------+ | Fedora 40 (ARM Clang) | PASS | SKIPPED | SKIPPED | SKIPPED | +-----------------------------+----------------+--------------+---------------------------+------------------------------+ | Fedora 41 (ARM Clang) | PASS | SKIPPED | SKIPPED | SKIPPED | +-----------------------------+----------------+--------------+---------------------------+------------------------------+ | Ubuntu 20.04 (ARM) | PASS | SKIPPED | SKIPPED | SKIPPED | +-----------------------------+----------------+--------------+---------------------------+------------------------------+ | 32-bit Ubuntu 22.04.4 (ARM) | PASS | SKIPPED | SKIPPED | SKIPPED | +-----------------------------+----------------+--------------+---------------------------+------------------------------+ | RHEL9 (ARM) | PASS | SKIPPED | SKIPPED | SKIPPED | +-----------------------------+----------------+--------------+---------------------------+------------------------------+ | Ubuntu 22.04 (ARM) | PASS | SKIPPED | SKIPPED | SKIPPED | +-----------------------------+----------------+--------------+---------------------------+------------------------------+ | Ubuntu 24.04 (ARM) | PASS | SKIPPED | SKIPPED | SKIPPED | +-----------------------------+----------------+--------------+---------------------------+------------------------------+ | Ubuntu 20.04 ARM SVE | SKIPPED | PASS | SKIPPED | SKIPPED | +-----------------------------+----------------+--------------+---------------------------+------------------------------+ CentOS Stream 9 (ARM) Kernel: Depends on container host Compiler: gcc 11.5.0 20240719 (Red Hat 11.5.0-2) CentOS Stream 10 (ARM) Kernel: Depends on container host Compiler: gcc 14.2.1 20241104 (Red Hat 14.2.1-6) Fedora 41 (ARM) Kernel: Depends on container host Compiler: gcc 14.2.1 20240912 (Red Hat 14.2.1-3) Fedora 40 (ARM) Kernel: Depends on container host Compiler: gcc 14.2.1 20240912 (Red Hat 14.2.1-3) Debian 11 (Buster) (ARM) Kernel: Depends on container host Compiler: gcc (Debian 10.2.1-6) 10.2.1 20210110 Debian 12 (arm) Kernel: Depends on container host Compiler: gcc (Debian 12.2.0-14) 12.2.0 Fedora 40 (ARM Clang) Kernel: Depends on container host Compiler: clang 18.1.8 (Fedora 18.1.8-1.fc40) Fedora 41 (ARM Clang) Kernel: Depends on container host Compiler: clang 19.1.5 (Fedora 19.1.5-1.fc41) Ubuntu 20.04 (ARM) Kernel: Depends on container host Compiler: gcc (Ubuntu 9.4.0-1ubuntu1~20.04.2) 9.4.0 32-bit Ubuntu 22.04.4 (ARM) Kernel: 5.15.83+ aarch64 Compiler: gcc (Ubuntu 11.4.0-1ubuntu1~22.04) 11.4.0 RHEL9 (ARM) Kernel: Depends on container host Compiler: gcc 11.5.0 20240719 (Red Hat 11.5.0-2) Ubuntu 22.04 (ARM) Kernel: Depends on container host Compiler: gcc (Ubuntu 11.4.0-1ubuntu1~22.04) 11.4.0 Ubuntu 24.04 (ARM) Kernel: Depends on container host Compiler: gcc (Ubuntu 13.3.0-6ubuntu2~24.04) 13.3.0 Ubuntu 20.04 ARM SVE Kernel: Depends on container host Compiler: gcc (Ubuntu 10.5.0-1ubuntu1~20.04) 10.5.0 To view detailed results, visit: https://lab.dpdk.org/results/dashboard/patchsets/32586/ UNH-IOL DPDK Community Lab To manage your email subscriptions, visit: https://lab.dpdk.org/results/dashboard/preferences/subscriptions/