From mboxrd@z Thu Jan 1 00:00:00 1970 Return-Path: Received: from mails.dpdk.org (mails.dpdk.org [217.70.189.124]) by inbox.dpdk.org (Postfix) with ESMTP id 4784B4623C for ; Sun, 16 Feb 2025 16:44:33 +0100 (CET) Received: from mails.dpdk.org (localhost [127.0.0.1]) by mails.dpdk.org (Postfix) with ESMTP id 5285F40156; Sun, 16 Feb 2025 16:44:32 +0100 (CET) Received: from mail-io1-f98.google.com (mail-io1-f98.google.com [209.85.166.98]) by mails.dpdk.org (Postfix) with ESMTP id D6E8940150 for ; Sun, 16 Feb 2025 16:44:31 +0100 (CET) Received: by mail-io1-f98.google.com with SMTP id ca18e2360f4ac-84a012f7232so133493939f.0 for ; Sun, 16 Feb 2025 07:44:31 -0800 (PST) DKIM-Signature: v=1; a=rsa-sha256; c=relaxed/relaxed; d=iol.unh.edu; s=unh-iol; t=1739720671; x=1740325471; darn=dpdk.org; h=references:in-reply-to:cc:to:from:subject:message-id:date:from:to :cc:subject:date:message-id:reply-to; bh=lWXHEFsDOfP3TH3TT8NKyAEqQFJ54IT3ZaRX3HzBZm0=; b=I+l5bK0p0Ussn4LHLC5EJ234fV8hYRL9bulQf2Ufrxs7FmaaLqgVQFQ6sIeSELitW3 dk2j7V+i7jlKt68BTW5a7P9gi3/1Vr5HF9e7zYLNDwMmrIIfMFF4jqVOryV5n1RlGHY2 KhuodZYKpIrsFJ5v36A1OkcETj919tiyYGiGU= X-Google-DKIM-Signature: v=1; a=rsa-sha256; c=relaxed/relaxed; d=1e100.net; s=20230601; t=1739720671; x=1740325471; h=references:in-reply-to:cc:to:from:subject:message-id:date :x-gm-message-state:from:to:cc:subject:date:message-id:reply-to; bh=lWXHEFsDOfP3TH3TT8NKyAEqQFJ54IT3ZaRX3HzBZm0=; b=ezp1/tdxRokUapxXPD9HBIEY9izm1Ic6nO1JnuGj1kIluCNEV96h3YfQ+AK4SewG+z Ab44glD+pbNjLVfs5861ZNHVU6B3YH6FBHPptpPnmhdZsO5fbj2+WlmCopsIgVAQB3yi 6SqRMskMlXrkBujFX5gWeboOy4vqJmpY4WTeoyyTo5WKLqdbJXekIDE16GwsCvHe5fCg h6Fsee4uPkYuEnQGxUVbzxqNVDQLAR5PRTmat34gRnNjg2XXwLWCWX3V/YTep4k48Z3s 3kMn553x1wzRTQFzyEqx0Cx4MfeS4J9Lu1nCPHWrU3G1k/QGZs+n1n9QJngvfah8KItJ 1TzQ== X-Gm-Message-State: AOJu0Yy2hHwVUSxsMUoPeWwEqyjuhsTe6lRRGZKl2ylm0Im7uOIbphg7 4XiwRniKj5DsijZxsJWqgwWF15xIOAoRjdOMMSyrTkK5B3pNj1uog3Fg4OiHI7ILmz2MPbtqnsW PwiiGzfLxqgWzG9aE3pbI6VHUK/lgfRYs7XtZFboy X-Gm-Gg: ASbGncufvGomOT7DjKwq7QcuHv44F5ipBv+u2OJE/HkvWmU2vl/56rA2UTIdpYLt9Zb q54JjGNvTqNH/63Xx4HmeNAf0VeQQnBi6RTS58+R8gJLBpXF8MCe0gXs7vrKdL0YpU0q3/+J3dp gofRnK0JW3cCXTEBHXIkF8HzGZ4RlUEM6bx4kgFmZudalXG1xtTgpcaFjMP0V6267+ydqW9mdsT l0yLEW6/vO0lBRA0YNVEf0evwpQRJ7dlxHagojP97XmNFo46r226WKTcwXM3N+rpzTYsnIfi9Wt VYw7qj3sSfqSpGpqZR3IBtCKt3MSjQ== X-Google-Smtp-Source: AGHT+IEKBaPrk/kauTVd2Y4QGbOe/vUhpvddE1yl6+4/JGlds6fs9GE/6chJcgH0ulf8/0Voh2HqYstbv17q X-Received: by 2002:a05:6602:2d93:b0:84a:5ded:b7c6 with SMTP id ca18e2360f4ac-8557ac9a3c1mr408879339f.5.1739720671141; Sun, 16 Feb 2025 07:44:31 -0800 (PST) Received: from postal.iol.unh.edu (postal.iol.unh.edu. [132.177.123.84]) by smtp-relay.gmail.com with ESMTPS id ca18e2360f4ac-8558e73866esm1083339f.22.2025.02.16.07.44.31 (version=TLS1_2 cipher=ECDHE-ECDSA-AES128-GCM-SHA256 bits=128/128); Sun, 16 Feb 2025 07:44:31 -0800 (PST) X-Relaying-Domain: iol.unh.edu Date: Sun, 16 Feb 2025 07:44:31 -0800 (PST) Message-ID: <67b207df.050a0220.dad0d.08c3SMTPIN_ADDED_MISSING@mx.google.com> Received: from [172.17.0.3] (unknown [172.18.0.217]) by postal.iol.unh.edu (Postfix) with ESMTP id 5487F6052471; Sun, 16 Feb 2025 10:44:30 -0500 (EST) Subject: |SUCCESS| pw151530 [PATCH] testpmd: support meter_mark init_color in From: dpdklab@iol.unh.edu To: Test Report Cc: dpdk-test-reports@iol.unh.edu In-Reply-To: <20250216140420.216805-1-getelson@nvidia.com> References: <20250216140420.216805-1-getelson@nvidia.com> Content-Type: text/plain X-BeenThere: test-report@dpdk.org X-Mailman-Version: 2.1.29 Precedence: list List-Id: automatic DPDK test reports List-Unsubscribe: , List-Archive: List-Post: List-Help: List-Subscribe: , Errors-To: test-report-bounces@dpdk.org Test-Label: iol-sample-apps-testing Test-Status: SUCCESS http://dpdk.org/patch/151530 _Testing PASS_ Submitter: Gregory Etelson Date: Sunday, February 16 2025 14:04:20 DPDK git baseline: Repo:dpdk Branch: master CommitID:88ece085bcd743e916172b653337ac94f79f472d 151530 --> testing pass Upstream job id: ACVP-FIPS-testing#8927 Test environment and result as below: +--------------------+----------------------+----------------------+ | Environment | compressdev_zlib_pmd | dpdk_fips_validation | +====================+======================+======================+ | Ubuntu 22.04 (ARM) | PASS | SKIPPED | +--------------------+----------------------+----------------------+ | Ubuntu 22.04 | PASS | SKIPPED | +--------------------+----------------------+----------------------+ | Ubuntu 20.04 | SKIPPED | PASS | +--------------------+----------------------+----------------------+ Ubuntu 22.04 (ARM) Kernel: 5.15.0-97-generic Compiler: gcc gcc (Ubuntu 11.4.0-1ubuntu1~22.04) 11.4.0 Ubuntu 22.04 Kernel: 5.15.0-100-generic Compiler: gcc gcc (Ubuntu 11.4.0-1ubuntu1~22.04) 11.4.0 Ubuntu 20.04 Kernel: Depends on container host Compiler: gcc (Ubuntu 9.4.0-1ubuntu1~20.04.2) 9.4.0 To view detailed results, visit: https://lab.dpdk.org/results/dashboard/patchsets/32586/ UNH-IOL DPDK Community Lab To manage your email subscriptions, visit: https://lab.dpdk.org/results/dashboard/preferences/subscriptions/