From mboxrd@z Thu Jan 1 00:00:00 1970 Return-Path: Received: from mails.dpdk.org (mails.dpdk.org [217.70.189.124]) by inbox.dpdk.org (Postfix) with ESMTP id 8C6F84623C for ; Sun, 16 Feb 2025 16:44:35 +0100 (CET) Received: from mails.dpdk.org (localhost [127.0.0.1]) by mails.dpdk.org (Postfix) with ESMTP id 86F3940156; Sun, 16 Feb 2025 16:44:35 +0100 (CET) Received: from mail-il1-f226.google.com (mail-il1-f226.google.com [209.85.166.226]) by mails.dpdk.org (Postfix) with ESMTP id 4046140150 for ; Sun, 16 Feb 2025 16:44:34 +0100 (CET) Received: by mail-il1-f226.google.com with SMTP id e9e14a558f8ab-3ce76b8d5bcso33989855ab.0 for ; Sun, 16 Feb 2025 07:44:34 -0800 (PST) DKIM-Signature: v=1; a=rsa-sha256; c=relaxed/relaxed; d=iol.unh.edu; s=unh-iol; t=1739720673; x=1740325473; darn=dpdk.org; h=references:in-reply-to:cc:to:from:subject:message-id:date:from:to :cc:subject:date:message-id:reply-to; bh=VnfnBV6LPLy0uNbu5FAoviyrPT5XGncsgj1qsRq7hBU=; b=IKrywtwD4DZZqeJCWcTlAgJcsBZ5rJxbcRKHNRfsykWUOY3niT2/kySQ3s++6JYEQU W9+wAW3gQhYNjBh/j/RXw3ZBzQgswhH8YzzyPwUbu1bvmZOR4c/p/wbS3RsBvGpwfgIT MgVilERqqn5wT1bgARZpWVKGuqW3W2/05GqOk= X-Google-DKIM-Signature: v=1; a=rsa-sha256; c=relaxed/relaxed; d=1e100.net; s=20230601; t=1739720673; x=1740325473; h=references:in-reply-to:cc:to:from:subject:message-id:date :x-gm-message-state:from:to:cc:subject:date:message-id:reply-to; bh=VnfnBV6LPLy0uNbu5FAoviyrPT5XGncsgj1qsRq7hBU=; b=HRIABo1TO7aLLL6Lyb4L16mcMDU6GBR6Tk1tF+WhpPPyRY9Bb66k60JQ3R9jyCMoDZ PDke6w9zi97II+fdDPavVv/Us1YNkslLc5p6xcbWvXq9jf+lDiU7ORKDR/zQpGUhXYEV ecAcqR3V2Jzpc9LrN0+/Z3c/WnAJolk9wJy8Kl8RWRicuTPxD1b0p9MBIFuCg9Yd01h7 St58AbthlcS/GJY1T/HZp0ZAMNiA38C2p8XZd9DS8usS+NAWKgnWewDy7aSC7WhhHQYn mnNNG62pkdIjCqyer+zqIJnanKgw/KgxkfEkLDGf5HB6p7cH7KLmrx8yyoEnG6bdkKqT yIkQ== X-Gm-Message-State: AOJu0Yz5v3sn+Kzl8duKcUfm71J3t4oroRCzfRswYAvG8ofmOAgQKPgK K7lc7Dg8rNjND6jqXlvtgmwHGQO7e4C1feeu0gEpIIK9XEP1/Eoj7vzWe4HjVaT45ZZxwoda8pd RXASOkfrO6dIU83HlPpFa0NVfzhUs8fd67d4VROa3 X-Gm-Gg: ASbGnctmOPFVifyiYEGq77M4ezZKg8AUkthO+IovdrGCNLwwCilDMBepCSLDH/sBDZL l72qy4qgJNhBNQHBTYo5nBgW++7OObUCObc7rQ2NCrPW6nrZVhxPgyTkX9sH7Wa+siHbJ2+yWq7 LsoEtAHwJcdZ1UOMeejwlrhTpLQOrNcINXpua7pmjr6OT+niyWGuZYa1ADGIiCVVYP4wBBeCPLZ L2eG8XpN1SUlR1dqZounMPUFrRB1XlWPe9rigxartAo0msUvsZnbvh36izbUFpMy6pBNFW8qbzy 6VJrE2bi9Av1HKCIk35cjvWQGUAFnA== X-Google-Smtp-Source: AGHT+IEjfhZaHmP5hGeYZO+mbdzER+U6xic77eWcF2E3KA1TcYAQfmLwP4He8+HpunBwa5GqTeOWFCt2dphv X-Received: by 2002:a05:6e02:1fc3:b0:3d1:9236:ca4b with SMTP id e9e14a558f8ab-3d2807b900amr46754305ab.8.1739720673297; Sun, 16 Feb 2025 07:44:33 -0800 (PST) Received: from postal.iol.unh.edu (postal.iol.unh.edu. [132.177.123.84]) by smtp-relay.gmail.com with ESMTPS id 8926c6da1cb9f-4ed281a8125sm467862173.40.2025.02.16.07.44.33 (version=TLS1_2 cipher=ECDHE-ECDSA-AES128-GCM-SHA256 bits=128/128); Sun, 16 Feb 2025 07:44:33 -0800 (PST) X-Relaying-Domain: iol.unh.edu Date: Sun, 16 Feb 2025 07:44:33 -0800 (PST) Message-ID: <67b207e1.050a0220.101dba.8032SMTPIN_ADDED_MISSING@mx.google.com> Received: from [172.17.0.5] (unknown [172.18.0.217]) by postal.iol.unh.edu (Postfix) with ESMTP id CA61B6052471; Sun, 16 Feb 2025 10:44:32 -0500 (EST) Subject: |SUCCESS| pw151530 [PATCH] testpmd: support meter_mark init_color in From: dpdklab@iol.unh.edu To: Test Report Cc: dpdk-test-reports@iol.unh.edu In-Reply-To: <20250216140420.216805-1-getelson@nvidia.com> References: <20250216140420.216805-1-getelson@nvidia.com> Content-Type: text/plain X-BeenThere: test-report@dpdk.org X-Mailman-Version: 2.1.29 Precedence: list List-Id: automatic DPDK test reports List-Unsubscribe: , List-Archive: List-Post: List-Help: List-Subscribe: , Errors-To: test-report-bounces@dpdk.org Test-Label: iol-abi-testing Test-Status: SUCCESS http://dpdk.org/patch/151530 _Testing PASS_ Submitter: Gregory Etelson Date: Sunday, February 16 2025 14:04:20 DPDK git baseline: Repo:dpdk Branch: master CommitID:88ece085bcd743e916172b653337ac94f79f472d 151530 --> testing pass Upstream job id: Generic-DPDK-Compile-ABI#116364 Test environment and result as below: +-------------------+----------+ | Environment | abi_test | +===================+==========+ | Debian Bullseye | PASS | +-------------------+----------+ | CentOS Stream 9 | PASS | +-------------------+----------+ | RHEL9 | PASS | +-------------------+----------+ | Debian 12 | PASS | +-------------------+----------+ | Fedora 40 (Clang) | PASS | +-------------------+----------+ | Fedora 40 | PASS | +-------------------+----------+ | Fedora 41 (Clang) | PASS | +-------------------+----------+ | Fedora 41 | PASS | +-------------------+----------+ | RHEL8 | PASS | +-------------------+----------+ | openSUSE Leap 15 | PASS | +-------------------+----------+ | Ubuntu 24.04 | PASS | +-------------------+----------+ | CentOS Stream 10 | PASS | +-------------------+----------+ Debian Bullseye Kernel: Depends on container host Compiler: gcc (Debian 10.2.1-6) 10.2.1 20210110 CentOS Stream 9 Kernel: Depends on container host Compiler: gcc 11.5.0 20240719 (Red Hat 11.5.0-2) RHEL9 Kernel: Depends on container host Compiler: gcc 11.5.0 20240719 (Red Hat 11.5.0-2) Debian 12 Kernel: Depends on container host Compiler: gcc (Debian 12.2.0-14) 12.2.0 Fedora 40 (Clang) Kernel: Depends on container host Compiler: clang 18.1.8 (Fedora 18.1.8-1.fc40) Fedora 40 Kernel: Depends on container host Compiler: gcc 14.2.1 20240912 (Red Hat 14.2.1-3) Fedora 41 (Clang) Kernel: Depends on container host Compiler: clang 19.1.5 (Fedora 19.1.5-1.fc41) Fedora 41 Kernel: Depends on container host Compiler: gcc 14.2.1 20240912 (Red Hat 14.2.1-3) RHEL8 Kernel: Depends on container host Compiler: gcc 8.5.0 20210514 (Red Hat 8.5.0-22) openSUSE Leap 15 Kernel: Depends on container host Compiler: gcc (SUSE Linux) 7.5.0 Ubuntu 24.04 Kernel: Depends on container host Compiler: gcc (Ubuntu 13.3.0-6ubuntu2~24.04) 13.3.0 CentOS Stream 10 Kernel: Depends on container host Compiler: gcc 14.2.1 20241104 (Red Hat 14.2.1-6) To view detailed results, visit: https://lab.dpdk.org/results/dashboard/patchsets/32586/ UNH-IOL DPDK Community Lab To manage your email subscriptions, visit: https://lab.dpdk.org/results/dashboard/preferences/subscriptions/