From mboxrd@z Thu Jan 1 00:00:00 1970 Return-Path: Received: from mails.dpdk.org (mails.dpdk.org [217.70.189.124]) by inbox.dpdk.org (Postfix) with ESMTP id E4E904623C for ; Sun, 16 Feb 2025 16:57:42 +0100 (CET) Received: from mails.dpdk.org (localhost [127.0.0.1]) by mails.dpdk.org (Postfix) with ESMTP id C1B6A40156; Sun, 16 Feb 2025 16:57:42 +0100 (CET) Received: from mail-pl1-f228.google.com (mail-pl1-f228.google.com [209.85.214.228]) by mails.dpdk.org (Postfix) with ESMTP id 8478240150 for ; Sun, 16 Feb 2025 16:57:41 +0100 (CET) Received: by mail-pl1-f228.google.com with SMTP id d9443c01a7336-220ecbdb4c2so62772575ad.3 for ; Sun, 16 Feb 2025 07:57:41 -0800 (PST) DKIM-Signature: v=1; a=rsa-sha256; c=relaxed/relaxed; d=iol.unh.edu; s=unh-iol; t=1739721460; x=1740326260; darn=dpdk.org; h=references:in-reply-to:cc:to:from:subject:message-id:date:from:to :cc:subject:date:message-id:reply-to; bh=I8skotPdsYaZiyERSzFBNV0k0Xk75+r/kg38CgzSdY4=; b=GDKqWtg7X2Xu5zLEOfeHCPgS4Exgg9UqgBCNNuuzPvH/AWXsIJbV3xRwTske0AHhs/ /GgAHc9dCvLIwnh+UjtyuCiASjvne0JLOsa8jEW7CTwKnIhN0P8ExSUdOUn+eZIJeb4A UEAA5kNnbZhiaiNz57uhixZARcbRFy2wt/KrI= X-Google-DKIM-Signature: v=1; a=rsa-sha256; c=relaxed/relaxed; d=1e100.net; s=20230601; t=1739721460; x=1740326260; h=references:in-reply-to:cc:to:from:subject:message-id:date :x-gm-message-state:from:to:cc:subject:date:message-id:reply-to; bh=I8skotPdsYaZiyERSzFBNV0k0Xk75+r/kg38CgzSdY4=; b=hGRwRTYn5jo0cwC5V4sS2m9vLaian4eXndMS0G4ye55N8JrcsOxzgNAsVvdH9LGeWg hB8Um8crbua2qMuFA6lIadJIJ8T79c41mm6kplIk+0mFZKGSaX/iA8oIMxm3Ng/jveQ7 pwFLGnVwmtTFyn1mfY48JC8Un0WNXZ/Hwc/xltYKZIM5I+qPETHTSa2ky9UZHhxf4qK/ yQsIjga0DJU+kk907XG4aPU6nYLMzUXwcDiqgARmSawgJe5kUSaLMC1sz2PExwoqjKGv mLfLlpEBde8cXCTdXEIjxt1Z5ctsuaJ5T3644TPagGCexDtlXqgWpxX0mYSoE6OB90e9 oC+w== X-Gm-Message-State: AOJu0YyIuIqt/i9wDV1BCRQZk+DnSqBZ7HBZahM1aLH0GQvE9UjRVsoa fGCIfqA8QIQHt7lzJgZVlXPA8fF3XX50qgcFbdY1R/wPX06SoWKlnkAhWRa5OywTtwMVWk8tTF4 9Qc7FtLsxPcCIPY/YRELPoYpyz7vFpHmvfxTDqXDU7flfNwGqKsNS6gwE X-Gm-Gg: ASbGncslbgeRSJai+M/yxd8u6YWdrkYaZI4M6+qhrlTr2UNerDq/CCPRVrNjPu8fEwq edMIV/4kFYXh+hjqQDdsq+EtEE9YgN/SRxRYG7tK11RlRCJe+cJnTuea9WmXdVyWR1S0wy9XALC ohKQOWIvfTGQ5otzh8FWyDjbD7Qv8H06ZipcmuiozVPYGv8Gf4SqgCsnRULy6ZfSisMg7M+ael8 BrEGuFJlmRfLJls8elTlXHg0j9NlYslhVRJZaK68REPsc7Jf0EfD75cy+1cj4yLBEMW5h69Pqk+ yHPT6KJawHTZSBig2kTzXNSdxob0a30JxIU9A4aBEw== X-Google-Smtp-Source: AGHT+IHIC7lD3cNRqGQqWWC9EoK1VlVs6Wim62lWe5Fxj0OQxm7cRYrsAHhEXHA6w2lX8+eADxBBAsfHxG4l X-Received: by 2002:a17:902:cec8:b0:221:f61:14c3 with SMTP id d9443c01a7336-2210f6115cfmr64587395ad.18.1739721460664; Sun, 16 Feb 2025 07:57:40 -0800 (PST) Received: from postal.iol.unh.edu (postal.iol.unh.edu. [2606:4100:3880:1234::84]) by smtp-relay.gmail.com with ESMTPS id d9443c01a7336-220d5201e4bsm3768345ad.2.2025.02.16.07.57.40 (version=TLS1_2 cipher=ECDHE-ECDSA-AES128-GCM-SHA256 bits=128/128); Sun, 16 Feb 2025 07:57:40 -0800 (PST) X-Relaying-Domain: iol.unh.edu Date: Sun, 16 Feb 2025 07:57:40 -0800 (PST) Message-ID: <67b20af4.170a0220.521fd.2ea8SMTPIN_ADDED_MISSING@mx.google.com> Received: from [172.21.0.5] (unknown [172.18.0.240]) by postal.iol.unh.edu (Postfix) with ESMTP id CFCA16052471; Sun, 16 Feb 2025 10:57:39 -0500 (EST) Subject: |SUCCESS| pw151530 [PATCH] testpmd: support meter_mark init_color in From: dpdklab@iol.unh.edu To: Test Report Cc: dpdk-test-reports@iol.unh.edu In-Reply-To: <20250216140420.216805-1-getelson@nvidia.com> References: <20250216140420.216805-1-getelson@nvidia.com> Content-Type: text/plain X-BeenThere: test-report@dpdk.org X-Mailman-Version: 2.1.29 Precedence: list List-Id: automatic DPDK test reports List-Unsubscribe: , List-Archive: List-Post: List-Help: List-Subscribe: , Errors-To: test-report-bounces@dpdk.org Test-Label: iol-compile-amd64-testing Test-Status: SUCCESS http://dpdk.org/patch/151530 _Testing PASS_ Submitter: Gregory Etelson Date: Sunday, February 16 2025 14:04:20 DPDK git baseline: Repo:dpdk Branch: master CommitID:88ece085bcd743e916172b653337ac94f79f472d 151530 --> testing pass Upstream job id: Generic-DPDK-Compile-Meson#362056 Test environment and result as below: +---------------------+--------------------+-------------------+------------------+-------------------------+-------------------+----------------------+ | Environment | dpdk_meson_compile | dpdk_compile_spdk | dpdk_compile_ovs | dpdk_llvm_clang_compile | dpdk_msvc_compile | dpdk_mingw64_compile | +=====================+====================+===================+==================+=========================+===================+======================+ | CentOS Stream 9 | PASS | PASS | SKIPPED | SKIPPED | SKIPPED | SKIPPED | +---------------------+--------------------+-------------------+------------------+-------------------------+-------------------+----------------------+ | Fedora 40 (Clang) | PASS | PASS | SKIPPED | SKIPPED | SKIPPED | SKIPPED | +---------------------+--------------------+-------------------+------------------+-------------------------+-------------------+----------------------+ | CentOS Stream 10 | PASS | SKIPPED | SKIPPED | SKIPPED | SKIPPED | SKIPPED | +---------------------+--------------------+-------------------+------------------+-------------------------+-------------------+----------------------+ | Debian Bullseye | PASS | PASS | SKIPPED | SKIPPED | SKIPPED | SKIPPED | +---------------------+--------------------+-------------------+------------------+-------------------------+-------------------+----------------------+ | Debian 12 | PASS | PASS | SKIPPED | SKIPPED | SKIPPED | SKIPPED | +---------------------+--------------------+-------------------+------------------+-------------------------+-------------------+----------------------+ | RHEL9 | PASS | SKIPPED | SKIPPED | SKIPPED | SKIPPED | SKIPPED | +---------------------+--------------------+-------------------+------------------+-------------------------+-------------------+----------------------+ | RHEL8 | PASS | SKIPPED | SKIPPED | SKIPPED | SKIPPED | SKIPPED | +---------------------+--------------------+-------------------+------------------+-------------------------+-------------------+----------------------+ | Fedora 41 (Clang) | PASS | PASS | PASS | SKIPPED | SKIPPED | SKIPPED | +---------------------+--------------------+-------------------+------------------+-------------------------+-------------------+----------------------+ | openSUSE Leap 15 | PASS | SKIPPED | SKIPPED | SKIPPED | SKIPPED | SKIPPED | +---------------------+--------------------+-------------------+------------------+-------------------------+-------------------+----------------------+ | Fedora 41 | PASS | PASS | PASS | SKIPPED | SKIPPED | SKIPPED | +---------------------+--------------------+-------------------+------------------+-------------------------+-------------------+----------------------+ | Ubuntu 20.04 | PASS | SKIPPED | SKIPPED | SKIPPED | SKIPPED | SKIPPED | +---------------------+--------------------+-------------------+------------------+-------------------------+-------------------+----------------------+ | Ubuntu 22.04 | PASS | PASS | SKIPPED | SKIPPED | SKIPPED | SKIPPED | +---------------------+--------------------+-------------------+------------------+-------------------------+-------------------+----------------------+ | Ubuntu 24.04 | PASS | PASS | PASS | SKIPPED | SKIPPED | SKIPPED | +---------------------+--------------------+-------------------+------------------+-------------------------+-------------------+----------------------+ | Alpine | PASS | SKIPPED | SKIPPED | SKIPPED | SKIPPED | SKIPPED | +---------------------+--------------------+-------------------+------------------+-------------------------+-------------------+----------------------+ | FreeBSD 13.4 | PASS | SKIPPED | SKIPPED | SKIPPED | SKIPPED | SKIPPED | +---------------------+--------------------+-------------------+------------------+-------------------------+-------------------+----------------------+ | FreeBSD 14.2 | PASS | SKIPPED | SKIPPED | SKIPPED | SKIPPED | SKIPPED | +---------------------+--------------------+-------------------+------------------+-------------------------+-------------------+----------------------+ | Fedora 40 | PASS | PASS | SKIPPED | SKIPPED | SKIPPED | SKIPPED | +---------------------+--------------------+-------------------+------------------+-------------------------+-------------------+----------------------+ | Windows Server 2022 | SKIPPED | SKIPPED | SKIPPED | PASS | PASS | PASS | +---------------------+--------------------+-------------------+------------------+-------------------------+-------------------+----------------------+ CentOS Stream 9 Kernel: Depends on container host Compiler: gcc 11.5.0 20240719 (Red Hat 11.5.0-2) Fedora 40 (Clang) Kernel: Depends on container host Compiler: clang 18.1.8 (Fedora 18.1.8-1.fc40) CentOS Stream 10 Kernel: Depends on container host Compiler: gcc 14.2.1 20241104 (Red Hat 14.2.1-6) Debian Bullseye Kernel: Depends on container host Compiler: gcc (Debian 10.2.1-6) 10.2.1 20210110 Debian 12 Kernel: Depends on container host Compiler: gcc (Debian 12.2.0-14) 12.2.0 RHEL9 Kernel: Depends on container host Compiler: gcc 11.5.0 20240719 (Red Hat 11.5.0-2) RHEL8 Kernel: Depends on container host Compiler: gcc 8.5.0 20210514 (Red Hat 8.5.0-22) Fedora 41 (Clang) Kernel: Depends on container host Compiler: clang 19.1.5 (Fedora 19.1.5-1.fc41) openSUSE Leap 15 Kernel: Depends on container host Compiler: gcc (SUSE Linux) 7.5.0 Fedora 41 Kernel: Depends on container host Compiler: gcc 14.2.1 20240912 (Red Hat 14.2.1-3) Ubuntu 20.04 Kernel: Depends on container host Compiler: gcc (Ubuntu 9.4.0-1ubuntu1~20.04.2) 9.4.0 Ubuntu 22.04 Kernel: Depends on container host Compiler: gcc (Ubuntu 11.4.0-1ubuntu1~22.04) 11.4.0 Ubuntu 24.04 Kernel: Depends on container host Compiler: gcc (Ubuntu 13.3.0-6ubuntu2~24.04) 13.3.0 Alpine Kernel: Depends on container host Compiler: gcc (Alpine 14.2.0) 14.2.0 FreeBSD 13.4 Kernel: 13.4-RELEASE-p1 Compiler: clang 18.1.6 FreeBSD 14.2 Kernel: 14.2-RELEASE Compiler: clang 18.1.6 Fedora 40 Kernel: Depends on container host Compiler: gcc 14.2.1 20240912 (Red Hat 14.2.1-3) Windows Server 2022 Kernel: 10.0.20348.2031 Compiler: clang 15.0.7, gcc 14.1.0 (MinGW), and MSVC VS 19.39.33521 To view detailed results, visit: https://lab.dpdk.org/results/dashboard/patchsets/32586/ UNH-IOL DPDK Community Lab To manage your email subscriptions, visit: https://lab.dpdk.org/results/dashboard/preferences/subscriptions/