From mboxrd@z Thu Jan 1 00:00:00 1970 Return-Path: Received: from mails.dpdk.org (mails.dpdk.org [217.70.189.124]) by inbox.dpdk.org (Postfix) with ESMTP id A62664623C for ; Sun, 16 Feb 2025 17:38:31 +0100 (CET) Received: from mails.dpdk.org (localhost [127.0.0.1]) by mails.dpdk.org (Postfix) with ESMTP id 81C9640156; Sun, 16 Feb 2025 17:38:31 +0100 (CET) Received: from mail-pl1-f227.google.com (mail-pl1-f227.google.com [209.85.214.227]) by mails.dpdk.org (Postfix) with ESMTP id AB2FB40150 for ; Sun, 16 Feb 2025 17:38:30 +0100 (CET) Received: by mail-pl1-f227.google.com with SMTP id d9443c01a7336-21c2f1b610dso90501815ad.0 for ; Sun, 16 Feb 2025 08:38:30 -0800 (PST) DKIM-Signature: v=1; a=rsa-sha256; c=relaxed/relaxed; d=iol.unh.edu; s=unh-iol; t=1739723910; x=1740328710; darn=dpdk.org; h=cc:to:from:subject:message-id:date:from:to:cc:subject:date :message-id:reply-to; bh=twn+acz7XGyyqXQiCFn1dCNXthuQCbLpmpfrT48Hg0o=; b=imP/6b4lVxxIEus2HG5sDqS0K0zKx3Wbogqgl5jJfE9pnU+9lXi6cJZiTdBZB2v0wb XSJYqUzrVD/OmhpFc+Thiiglhx+ouLd0LtgYurer/a9uOx3qgiegBdZeSQbJxRsdOztf spwkhLPTmLE68VCN+KLBMoF6rxoS80MU2Bv0U= X-Google-DKIM-Signature: v=1; a=rsa-sha256; c=relaxed/relaxed; d=1e100.net; s=20230601; t=1739723910; x=1740328710; h=cc:to:from:subject:message-id:date:x-gm-message-state:from:to:cc :subject:date:message-id:reply-to; bh=twn+acz7XGyyqXQiCFn1dCNXthuQCbLpmpfrT48Hg0o=; b=Bujk2IcqFCzBx7jNCOT3upQnQ0Fwb69Q3+bJczY3hFgfEWRn1CBP/06bKLQV8o29wc U0RqIOgNZvqHl9Rg7e/UcQ1uihMCTAofW6t+cpegHMFuL5892/FLYkNwQT4hQ65RxApy c3gHH3PWgX2QBvWzgTR6QAi4QEHyCzPu5ixVlsh/285T5cMr4bDQyDPy4CidVVyaxiTK drpHnY3V7D985i9eszudPE2KzeLhDAKdmTmAxpB2b9QgJ9KQFTPf66rkV8AtKgbEtZLt Xq7jEqHKAqN7slKBbsUFFsgZPoVujE/6LTkddQOCJYKVA8XG5ElIafCA8HBtVDlZvN1A K0uA== X-Gm-Message-State: AOJu0Yy+i+oR9wtSgk0UbWzi2BzL9O+20RFF7K+Z6fzVHSyii+TG0f0W 0ELc3UDh1WOCd8mbwKcCmx/MSSsfuDb4ePpYNEahEjoDQX5+oSJK0HAbJQBF+Ca2oSFGufTjB9d xEKE3qGLQXsDK6/nJ2vstLgEOEDM/mI0QHKVqBwZKnoT7M99I X-Gm-Gg: ASbGncuwFcyAaWz5aGGHcJlTUQmGMl8Y22sCZTUiZyAJtExmWYJRDcrRJ9ZqwxZwVEq dMOG7DLr5ORGHBOqBo4AblYBO0Gt3DTvIWmUcTGeMgZZ+QpaMPBVyL1LiNkc4aSbX7KucULHzmq UoYA7fvJ2IAnZsStOgBM6RmduXZNl+Av7eaxPlya0EEXOwKbJp5QYvvS9tmY+GISQyiI/8BqJqV u2EUltGRoW6FLVW4Dwlq/9qQaRqIXFnv9HKNKw1UMNMvxGxkE9J+As39iddb6qfMeBycGHLeWE/ u09trEWxbDWRiGfEq/lFoDxf9vPdCH2O1WKrf+cK7g== X-Google-Smtp-Source: AGHT+IG9UpuQGHBkd+EdUrhYmH7S6duJtK4qs2TbY1vkcHia3fXFOs/grAL6/3FiToT25rIqfBmC/hBKR26d X-Received: by 2002:a17:903:2f88:b0:221:331:1d4e with SMTP id d9443c01a7336-22103efedc3mr103463265ad.7.1739723909718; Sun, 16 Feb 2025 08:38:29 -0800 (PST) Received: from postal.iol.unh.edu (postal.iol.unh.edu. [2606:4100:3880:1234::84]) by smtp-relay.gmail.com with ESMTPS id d9443c01a7336-220d5423b2fsm3800185ad.113.2025.02.16.08.38.29 (version=TLS1_2 cipher=ECDHE-ECDSA-AES128-GCM-SHA256 bits=128/128); Sun, 16 Feb 2025 08:38:29 -0800 (PST) X-Relaying-Domain: iol.unh.edu Date: Sun, 16 Feb 2025 08:38:29 -0800 (PST) Message-ID: <67b21485.170a0220.2c8e94.33cdSMTPIN_ADDED_MISSING@mx.google.com> Received: from [172.17.0.4] (unknown [172.18.0.217]) by postal.iol.unh.edu (Postfix) with ESMTP id 8080F6052471; Sun, 16 Feb 2025 11:38:28 -0500 (EST) Subject: |SUCCESS| [GIT MASTER] 5a7e0e1cfe70bc32fc87ef7141fac01bc27ae73f From: dpdklab@iol.unh.edu To: Test Report Cc: dpdk-test-reports@iol.unh.edu, Xueming Li , Christian Ehrhardt , Kevin Traynor , Luca Boccassi Content-Type: text/plain X-BeenThere: test-report@dpdk.org X-Mailman-Version: 2.1.29 Precedence: list List-Id: automatic DPDK test reports List-Unsubscribe: , List-Archive: List-Post: List-Help: List-Subscribe: , Errors-To: test-report-bounces@dpdk.org _Testing PASS_ Branch: 23.11-staging 5a7e0e1cfe70bc32fc87ef7141fac01bc27ae73f --> testing pass Upstream job id: Generic-Unit-Test-DPDK#315372 Test environment and result as below: +---------------------+----------------+ | Environment | dpdk_unit_test | +=====================+================+ | Debian 12 | PASS | +---------------------+----------------+ | CentOS Stream 10 | PASS | +---------------------+----------------+ | CentOS Stream 9 | PASS | +---------------------+----------------+ | Debian Bullseye | PASS | +---------------------+----------------+ | Fedora 40 | PASS | +---------------------+----------------+ | Fedora 41 (Clang) | PASS | +---------------------+----------------+ | RHEL8 | PASS | +---------------------+----------------+ | Fedora 41 | PASS | +---------------------+----------------+ | RHEL9 | PASS | +---------------------+----------------+ | Ubuntu 20.04 | PASS | +---------------------+----------------+ | Fedora 40 (Clang) | PASS | +---------------------+----------------+ | Ubuntu 24.04 | PASS | +---------------------+----------------+ | Ubuntu 22.04 | PASS | +---------------------+----------------+ | Windows Server 2022 | PASS | +---------------------+----------------+ Debian 12 Kernel: Depends on container host Compiler: gcc (Debian 12.2.0-14) 12.2.0 CentOS Stream 10 Kernel: Depends on container host Compiler: gcc 14.2.1 20241104 (Red Hat 14.2.1-6) CentOS Stream 9 Kernel: Depends on container host Compiler: gcc 11.5.0 20240719 (Red Hat 11.5.0-2) Debian Bullseye Kernel: Depends on container host Compiler: gcc (Debian 10.2.1-6) 10.2.1 20210110 Fedora 40 Kernel: Depends on container host Compiler: gcc 14.2.1 20240912 (Red Hat 14.2.1-3) Fedora 41 (Clang) Kernel: Depends on container host Compiler: clang 19.1.5 (Fedora 19.1.5-1.fc41) RHEL8 Kernel: Depends on container host Compiler: gcc 8.5.0 20210514 (Red Hat 8.5.0-22) Fedora 41 Kernel: Depends on container host Compiler: gcc 14.2.1 20240912 (Red Hat 14.2.1-3) RHEL9 Kernel: Depends on container host Compiler: gcc 11.5.0 20240719 (Red Hat 11.5.0-2) Ubuntu 20.04 Kernel: Depends on container host Compiler: gcc (Ubuntu 9.4.0-1ubuntu1~20.04.2) 9.4.0 Fedora 40 (Clang) Kernel: Depends on container host Compiler: clang 18.1.8 (Fedora 18.1.8-1.fc40) Ubuntu 24.04 Kernel: Depends on container host Compiler: gcc (Ubuntu 13.3.0-6ubuntu2~24.04) 13.3.0 Ubuntu 22.04 Kernel: Depends on container host Compiler: gcc (Ubuntu 11.4.0-1ubuntu1~22.04) 11.4.0 Windows Server 2022 Kernel: 10.0.20348.2031 Compiler: clang 15.0.7, gcc 14.1.0 (MinGW), and MSVC VS 19.39.33521 To view detailed results, visit: https://lab.dpdk.org/results/dashboard/tarballs/32592/ UNH-IOL DPDK Community Lab To manage your email subscriptions, visit: https://lab.dpdk.org/results/dashboard/preferences/subscriptions/