From mboxrd@z Thu Jan 1 00:00:00 1970 Return-Path: Received: from mails.dpdk.org (mails.dpdk.org [217.70.189.124]) by inbox.dpdk.org (Postfix) with ESMTP id A8E6C4623C for ; Sun, 16 Feb 2025 17:51:31 +0100 (CET) Received: from mails.dpdk.org (localhost [127.0.0.1]) by mails.dpdk.org (Postfix) with ESMTP id 9F72B40156; Sun, 16 Feb 2025 17:51:30 +0100 (CET) Received: from mail-pj1-f98.google.com (mail-pj1-f98.google.com [209.85.216.98]) by mails.dpdk.org (Postfix) with ESMTP id 66BAD40150 for ; Sun, 16 Feb 2025 17:51:29 +0100 (CET) Received: by mail-pj1-f98.google.com with SMTP id 98e67ed59e1d1-2fbf77b2b64so6691360a91.2 for ; Sun, 16 Feb 2025 08:51:29 -0800 (PST) DKIM-Signature: v=1; a=rsa-sha256; c=relaxed/relaxed; d=iol.unh.edu; s=unh-iol; t=1739724688; x=1740329488; darn=dpdk.org; h=cc:to:from:subject:message-id:date:from:to:cc:subject:date :message-id:reply-to; bh=oP+fHZv5R2L/jPkUFEiK2YMI80vj3qgTAzuItrfy4Ak=; b=PuF2MI6BXW88v4PulfbLdQKf//k+8CZ+ghXgLc/gB4Cxut84LhOoSVDaSyywbAjzqg ejmEYKRExLyhevv6PaiJICPTp8f62P0JGBdk7+xipodE2tClU6nGtx03ndQBipEP7rud 7IgK6Z0wQaJ0jCQKCJ8jBIGWh/47bnnV6RA3U= X-Google-DKIM-Signature: v=1; a=rsa-sha256; c=relaxed/relaxed; d=1e100.net; s=20230601; t=1739724688; x=1740329488; h=cc:to:from:subject:message-id:date:x-gm-message-state:from:to:cc :subject:date:message-id:reply-to; bh=oP+fHZv5R2L/jPkUFEiK2YMI80vj3qgTAzuItrfy4Ak=; b=sYY9sp4UKeiA4JLpBYTUojCmuwhNelsU8LRrQJ4PPq48Q9aORHV8B876h0XuyyHeMj tDCqT73niLHblGe85zKOpfSMK4+JkOGzNgRYtdRW7H840p9rzkxbd0dJkV9qiHMymu5a urHzhNJhESZpMRTBmI8uItvxBNMwI2iOoJ3XEEz7IjoES7Cmwv4ILa5U3hXTkIVu5isW X2w2s3402MZffsZMwo/gd32KF8hZmhauNMaxgCtIG3LgPgZj2F/GfX+kRu6e7iZcD9bi f86CzXlxnEr/9JvPL0Wl+qHlczMQlNWqro5+gFKE2bCHTgxbT6fF7JdIgl09PIujovpT kdrw== X-Gm-Message-State: AOJu0YxmrQUyfRybzJuCITTIL1NsyJVbPJs/fi94FMrzg4UP8RwkBGI+ KwVoOh1QNTwGNwzKV/HRk3daN5tAv6DxPwyTFwwIEL9FH7VCUwVtqmIrVIKiDYFM2hDBU/TaQmW 8Ja84dR/eDLbL+zv+J9ZdM+ThNEJ+E45s X-Gm-Gg: ASbGncuXB/IrL72BzAmhyHdBHKDNFU6VsZdy3bTe7R3LKI6IYViMFftTEeVfiNJG8UO A5f49rsPdCJEGIHStmPwutUhYJjx5yJEJ3s1//vmAGCdfKdRMuA5cTw4Hi4BNmqM+HMGjXks1S7 dG/Bf/By6kRXdhVGC9ld9erwiEllJOwI9LVaQx8qR+k7NjJrhY+0HbYjy+SqL+uWarIE/4j7k5S swuw39nwU/CrGlaoAskdr1Cm7QYJbPPQmG3Rrm9AWpKqVeTdJqnIzszHiUU7xTXPuVwYVUo26rI rMTuMYkNj9Owjl0vZKMpkpIA0fobVg== X-Google-Smtp-Source: AGHT+IHdQn0asg+j4AyoZk3haKTwuWUBC+04PMqX9VOgTX38r/v/x0cWRBr8vhmbPtkauh7Jv3IcfuSWj0zZ X-Received: by 2002:a17:90b:4c10:b0:2f9:9ddd:68b9 with SMTP id 98e67ed59e1d1-2fc4104a018mr8777850a91.26.1739724688501; Sun, 16 Feb 2025 08:51:28 -0800 (PST) Received: from postal.iol.unh.edu (postal.iol.unh.edu. [132.177.123.84]) by smtp-relay.gmail.com with ESMTPS id 98e67ed59e1d1-2fc13ba730fsm440432a91.13.2025.02.16.08.51.28 (version=TLS1_2 cipher=ECDHE-ECDSA-AES128-GCM-SHA256 bits=128/128); Sun, 16 Feb 2025 08:51:28 -0800 (PST) X-Relaying-Domain: iol.unh.edu Date: Sun, 16 Feb 2025 08:51:28 -0800 (PST) Message-ID: <67b21790.170a0220.2c05ba.61b7SMTPIN_ADDED_MISSING@mx.google.com> Received: from [172.17.0.6] (unknown [172.18.0.217]) by postal.iol.unh.edu (Postfix) with ESMTP id 98F486052471; Sun, 16 Feb 2025 11:51:27 -0500 (EST) Subject: |SUCCESS| [GIT MASTER] 5a7e0e1cfe70bc32fc87ef7141fac01bc27ae73f From: dpdklab@iol.unh.edu To: Test Report Cc: dpdk-test-reports@iol.unh.edu, Xueming Li , Christian Ehrhardt , Kevin Traynor , Luca Boccassi Content-Type: text/plain X-BeenThere: test-report@dpdk.org X-Mailman-Version: 2.1.29 Precedence: list List-Id: automatic DPDK test reports List-Unsubscribe: , List-Archive: List-Post: List-Help: List-Subscribe: , Errors-To: test-report-bounces@dpdk.org _Testing PASS_ Branch: 23.11-staging 5a7e0e1cfe70bc32fc87ef7141fac01bc27ae73f --> testing pass Upstream job id: ACVP-FIPS-testing#8928 Test environment and result as below: +--------------------+----------------------+----------------------+ | Environment | compressdev_zlib_pmd | dpdk_fips_validation | +====================+======================+======================+ | Ubuntu 22.04 (ARM) | PASS | SKIPPED | +--------------------+----------------------+----------------------+ | Ubuntu 22.04 | PASS | SKIPPED | +--------------------+----------------------+----------------------+ | Ubuntu 20.04 | SKIPPED | PASS | +--------------------+----------------------+----------------------+ Ubuntu 22.04 (ARM) Kernel: 5.15.0-97-generic Compiler: gcc gcc (Ubuntu 11.4.0-1ubuntu1~22.04) 11.4.0 Ubuntu 22.04 Kernel: 5.15.0-100-generic Compiler: gcc gcc (Ubuntu 11.4.0-1ubuntu1~22.04) 11.4.0 Ubuntu 20.04 Kernel: Depends on container host Compiler: gcc (Ubuntu 9.4.0-1ubuntu1~20.04.2) 9.4.0 To view detailed results, visit: https://lab.dpdk.org/results/dashboard/tarballs/32592/ UNH-IOL DPDK Community Lab To manage your email subscriptions, visit: https://lab.dpdk.org/results/dashboard/preferences/subscriptions/