From mboxrd@z Thu Jan 1 00:00:00 1970 Return-Path: Received: from mails.dpdk.org (mails.dpdk.org [217.70.189.124]) by inbox.dpdk.org (Postfix) with ESMTP id 9323D4623D for ; Sun, 16 Feb 2025 18:40:48 +0100 (CET) Received: from mails.dpdk.org (localhost [127.0.0.1]) by mails.dpdk.org (Postfix) with ESMTP id 7D0DA40144; Sun, 16 Feb 2025 18:40:48 +0100 (CET) Received: from mail-io1-f99.google.com (mail-io1-f99.google.com [209.85.166.99]) by mails.dpdk.org (Postfix) with ESMTP id C0771400EF for ; Sun, 16 Feb 2025 18:40:46 +0100 (CET) Received: by mail-io1-f99.google.com with SMTP id ca18e2360f4ac-851c4f1fb18so148262539f.2 for ; Sun, 16 Feb 2025 09:40:46 -0800 (PST) DKIM-Signature: v=1; a=rsa-sha256; c=relaxed/relaxed; d=iol.unh.edu; s=unh-iol; t=1739727646; x=1740332446; darn=dpdk.org; h=cc:to:from:subject:message-id:date:from:to:cc:subject:date :message-id:reply-to; bh=Ox/XE9J5r5j7sAcWqX+JIWEVvihvhD0ixP9pjKNz9Ic=; b=PYPMWRP66HrzPj6C5Tp49zSr9+NLC/tjQ6FSHgdqeqD8d0uE0C1DROvd8X079ejDIm lkzS6/32f1XBUm7q6Bsm8bF0/Ub4pD1rCa1kCyyP+1A5Zl1O977bm2eOwIWgdEsWkIZi EvFI18FdV2AhlsZL3bA0dG69MzgyyfvzXKfHk= X-Google-DKIM-Signature: v=1; a=rsa-sha256; c=relaxed/relaxed; d=1e100.net; s=20230601; t=1739727646; x=1740332446; h=cc:to:from:subject:message-id:date:x-gm-message-state:from:to:cc :subject:date:message-id:reply-to; bh=Ox/XE9J5r5j7sAcWqX+JIWEVvihvhD0ixP9pjKNz9Ic=; b=DNsLGxIo5KYxiUTtU0SxSp0z0PohXgw1yxu2XQFGxDBR5J7bHzC+p1oAQtvesdjzFb HYb81JBTlYZcxNKURlPuCBL8t3EpoCfIfCucy4B8D0mP+3mEMZ5hvH/VvCW3kXqxoMsX U6qRIpg3ZUF5NekuiYsDfyvu+hWyyouZG5ddTSE2Gxwfr8DOsWhsHU6PmTfNEQikngsd AQ3vepnbr/BrfQoV4jw/WPJeM7CFUS1kuwYUKqG2LF3KGyD0XR8gSXXgfvU3bwzABCAi 2rhGF5RphoFxCCQLMzHLNgEaKefpnufPuOR2jV5B8JHKcgTaePOOnxuUNT+1iZp+n1am AW4Q== X-Gm-Message-State: AOJu0YxyDjKPdwOfJKQoqf+Ue2eNJvApIbyQtqpFZi3j9gAmQ1Im6sBT hkTjpSNfJdo/IHqKqFE7xcIfVLyH+Ua6dBmwK/RyHPIiW+AwsGZFL4QHTv1mcEcDGaERN7+wOl8 0v7bMmKabYUiKmC0TdjTdsgRBC6N0SB+H X-Gm-Gg: ASbGncuNN7p0pLogfWSWOkOhawCnoEnuIB2wP31R/J94VZnBd1Djidvv1FzhlFau3u8 eZLvt2apfbLVkJFcKIQ5eFAruK7Mjh7ZCUFmCgSkpJ/kwqo0sy6UieDxMushwsp2+yXf2kPFkew s9XgCanR/7CraDpeXKxsssqMYsbdxLX0p1p6JlPTyK0uBrC7Tsn/lrBx5UGykzEaGUitIbJ1+Zc 4sF7+ko8gx5zy6nZwbYUyArfyYq3AUKONZ/hJzcpqDD/W2izdX4VNJ6VlZy2D57MLlX9OGUd04I vy0u/7mIE7XY8tUX72F/U8hA/jmwTQ== X-Google-Smtp-Source: AGHT+IHl5tVO6RYc9O+N627gPPb5bGW/v+fyjnSDHcX92S+eVJyYTHNyqdz0mP2nNN2iqASe6/2OW+YrjXZm X-Received: by 2002:a05:6602:2c81:b0:855:4192:580d with SMTP id ca18e2360f4ac-8557a0bac63mr499590439f.6.1739727646053; Sun, 16 Feb 2025 09:40:46 -0800 (PST) Received: from postal.iol.unh.edu (postal.iol.unh.edu. [132.177.123.84]) by smtp-relay.gmail.com with ESMTPS id ca18e2360f4ac-85566e0f604sm24462039f.4.2025.02.16.09.40.45 (version=TLS1_2 cipher=ECDHE-ECDSA-AES128-GCM-SHA256 bits=128/128); Sun, 16 Feb 2025 09:40:46 -0800 (PST) X-Relaying-Domain: iol.unh.edu Date: Sun, 16 Feb 2025 09:40:46 -0800 (PST) Message-ID: <67b2231e.5e0a0220.6e621.c45eSMTPIN_ADDED_MISSING@mx.google.com> Received: from [172.21.0.7] (unknown [172.18.0.240]) by postal.iol.unh.edu (Postfix) with ESMTP id 7CDC26052471; Sun, 16 Feb 2025 12:40:45 -0500 (EST) Subject: |SUCCESS| [GIT MASTER] 5a7e0e1cfe70bc32fc87ef7141fac01bc27ae73f From: dpdklab@iol.unh.edu To: Test Report Cc: dpdk-test-reports@iol.unh.edu, Xueming Li , Christian Ehrhardt , Kevin Traynor , Luca Boccassi Content-Type: text/plain X-BeenThere: test-report@dpdk.org X-Mailman-Version: 2.1.29 Precedence: list List-Id: automatic DPDK test reports List-Unsubscribe: , List-Archive: List-Post: List-Help: List-Subscribe: , Errors-To: test-report-bounces@dpdk.org _Testing PASS_ Branch: 23.11-staging 5a7e0e1cfe70bc32fc87ef7141fac01bc27ae73f --> testing pass Upstream job id: Generic-DPDK-Compile-Meson#362082 Test environment and result as below: +---------------------+--------------------+-------------------+------------------+-------------------------+-------------------+----------------------+ | Environment | dpdk_meson_compile | dpdk_compile_spdk | dpdk_compile_ovs | dpdk_llvm_clang_compile | dpdk_msvc_compile | dpdk_mingw64_compile | +=====================+====================+===================+==================+=========================+===================+======================+ | CentOS Stream 9 | PASS | PASS | SKIPPED | SKIPPED | SKIPPED | SKIPPED | +---------------------+--------------------+-------------------+------------------+-------------------------+-------------------+----------------------+ | CentOS Stream 10 | PASS | SKIPPED | SKIPPED | SKIPPED | SKIPPED | SKIPPED | +---------------------+--------------------+-------------------+------------------+-------------------------+-------------------+----------------------+ | Debian Bullseye | PASS | PASS | SKIPPED | SKIPPED | SKIPPED | SKIPPED | +---------------------+--------------------+-------------------+------------------+-------------------------+-------------------+----------------------+ | Fedora 40 (Clang) | PASS | PASS | SKIPPED | SKIPPED | SKIPPED | SKIPPED | +---------------------+--------------------+-------------------+------------------+-------------------------+-------------------+----------------------+ | Debian 12 | PASS | PASS | SKIPPED | SKIPPED | SKIPPED | SKIPPED | +---------------------+--------------------+-------------------+------------------+-------------------------+-------------------+----------------------+ | Fedora 40 | PASS | PASS | SKIPPED | SKIPPED | SKIPPED | SKIPPED | +---------------------+--------------------+-------------------+------------------+-------------------------+-------------------+----------------------+ | openSUSE Leap 15 | PASS | SKIPPED | SKIPPED | SKIPPED | SKIPPED | SKIPPED | +---------------------+--------------------+-------------------+------------------+-------------------------+-------------------+----------------------+ | Fedora 41 | PASS | PASS | PASS | SKIPPED | SKIPPED | SKIPPED | +---------------------+--------------------+-------------------+------------------+-------------------------+-------------------+----------------------+ | Ubuntu 20.04 | PASS | SKIPPED | SKIPPED | SKIPPED | SKIPPED | SKIPPED | +---------------------+--------------------+-------------------+------------------+-------------------------+-------------------+----------------------+ | RHEL9 | PASS | SKIPPED | SKIPPED | SKIPPED | SKIPPED | SKIPPED | +---------------------+--------------------+-------------------+------------------+-------------------------+-------------------+----------------------+ | RHEL8 | PASS | SKIPPED | SKIPPED | SKIPPED | SKIPPED | SKIPPED | +---------------------+--------------------+-------------------+------------------+-------------------------+-------------------+----------------------+ | Ubuntu 22.04 | PASS | PASS | SKIPPED | SKIPPED | SKIPPED | SKIPPED | +---------------------+--------------------+-------------------+------------------+-------------------------+-------------------+----------------------+ | Ubuntu 24.04 | PASS | PASS | PASS | SKIPPED | SKIPPED | SKIPPED | +---------------------+--------------------+-------------------+------------------+-------------------------+-------------------+----------------------+ | Alpine | PASS | SKIPPED | SKIPPED | SKIPPED | SKIPPED | SKIPPED | +---------------------+--------------------+-------------------+------------------+-------------------------+-------------------+----------------------+ | FreeBSD 13.4 | PASS | SKIPPED | SKIPPED | SKIPPED | SKIPPED | SKIPPED | +---------------------+--------------------+-------------------+------------------+-------------------------+-------------------+----------------------+ | FreeBSD 14.2 | PASS | SKIPPED | SKIPPED | SKIPPED | SKIPPED | SKIPPED | +---------------------+--------------------+-------------------+------------------+-------------------------+-------------------+----------------------+ | Fedora 41 (Clang) | PASS | PASS | PASS | SKIPPED | SKIPPED | SKIPPED | +---------------------+--------------------+-------------------+------------------+-------------------------+-------------------+----------------------+ | Windows Server 2022 | SKIPPED | SKIPPED | SKIPPED | PASS | PASS | PASS | +---------------------+--------------------+-------------------+------------------+-------------------------+-------------------+----------------------+ CentOS Stream 9 Kernel: Depends on container host Compiler: gcc 11.5.0 20240719 (Red Hat 11.5.0-2) CentOS Stream 10 Kernel: Depends on container host Compiler: gcc 14.2.1 20241104 (Red Hat 14.2.1-6) Debian Bullseye Kernel: Depends on container host Compiler: gcc (Debian 10.2.1-6) 10.2.1 20210110 Fedora 40 (Clang) Kernel: Depends on container host Compiler: clang 18.1.8 (Fedora 18.1.8-1.fc40) Debian 12 Kernel: Depends on container host Compiler: gcc (Debian 12.2.0-14) 12.2.0 Fedora 40 Kernel: Depends on container host Compiler: gcc 14.2.1 20240912 (Red Hat 14.2.1-3) openSUSE Leap 15 Kernel: Depends on container host Compiler: gcc (SUSE Linux) 7.5.0 Fedora 41 Kernel: Depends on container host Compiler: gcc 14.2.1 20240912 (Red Hat 14.2.1-3) Ubuntu 20.04 Kernel: Depends on container host Compiler: gcc (Ubuntu 9.4.0-1ubuntu1~20.04.2) 9.4.0 RHEL9 Kernel: Depends on container host Compiler: gcc 11.5.0 20240719 (Red Hat 11.5.0-2) RHEL8 Kernel: Depends on container host Compiler: gcc 8.5.0 20210514 (Red Hat 8.5.0-22) Ubuntu 22.04 Kernel: Depends on container host Compiler: gcc (Ubuntu 11.4.0-1ubuntu1~22.04) 11.4.0 Ubuntu 24.04 Kernel: Depends on container host Compiler: gcc (Ubuntu 13.3.0-6ubuntu2~24.04) 13.3.0 Alpine Kernel: Depends on container host Compiler: gcc (Alpine 14.2.0) 14.2.0 FreeBSD 13.4 Kernel: 13.4-RELEASE-p1 Compiler: clang 18.1.6 FreeBSD 14.2 Kernel: 14.2-RELEASE Compiler: clang 18.1.6 Fedora 41 (Clang) Kernel: Depends on container host Compiler: clang 19.1.5 (Fedora 19.1.5-1.fc41) Windows Server 2022 Kernel: 10.0.20348.2031 Compiler: clang 15.0.7, gcc 14.1.0 (MinGW), and MSVC VS 19.39.33521 To view detailed results, visit: https://lab.dpdk.org/results/dashboard/tarballs/32592/ UNH-IOL DPDK Community Lab To manage your email subscriptions, visit: https://lab.dpdk.org/results/dashboard/preferences/subscriptions/