From mboxrd@z Thu Jan 1 00:00:00 1970 Return-Path: Received: from mails.dpdk.org (mails.dpdk.org [217.70.189.124]) by inbox.dpdk.org (Postfix) with ESMTP id C3B724623D for ; Sun, 16 Feb 2025 19:02:47 +0100 (CET) Received: from mails.dpdk.org (localhost [127.0.0.1]) by mails.dpdk.org (Postfix) with ESMTP id 9D8F140144; Sun, 16 Feb 2025 19:02:47 +0100 (CET) Received: from mail-pl1-f225.google.com (mail-pl1-f225.google.com [209.85.214.225]) by mails.dpdk.org (Postfix) with ESMTP id 5703D400EF for ; Sun, 16 Feb 2025 19:02:46 +0100 (CET) Received: by mail-pl1-f225.google.com with SMTP id d9443c01a7336-220c8f38febso65022155ad.2 for ; Sun, 16 Feb 2025 10:02:46 -0800 (PST) DKIM-Signature: v=1; a=rsa-sha256; c=relaxed/relaxed; d=iol.unh.edu; s=unh-iol; t=1739728965; x=1740333765; darn=dpdk.org; h=references:in-reply-to:cc:to:from:subject:message-id:date:from:to :cc:subject:date:message-id:reply-to; bh=+HO+rX7EP2VrzX+WYbN3rt7u6/w7uz4knApFSZSjZr4=; b=LgkyYJAh8o8tpwVjoCq5pwTbEA57RmQ2n5qI+W0hP+6wXQvhaSIVOd2/wAXZ6NsySt jkOqwzomGOt7lMY8iMkFsW9NAIV5kEYRwTxWmRz352xiiih68xHESev9FSlxoviV1B5y CjJZP9jgIsRZQS3JEfryfql7UJ0JwwT/XxCmg= X-Google-DKIM-Signature: v=1; a=rsa-sha256; c=relaxed/relaxed; d=1e100.net; s=20230601; t=1739728965; x=1740333765; h=references:in-reply-to:cc:to:from:subject:message-id:date :x-gm-message-state:from:to:cc:subject:date:message-id:reply-to; bh=+HO+rX7EP2VrzX+WYbN3rt7u6/w7uz4knApFSZSjZr4=; b=iUCU2BZRLx415ipFyZ0BsOIxPoHHdgQ0C6plEeHYGQ73AUFS/CPAL4E6NSH8PRW3a2 9RZSF2drTiDNLXYYNK64ymHabSD+0SkO25KHpG9vO55HfaQwVN1/dmlTyM0iRdlmr2pc yyaPXkTD+ehq9S10ir0ZC5XEAo+pBgnzLT15pAhrouaTOh1H2zBnAh0Moj4bYrEWxp0F yqHHiCZSFOupOcPciDpAfD5PQPfOTNUqU8rklRHslZchwSKKj8v8UvN2FZP5MoA8hTP/ IF5hTtatA4fy1VGo66pBnhfZ5bcbJavPsSC1tvqMy6FwN3hiuA3/36uaDV3hY+TB18NH Nsqw== X-Gm-Message-State: AOJu0YzJXjpaWZfcHjls/UqK7rcRMl0uQKliqRUKki9g1QAVUCvM0Z4j sv4cmi/3dzyCD8vuE7r/cdORCdKG19IoFMYN8X4rwb3gj0jo9sK7s9wwC4gg3U9ctLi0EiqzJH4 ZAgDDYlXeDK3aQaaQpHyyAumlIILE1c218hbH3T1kaHKqgGUatS57sd2Z X-Gm-Gg: ASbGncvLp/68+UG8x4xl1X6M1qCVH+xWK+DcI4OgMrBJQosxxmECSZSQwfl2M0xx6BO dPFoefc6ZrAtjIPqoM4I2iCpXBuZCCTLwJSVnoeXOiO5KCu/jrJzLtmIA7iMvh+UZ7MZ03SC9GR UEYeYCdIlRsyQTK0cg8SD3JNyL7G8MfZQXIX/VOGhm2ePHykDNDVlLj7501zUbFp64dtXcHLU2b 0qNqlqSgsI7hbVVjjGjXoIBEMS46LFAuqmF4ngY91/WrNpp0t0AjIql9r5s19nl88gx9u6qQ4iK EfhMIeb/ozBnp1yq8o4jvx+lJ8woNlWTvOE9ds7yVw== X-Google-Smtp-Source: AGHT+IFjw1nnRnKQV66QSDVfSsptlyfKrl1pIpRlFhafHBIzio8w/mMOqtWkOXeXeUxudPcL49AC1iHiblYs X-Received: by 2002:a17:903:3d0c:b0:215:6cb2:7877 with SMTP id d9443c01a7336-22103efa555mr112339455ad.4.1739728965450; Sun, 16 Feb 2025 10:02:45 -0800 (PST) Received: from postal.iol.unh.edu (postal.iol.unh.edu. [2606:4100:3880:1234::84]) by smtp-relay.gmail.com with ESMTPS id d9443c01a7336-220d543d675sm3951655ad.128.2025.02.16.10.02.45 (version=TLS1_2 cipher=ECDHE-ECDSA-AES128-GCM-SHA256 bits=128/128); Sun, 16 Feb 2025 10:02:45 -0800 (PST) X-Relaying-Domain: iol.unh.edu Date: Sun, 16 Feb 2025 10:02:45 -0800 (PST) Message-ID: <67b22845.170a0220.1efae0.3e0dSMTPIN_ADDED_MISSING@mx.google.com> Received: from [172.21.0.6] (unknown [172.18.0.240]) by postal.iol.unh.edu (Postfix) with ESMTP id D66856052471; Sun, 16 Feb 2025 13:02:44 -0500 (EST) Subject: |SUCCESS| pw151533 [PATCH] [1/1] pcapng: fix null dereference in rte From: dpdklab@iol.unh.edu To: Test Report Cc: dpdk-test-reports@iol.unh.edu In-Reply-To: <20250216160833.3216001-2-ariel.otilibili@6wind.com> References: <20250216160833.3216001-2-ariel.otilibili@6wind.com> Content-Type: text/plain X-BeenThere: test-report@dpdk.org X-Mailman-Version: 2.1.29 Precedence: list List-Id: automatic DPDK test reports List-Unsubscribe: , List-Archive: List-Post: List-Help: List-Subscribe: , Errors-To: test-report-bounces@dpdk.org Test-Label: iol-unit-amd64-testing Test-Status: SUCCESS http://dpdk.org/patch/151533 _Testing PASS_ Submitter: Ariel Otilibili Date: Sunday, February 16 2025 16:08:33 DPDK git baseline: Repo:dpdk Branch: master CommitID:e5176f23ae8b31437c3e5eb875c81f95bf3a9942 151533 --> testing pass Upstream job id: Generic-VM-Unit-Test-DPDK#27248 Test environment and result as below: +---------------------+----------------+ | Environment | dpdk_unit_test | +=====================+================+ | Debian Bullseye | PASS | +---------------------+----------------+ | CentOS Stream 9 | PASS | +---------------------+----------------+ | CentOS Stream 10 | PASS | +---------------------+----------------+ | Debian 12 | PASS | +---------------------+----------------+ | Fedora 40 | PASS | +---------------------+----------------+ | Fedora 40 (Clang) | PASS | +---------------------+----------------+ | Fedora 41 | PASS | +---------------------+----------------+ | Fedora 41 (Clang) | PASS | +---------------------+----------------+ | Ubuntu 20.04 | PASS | +---------------------+----------------+ | RHEL8 | PASS | +---------------------+----------------+ | Ubuntu 22.04 | PASS | +---------------------+----------------+ | RHEL9 | PASS | +---------------------+----------------+ | Ubuntu 24.04 | PASS | +---------------------+----------------+ | Windows Server 2022 | PASS | +---------------------+----------------+ Debian Bullseye Kernel: Depends on container host Compiler: gcc (Debian 10.2.1-6) 10.2.1 20210110 CentOS Stream 9 Kernel: Depends on container host Compiler: gcc 11.5.0 20240719 (Red Hat 11.5.0-2) CentOS Stream 10 Kernel: Depends on container host Compiler: gcc 14.2.1 20241104 (Red Hat 14.2.1-6) Debian 12 Kernel: Depends on container host Compiler: gcc (Debian 12.2.0-14) 12.2.0 Fedora 40 Kernel: Depends on container host Compiler: gcc 14.2.1 20240912 (Red Hat 14.2.1-3) Fedora 40 (Clang) Kernel: Depends on container host Compiler: clang 18.1.8 (Fedora 18.1.8-1.fc40) Fedora 41 Kernel: Depends on container host Compiler: gcc 14.2.1 20240912 (Red Hat 14.2.1-3) Fedora 41 (Clang) Kernel: Depends on container host Compiler: clang 19.1.5 (Fedora 19.1.5-1.fc41) Ubuntu 20.04 Kernel: Depends on container host Compiler: gcc (Ubuntu 9.4.0-1ubuntu1~20.04.2) 9.4.0 RHEL8 Kernel: Depends on container host Compiler: gcc 8.5.0 20210514 (Red Hat 8.5.0-22) Ubuntu 22.04 Kernel: Depends on container host Compiler: gcc (Ubuntu 11.4.0-1ubuntu1~22.04) 11.4.0 RHEL9 Kernel: Depends on container host Compiler: gcc 11.5.0 20240719 (Red Hat 11.5.0-2) Ubuntu 24.04 Kernel: Depends on container host Compiler: gcc (Ubuntu 13.3.0-6ubuntu2~24.04) 13.3.0 Windows Server 2022 Kernel: 10.0.20348.2031 Compiler: clang 15.0.7, gcc 14.1.0 (MinGW), and MSVC VS 19.39.33521 To view detailed results, visit: https://lab.dpdk.org/results/dashboard/patchsets/32589/ UNH-IOL DPDK Community Lab To manage your email subscriptions, visit: https://lab.dpdk.org/results/dashboard/preferences/subscriptions/