From mboxrd@z Thu Jan 1 00:00:00 1970 Return-Path: Received: from mails.dpdk.org (mails.dpdk.org [217.70.189.124]) by inbox.dpdk.org (Postfix) with ESMTP id 8D0A94623D for ; Sun, 16 Feb 2025 19:21:48 +0100 (CET) Received: from mails.dpdk.org (localhost [127.0.0.1]) by mails.dpdk.org (Postfix) with ESMTP id 699CE40144; Sun, 16 Feb 2025 19:21:48 +0100 (CET) Received: from mail-oo1-f97.google.com (mail-oo1-f97.google.com [209.85.161.97]) by mails.dpdk.org (Postfix) with ESMTP id 16C1D400EF for ; Sun, 16 Feb 2025 19:21:47 +0100 (CET) Received: by mail-oo1-f97.google.com with SMTP id 006d021491bc7-5fcb3ee41c5so878853eaf.1 for ; Sun, 16 Feb 2025 10:21:46 -0800 (PST) DKIM-Signature: v=1; a=rsa-sha256; c=relaxed/relaxed; d=iol.unh.edu; s=unh-iol; t=1739730106; x=1740334906; darn=dpdk.org; h=references:in-reply-to:cc:to:from:subject:message-id:date:from:to :cc:subject:date:message-id:reply-to; bh=+lqw7p9wTL2JwsxuSn1gKlnsCTasLQ6WxEppwYpEkbA=; b=YymsIUql8aTme6YjqErA0XZhKU7gxYKKLjul/uQON/lBl/uNSvPU7qhCxB5zjA0GEd QpzdXaEOlzeA9P6qsmU1h6+yx+YCtW6yUsNNI2MXmzqaqGfcxg6+BlyxDThJ0FPI1TaB s6eCf3fJi5mVMuxgE/hNJKT0H9c7xkOaB8AGo= X-Google-DKIM-Signature: v=1; a=rsa-sha256; c=relaxed/relaxed; d=1e100.net; s=20230601; t=1739730106; x=1740334906; h=references:in-reply-to:cc:to:from:subject:message-id:date :x-gm-message-state:from:to:cc:subject:date:message-id:reply-to; bh=+lqw7p9wTL2JwsxuSn1gKlnsCTasLQ6WxEppwYpEkbA=; b=bof4mFHF+nuMN+yIr9bBa14mwIY0620cOL+LQHywOk2rWoxl7FB3mcxcyjRU+ivyOv oulQAnGdTTsb1HgVmCRPb7xyAQzTWrfdXFjHS4snrxEwWXHdh1C9Ef9AsomSPOzwDkHm d54PkqrkbH0pCUyKc6eFSkQpvTZ9IRRnM2AYMvaJkIyYHbyPJYfVMe+cknVKsEC8K0ni gS9zCClLyIqxoFcohOJdSW5acbhS8JR7V5lYuUAydozY79UZAjD8J4z78G1MEOwMlQLE mEotDXk5/Wwz4b1kCSN3gZCWkH8fhRd6BMOSra+2bg5ej5nZqZ70fAoptz9hurdhJZfN 8qTA== X-Gm-Message-State: AOJu0YzC7lWj7Rb1Fvuwez4j96PoxMCYYJn9Mdzd5+b4iSBg+Gpf3TtJ zsGG2BywiWjs8BoIB+RRpvtWUZoSg9r4C7E9gor1uDXlooQVj2DLaoz0S3PZrwqDOjfRy9osUEC lP0xA/rAZseDuw8UwnFZhQ/Qh4GWMtT5UQBWF7NhSbm9jgVFcKPeTd/bR X-Gm-Gg: ASbGncuh+eKBa4lxWUZDfdOvSLbelxZOtuTwA6xB3ni7x3zZBqCRByqP5XJLofscMl6 e+9Xvsnpn5uNXQML7VKMEzmlZo0uvg4iUAsaR7/4/Dvu+F1c5DCjvXpWsoQAb+HuQkF21/zaP5n yZ41hC6tCRL5arf0R9YWnCdW3xIgQEjXCwRuzg3WP/K2BC+vVNxvFHy1+9qZi8iScifIMDqgDOL 0FPKr/9n6loUwv5KdBssW/LwisfbjnBe5zaDtyqmmiylW7/QnLmRiJ5gXfyX/7svrCaJRBirW+l 0q4UULeBgjpPvz+Pde6ZCosJnCLs5W8wu0tILTGD1g== X-Google-Smtp-Source: AGHT+IFEPiPZp/rfSj6Wnr5QT75PNBqJ271Hp/shdcVBc1tEqHWov90GMk41poXbpjbtnyhQpXWjXyLAjNi8 X-Received: by 2002:a05:6870:828c:b0:29e:3132:5897 with SMTP id 586e51a60fabf-2bc99a07d55mr3817499fac.5.1739730106026; Sun, 16 Feb 2025 10:21:46 -0800 (PST) Received: from postal.iol.unh.edu (postal.iol.unh.edu. [2606:4100:3880:1234::84]) by smtp-relay.gmail.com with ESMTPS id 586e51a60fabf-2b9548e75e5sm472476fac.21.2025.02.16.10.21.45 (version=TLS1_2 cipher=ECDHE-ECDSA-AES128-GCM-SHA256 bits=128/128); Sun, 16 Feb 2025 10:21:46 -0800 (PST) X-Relaying-Domain: iol.unh.edu Date: Sun, 16 Feb 2025 10:21:46 -0800 (PST) Message-ID: <67b22cba.050a0220.a2d35.784aSMTPIN_ADDED_MISSING@mx.google.com> Received: from [172.21.0.5] (unknown [172.18.0.240]) by postal.iol.unh.edu (Postfix) with ESMTP id 1F98F6052471; Sun, 16 Feb 2025 13:21:45 -0500 (EST) Subject: |SUCCESS| pw151533 [PATCH] [1/1] pcapng: fix null dereference in rte From: dpdklab@iol.unh.edu To: Test Report Cc: dpdk-test-reports@iol.unh.edu In-Reply-To: <20250216160833.3216001-2-ariel.otilibili@6wind.com> References: <20250216160833.3216001-2-ariel.otilibili@6wind.com> Content-Type: text/plain X-BeenThere: test-report@dpdk.org X-Mailman-Version: 2.1.29 Precedence: list List-Id: automatic DPDK test reports List-Unsubscribe: , List-Archive: List-Post: List-Help: List-Subscribe: , Errors-To: test-report-bounces@dpdk.org Test-Label: iol-sample-apps-testing Test-Status: SUCCESS http://dpdk.org/patch/151533 _Testing PASS_ Submitter: Ariel Otilibili Date: Sunday, February 16 2025 16:08:33 DPDK git baseline: Repo:dpdk Branch: master CommitID:e5176f23ae8b31437c3e5eb875c81f95bf3a9942 151533 --> testing pass Upstream job id: ACVP-FIPS-testing#8929 Test environment and result as below: +--------------------+----------------------+----------------------+ | Environment | compressdev_zlib_pmd | dpdk_fips_validation | +====================+======================+======================+ | Ubuntu 22.04 (ARM) | PASS | SKIPPED | +--------------------+----------------------+----------------------+ | Ubuntu 22.04 | PASS | SKIPPED | +--------------------+----------------------+----------------------+ | Ubuntu 20.04 | SKIPPED | PASS | +--------------------+----------------------+----------------------+ Ubuntu 22.04 (ARM) Kernel: 5.15.0-97-generic Compiler: gcc gcc (Ubuntu 11.4.0-1ubuntu1~22.04) 11.4.0 Ubuntu 22.04 Kernel: 5.15.0-100-generic Compiler: gcc gcc (Ubuntu 11.4.0-1ubuntu1~22.04) 11.4.0 Ubuntu 20.04 Kernel: Depends on container host Compiler: gcc (Ubuntu 9.4.0-1ubuntu1~20.04.2) 9.4.0 To view detailed results, visit: https://lab.dpdk.org/results/dashboard/patchsets/32589/ UNH-IOL DPDK Community Lab To manage your email subscriptions, visit: https://lab.dpdk.org/results/dashboard/preferences/subscriptions/