From mboxrd@z Thu Jan 1 00:00:00 1970 Return-Path: Received: from mails.dpdk.org (mails.dpdk.org [217.70.189.124]) by inbox.dpdk.org (Postfix) with ESMTP id DBB514623D for ; Sun, 16 Feb 2025 19:39:39 +0100 (CET) Received: from mails.dpdk.org (localhost [127.0.0.1]) by mails.dpdk.org (Postfix) with ESMTP id C3B40400EF; Sun, 16 Feb 2025 19:39:39 +0100 (CET) Received: from mail-io1-f100.google.com (mail-io1-f100.google.com [209.85.166.100]) by mails.dpdk.org (Postfix) with ESMTP id A3F83400D6 for ; Sun, 16 Feb 2025 19:39:37 +0100 (CET) Received: by mail-io1-f100.google.com with SMTP id ca18e2360f4ac-855799b9d1cso35364039f.1 for ; Sun, 16 Feb 2025 10:39:37 -0800 (PST) DKIM-Signature: v=1; a=rsa-sha256; c=relaxed/relaxed; d=iol.unh.edu; s=unh-iol; t=1739731177; x=1740335977; darn=dpdk.org; h=references:in-reply-to:cc:to:from:subject:message-id:date:from:to :cc:subject:date:message-id:reply-to; bh=wa5r2rK/UiehgrnP0dWKLE0HQs4LqihHYsZuH6gTkWg=; b=cBDHCWCTHxEVgdXzFQcOsE1UZKfMpI45MCNxAuCgBb8TyeBVEwgLvv4x/l0XFZ9ns1 hlkmxFKYgo7zGRtmgY7KBJT+l3r39OL+Ewh3p00ZWbUeh3UNq1dbt408z1NQS/SVOren Wsj34wKN9VsHKn+aXBSOyPL6Swvkvu+S7oPFI= X-Google-DKIM-Signature: v=1; a=rsa-sha256; c=relaxed/relaxed; d=1e100.net; s=20230601; t=1739731177; x=1740335977; h=references:in-reply-to:cc:to:from:subject:message-id:date :x-gm-message-state:from:to:cc:subject:date:message-id:reply-to; bh=wa5r2rK/UiehgrnP0dWKLE0HQs4LqihHYsZuH6gTkWg=; b=Q9/PcGfkiI7C0fPV+RjXA40MXNS90MtE+Vn6Cn5kudwHkqC4Smq/JB2P9Qlwhr0KI1 nq0BbrJIJDEmS4xqqtjY+XkfPQNxuDdiryJQgx7aYOsJhgj82rxDxuJCPI//KEwIZeik qFquGbgYFGvKE5OgPt6c171blr8ViI7SSyPVGYLyJkU7ePLf/JpQkCG39ZCc3llMGy5O MnP0OcJOUbVZn0QI+mDfSdSd9y3Nxmqsy3AkgcjCmZlNIJR2y5rkKwD2zIcHN30U93Zv AnqZJsHXSmOkVo5ItFzjk0DXUw7qinsIMM2O/On7++bVXPu3p1lCz3u4G8L5OkV5ZS68 lPKA== X-Gm-Message-State: AOJu0YwwMETW3eSWPjtr0VpNypm14ZjN45ViCHN0HaUGldKjybJiCUqE 2AAthOoYUoGqpHMoN2K/HLPHRd2zI2JLdIyUs/vlqGci9Hy/QnbN3zPL7zTPss5no1a6YfgKawp 5OSQ3gfSmAJy3Nl1H+We51anc4VxHt2kYhrKLLf8e X-Gm-Gg: ASbGncsozKl3W+HTQPtkvvoV/iEdCc0l7/yMlNhyEi3EdGWRz06gDQNGf7CQ2ibQhkA K+0078GMf/p5M2ymQXzELwnbQkz09BQLrJ/Q976wCZ7WAiX1jAjFxYtmcaCimz3H8XUxVTMKVSQ FNzG7jzjRiD/v3JR4rtUmr6vAjW0qwnOc38iV6j13vAnjwu+ReDOJBQSxWYr7glG9oYAmWCv5FC lldOxM2XYdwOVlBMXmnEEBdnhGBsWSzrshNwcAyDh1rqvu5DeG5AfN/jCQodFRVR7/YoixYxJ8m uKaX5GSEt4HQwtDdkYlsnihFRs+Ssg== X-Google-Smtp-Source: AGHT+IHU82azJHTtxRCZI3+ygAphvIOnJwAFm7gdt6yxVt/WyVhV4MwRXW8tuzaKbsQiDtLj53rMZKyHh5ei X-Received: by 2002:a05:6602:6c0f:b0:855:6ebc:4f6f with SMTP id ca18e2360f4ac-8557a0b835cmr508155539f.3.1739731176978; Sun, 16 Feb 2025 10:39:36 -0800 (PST) Received: from postal.iol.unh.edu (postal.iol.unh.edu. [132.177.123.84]) by smtp-relay.gmail.com with ESMTPS id ca18e2360f4ac-8558ffc6140sm1678239f.17.2025.02.16.10.39.36 (version=TLS1_2 cipher=ECDHE-ECDSA-AES128-GCM-SHA256 bits=128/128); Sun, 16 Feb 2025 10:39:36 -0800 (PST) X-Relaying-Domain: iol.unh.edu Date: Sun, 16 Feb 2025 10:39:36 -0800 (PST) Message-ID: <67b230e8.050a0220.1f11e0.0db1SMTPIN_ADDED_MISSING@mx.google.com> Received: from [172.21.0.5] (unknown [172.18.0.240]) by postal.iol.unh.edu (Postfix) with ESMTP id 7371C6052471; Sun, 16 Feb 2025 13:39:36 -0500 (EST) Subject: |SUCCESS| pw151533 [PATCH] [1/1] pcapng: fix null dereference in rte From: dpdklab@iol.unh.edu To: Test Report Cc: dpdk-test-reports@iol.unh.edu In-Reply-To: <20250216160833.3216001-2-ariel.otilibili@6wind.com> References: <20250216160833.3216001-2-ariel.otilibili@6wind.com> Content-Type: text/plain X-BeenThere: test-report@dpdk.org X-Mailman-Version: 2.1.29 Precedence: list List-Id: automatic DPDK test reports List-Unsubscribe: , List-Archive: List-Post: List-Help: List-Subscribe: , Errors-To: test-report-bounces@dpdk.org Test-Label: iol-unit-arm64-testing Test-Status: SUCCESS http://dpdk.org/patch/151533 _Testing PASS_ Submitter: Ariel Otilibili Date: Sunday, February 16 2025 16:08:33 DPDK git baseline: Repo:dpdk Branch: master CommitID:e5176f23ae8b31437c3e5eb875c81f95bf3a9942 151533 --> testing pass Upstream job id: Generic-Unit-Test-DPDK#315394 Test environment and result as below: +-----------------------------+----------------+---------------------------+--------------+------------------------------+ | Environment | dpdk_unit_test | cryptodev_sw_zuc_autotest | lpm_autotest | cryptodev_sw_snow3g_autotest | +=============================+================+===========================+==============+==============================+ | 32-bit Ubuntu 22.04.4 (ARM) | PASS | SKIPPED | SKIPPED | SKIPPED | +-----------------------------+----------------+---------------------------+--------------+------------------------------+ | CentOS Stream 9 (ARM) | PASS | SKIPPED | SKIPPED | SKIPPED | +-----------------------------+----------------+---------------------------+--------------+------------------------------+ | CentOS Stream 10 (ARM) | PASS | SKIPPED | SKIPPED | SKIPPED | +-----------------------------+----------------+---------------------------+--------------+------------------------------+ | Debian 12 (arm) | PASS | PASS | SKIPPED | PASS | +-----------------------------+----------------+---------------------------+--------------+------------------------------+ | Fedora 40 (ARM) | PASS | SKIPPED | SKIPPED | SKIPPED | +-----------------------------+----------------+---------------------------+--------------+------------------------------+ | Debian 11 (Buster) (ARM) | PASS | SKIPPED | SKIPPED | SKIPPED | +-----------------------------+----------------+---------------------------+--------------+------------------------------+ | Fedora 40 (ARM Clang) | PASS | SKIPPED | SKIPPED | SKIPPED | +-----------------------------+----------------+---------------------------+--------------+------------------------------+ | Fedora 41 (ARM) | PASS | SKIPPED | SKIPPED | SKIPPED | +-----------------------------+----------------+---------------------------+--------------+------------------------------+ | Fedora 41 (ARM Clang) | PASS | SKIPPED | SKIPPED | SKIPPED | +-----------------------------+----------------+---------------------------+--------------+------------------------------+ | Ubuntu 22.04 (ARM) | PASS | SKIPPED | SKIPPED | SKIPPED | +-----------------------------+----------------+---------------------------+--------------+------------------------------+ | Ubuntu 20.04 (ARM) | PASS | SKIPPED | SKIPPED | SKIPPED | +-----------------------------+----------------+---------------------------+--------------+------------------------------+ | Ubuntu 24.04 (ARM) | PASS | SKIPPED | SKIPPED | SKIPPED | +-----------------------------+----------------+---------------------------+--------------+------------------------------+ | RHEL9 (ARM) | PASS | SKIPPED | SKIPPED | SKIPPED | +-----------------------------+----------------+---------------------------+--------------+------------------------------+ | Ubuntu 20.04 ARM SVE | SKIPPED | SKIPPED | PASS | SKIPPED | +-----------------------------+----------------+---------------------------+--------------+------------------------------+ 32-bit Ubuntu 22.04.4 (ARM) Kernel: 5.15.83+ aarch64 Compiler: gcc (Ubuntu 11.4.0-1ubuntu1~22.04) 11.4.0 CentOS Stream 9 (ARM) Kernel: Depends on container host Compiler: gcc 11.5.0 20240719 (Red Hat 11.5.0-2) CentOS Stream 10 (ARM) Kernel: Depends on container host Compiler: gcc 14.2.1 20241104 (Red Hat 14.2.1-6) Debian 12 (arm) Kernel: Depends on container host Compiler: gcc (Debian 12.2.0-14) 12.2.0 Fedora 40 (ARM) Kernel: Depends on container host Compiler: gcc 14.2.1 20240912 (Red Hat 14.2.1-3) Debian 11 (Buster) (ARM) Kernel: Depends on container host Compiler: gcc (Debian 10.2.1-6) 10.2.1 20210110 Fedora 40 (ARM Clang) Kernel: Depends on container host Compiler: clang 18.1.8 (Fedora 18.1.8-1.fc40) Fedora 41 (ARM) Kernel: Depends on container host Compiler: gcc 14.2.1 20240912 (Red Hat 14.2.1-3) Fedora 41 (ARM Clang) Kernel: Depends on container host Compiler: clang 19.1.5 (Fedora 19.1.5-1.fc41) Ubuntu 22.04 (ARM) Kernel: Depends on container host Compiler: gcc (Ubuntu 11.4.0-1ubuntu1~22.04) 11.4.0 Ubuntu 20.04 (ARM) Kernel: Depends on container host Compiler: gcc (Ubuntu 9.4.0-1ubuntu1~20.04.2) 9.4.0 Ubuntu 24.04 (ARM) Kernel: Depends on container host Compiler: gcc (Ubuntu 13.3.0-6ubuntu2~24.04) 13.3.0 RHEL9 (ARM) Kernel: Depends on container host Compiler: gcc 11.5.0 20240719 (Red Hat 11.5.0-2) Ubuntu 20.04 ARM SVE Kernel: Depends on container host Compiler: gcc (Ubuntu 10.5.0-1ubuntu1~20.04) 10.5.0 To view detailed results, visit: https://lab.dpdk.org/results/dashboard/patchsets/32589/ UNH-IOL DPDK Community Lab To manage your email subscriptions, visit: https://lab.dpdk.org/results/dashboard/preferences/subscriptions/