From mboxrd@z Thu Jan 1 00:00:00 1970 Return-Path: Received: from mails.dpdk.org (mails.dpdk.org [217.70.189.124]) by inbox.dpdk.org (Postfix) with ESMTP id BA6E34623D for ; Sun, 16 Feb 2025 19:58:59 +0100 (CET) Received: from mails.dpdk.org (localhost [127.0.0.1]) by mails.dpdk.org (Postfix) with ESMTP id 97F8F400EF; Sun, 16 Feb 2025 19:58:59 +0100 (CET) Received: from mail-yw1-f228.google.com (mail-yw1-f228.google.com [209.85.128.228]) by mails.dpdk.org (Postfix) with ESMTP id DA903400D6 for ; Sun, 16 Feb 2025 19:58:58 +0100 (CET) Received: by mail-yw1-f228.google.com with SMTP id 00721157ae682-6f754678c29so33264687b3.0 for ; Sun, 16 Feb 2025 10:58:58 -0800 (PST) DKIM-Signature: v=1; a=rsa-sha256; c=relaxed/relaxed; d=iol.unh.edu; s=unh-iol; t=1739732338; x=1740337138; darn=dpdk.org; h=references:in-reply-to:cc:to:from:subject:message-id:date:from:to :cc:subject:date:message-id:reply-to; bh=jGP1jOXkiBsLT9iA5L3JggVMmPHG0ubLmHIngrXkaT8=; b=dEpV824dlOCtn7wzEcxYV3iRCR1WkMTN4NKR/4eeuPwXlPaIHQt75GBuxqShk6Tx6g M4j7rSMB5qX1wlWBPjQu2H0peOvqmy7xMBeewQTUmrv1zrtMcfYOYAhZTM5vWu3DZZtm Lwx8NBZSQaImD/uIvQqwkmrxCMC1kR9ak3m6Y= X-Google-DKIM-Signature: v=1; a=rsa-sha256; c=relaxed/relaxed; d=1e100.net; s=20230601; t=1739732338; x=1740337138; h=references:in-reply-to:cc:to:from:subject:message-id:date :x-gm-message-state:from:to:cc:subject:date:message-id:reply-to; bh=jGP1jOXkiBsLT9iA5L3JggVMmPHG0ubLmHIngrXkaT8=; b=LCvrd4TMx7HZJArhwX6ujX+Dyz7c7ky/7S5467NibY5+aAc6Sv7fVPDE+uSeFNt94G eF2dkvHeLErvGtZQz4G9Bw/bLqAT14/c3T3TgxHIe/RBK8KumX5OvUYpvm39pqiU9xLt d+mG+Z1Wg+4IiSoOc0XNE0YghvqUKlUqpJhvjf5bbZ/2GpeoVelIPs1lgZ+3Rz8UmxS0 SxogwV4vVmriFnKIjDFEXDqZH3kDKijw/HbWlJeq9fH5SyLdHD7DKZDeYrdDfTKC6Gu4 kk2Ze9ktxJOy7BnwFRfdHZG7VRr2ALDXLPYI8uBV3IibYQMwKzR3sqG89Bm25B8dgrPC v/sQ== X-Gm-Message-State: AOJu0YwF9ADuRfsIkgaAFzheIFWwRPRwaFjC8x9PTMDCGsuLUrjaQW4k eKYQX1oq6qkPxjTdgrmAwZxgRcvcLcRdV847PiVlRsMBhWHybYVrbQQJUA4TNbgqnHq9NY9lKgi KOOqekdfR8x7Gz9kuCZzONMwESuL9jBdW1dVVum3Oq4bqTzE4ukDn5ah4 X-Gm-Gg: ASbGncunoP74vxsGNB9yUj5ffXBKPgwHIuYg+XRGZHqwPKO3nWSxMPSzkDqL5tvmSDN XartVR13w7uC3b1yxrxWTnsMolBqwV9TYMmLAuv8DyqpUaUin7SgH4h/FJHjimpM17Smp1Nftkp 8stQDOQDqp7b1CrgS/+NLBWz6UU4K/Qn27eM0c5wZDzBYRSqIHlp2wFaBsyWbTeHVvqsBSdy5iV IQRdizARHvDkgw5yw2B/ZVfCXWvyS5sNQ5r75ufmIKwfR7nvP2LqqaRt6JyFSJdzYm2eIz4rY8v kUs9vj1Y7/KCMucHhTyIk0y3UMVdALIa/vUziuBU0Q== X-Google-Smtp-Source: AGHT+IEHsrVwt2S0hRXrAEVWSADxKhQGDYYsdySk8toaP8FEIkUpkx9MpLCZe245diDZrxKFpFN1mlygoN0d X-Received: by 2002:a05:690c:7307:b0:6ef:8e4c:65ea with SMTP id 00721157ae682-6fb582726bbmr55529947b3.5.1739732338181; Sun, 16 Feb 2025 10:58:58 -0800 (PST) Received: from postal.iol.unh.edu (postal.iol.unh.edu. [2606:4100:3880:1234::84]) by smtp-relay.gmail.com with ESMTPS id 00721157ae682-6fb35f6523bsm1051547b3.39.2025.02.16.10.58.58 (version=TLS1_2 cipher=ECDHE-ECDSA-AES128-GCM-SHA256 bits=128/128); Sun, 16 Feb 2025 10:58:58 -0800 (PST) X-Relaying-Domain: iol.unh.edu Date: Sun, 16 Feb 2025 10:58:58 -0800 (PST) Message-ID: <67b23572.050a0220.350e93.545eSMTPIN_ADDED_MISSING@mx.google.com> Received: from [172.17.0.4] (unknown [172.18.0.217]) by postal.iol.unh.edu (Postfix) with ESMTP id C493A6052471; Sun, 16 Feb 2025 13:58:57 -0500 (EST) Subject: |SUCCESS| pw151532 [PATCH] crypto/openssl: validate incorrect signat From: dpdklab@iol.unh.edu To: Test Report Cc: dpdk-test-reports@iol.unh.edu In-Reply-To: <20250216142822.1508-1-gmuthukrishn@marvell.com> References: <20250216142822.1508-1-gmuthukrishn@marvell.com> Content-Type: text/plain X-BeenThere: test-report@dpdk.org X-Mailman-Version: 2.1.29 Precedence: list List-Id: automatic DPDK test reports List-Unsubscribe: , List-Archive: List-Post: List-Help: List-Subscribe: , Errors-To: test-report-bounces@dpdk.org Test-Label: iol-abi-testing Test-Status: SUCCESS http://dpdk.org/patch/151532 _Testing PASS_ Submitter: Gowrishankar Muthukrishnan Date: Sunday, February 16 2025 14:28:19 DPDK git baseline: Repo:dpdk Branch: master CommitID:e5176f23ae8b31437c3e5eb875c81f95bf3a9942 151532 --> testing pass Upstream job id: Generic-DPDK-Compile-ABI#116397 Test environment and result as below: +-------------------+----------+ | Environment | abi_test | +===================+==========+ | CentOS Stream 9 | PASS | +-------------------+----------+ | CentOS Stream 10 | PASS | +-------------------+----------+ | Debian 12 | PASS | +-------------------+----------+ | Debian Bullseye | PASS | +-------------------+----------+ | Fedora 40 (Clang) | PASS | +-------------------+----------+ | openSUSE Leap 15 | PASS | +-------------------+----------+ | Fedora 41 | PASS | +-------------------+----------+ | Fedora 40 | PASS | +-------------------+----------+ | Fedora 41 (Clang) | PASS | +-------------------+----------+ | Ubuntu 24.04 | PASS | +-------------------+----------+ | RHEL8 | PASS | +-------------------+----------+ | RHEL9 | PASS | +-------------------+----------+ | Ubuntu 22.04 | PASS | +-------------------+----------+ CentOS Stream 9 Kernel: Depends on container host Compiler: gcc 11.5.0 20240719 (Red Hat 11.5.0-2) CentOS Stream 10 Kernel: Depends on container host Compiler: gcc 14.2.1 20241104 (Red Hat 14.2.1-6) Debian 12 Kernel: Depends on container host Compiler: gcc (Debian 12.2.0-14) 12.2.0 Debian Bullseye Kernel: Depends on container host Compiler: gcc (Debian 10.2.1-6) 10.2.1 20210110 Fedora 40 (Clang) Kernel: Depends on container host Compiler: clang 18.1.8 (Fedora 18.1.8-1.fc40) openSUSE Leap 15 Kernel: Depends on container host Compiler: gcc (SUSE Linux) 7.5.0 Fedora 41 Kernel: Depends on container host Compiler: gcc 14.2.1 20240912 (Red Hat 14.2.1-3) Fedora 40 Kernel: Depends on container host Compiler: gcc 14.2.1 20240912 (Red Hat 14.2.1-3) Fedora 41 (Clang) Kernel: Depends on container host Compiler: clang 19.1.5 (Fedora 19.1.5-1.fc41) Ubuntu 24.04 Kernel: Depends on container host Compiler: gcc (Ubuntu 13.3.0-6ubuntu2~24.04) 13.3.0 RHEL8 Kernel: Depends on container host Compiler: gcc 8.5.0 20210514 (Red Hat 8.5.0-22) RHEL9 Kernel: Depends on container host Compiler: gcc 11.5.0 20240719 (Red Hat 11.5.0-2) Ubuntu 22.04 Kernel: Depends on container host Compiler: gcc (Ubuntu 11.4.0-1ubuntu1~22.04) 11.4.0 To view detailed results, visit: https://lab.dpdk.org/results/dashboard/patchsets/32588/ UNH-IOL DPDK Community Lab To manage your email subscriptions, visit: https://lab.dpdk.org/results/dashboard/preferences/subscriptions/