From mboxrd@z Thu Jan 1 00:00:00 1970 Return-Path: Received: from mails.dpdk.org (mails.dpdk.org [217.70.189.124]) by inbox.dpdk.org (Postfix) with ESMTP id E23E04623E for ; Sun, 16 Feb 2025 20:01:11 +0100 (CET) Received: from mails.dpdk.org (localhost [127.0.0.1]) by mails.dpdk.org (Postfix) with ESMTP id D286E400EF; Sun, 16 Feb 2025 20:01:11 +0100 (CET) Received: from mail-il1-f225.google.com (mail-il1-f225.google.com [209.85.166.225]) by mails.dpdk.org (Postfix) with ESMTP id 9B80A400D6 for ; Sun, 16 Feb 2025 20:01:10 +0100 (CET) Received: by mail-il1-f225.google.com with SMTP id e9e14a558f8ab-3ce76b8d5bcso34922825ab.0 for ; Sun, 16 Feb 2025 11:01:10 -0800 (PST) DKIM-Signature: v=1; a=rsa-sha256; c=relaxed/relaxed; d=iol.unh.edu; s=unh-iol; t=1739732470; x=1740337270; darn=dpdk.org; h=references:in-reply-to:cc:to:from:subject:message-id:date:from:to :cc:subject:date:message-id:reply-to; bh=wsgY3AcUUa1JyYUaur+uDOw1dHLUSSjMsorwcuciTjE=; b=MkaIdWnSH/U6j67/nncxPp33RccIEgwC2I3dqOUsNEMDngKWkNzGwX0MIKQX7JFWWZ p6u1R35WIPY7h9IXZTS+GH3W8ZSrCyN39VU5h3tR1Ww+cAf5LsYBXjriYoaWoJW/lFMk z2a+lKJ0a0uDIHqZl+6SqwOASyVU3WFxZiXX0= X-Google-DKIM-Signature: v=1; a=rsa-sha256; c=relaxed/relaxed; d=1e100.net; s=20230601; t=1739732470; x=1740337270; h=references:in-reply-to:cc:to:from:subject:message-id:date :x-gm-message-state:from:to:cc:subject:date:message-id:reply-to; bh=wsgY3AcUUa1JyYUaur+uDOw1dHLUSSjMsorwcuciTjE=; b=Xx9htwjx0PxHJRbJqE7Jwk3TcIfuAYgOzF8H7jXAh0sbEni5xKsnelaOnyz54jVECY i6WF7qAN0dDhSK6TjSRUcy0QAyvz/xEFLEUKC7zHJlgwpojGGDd9tAxR0t2nCXrizU78 uiSr6Go8Mf54QWNLIb9EaUABSVQuRjNzZiNXzBWUUY0GN+XsYsdXOCiuSUCZojsp/VwU HzZFQQ3TdAmMWfuU0f7Q7DbPpM4P+wVaoC1jTFzx5dUUBIksnwsHufnDViS7cbEyIanF X5mcS6ZzL2/XOerYifyar+nrRVFHzrMb6IMQSQHNi9RLtNdqIodoaP0nTrQ32/z6B4CW nFvw== X-Gm-Message-State: AOJu0YwbEg9okG5fpHGTTpyyqBKAknpHCqHgeQo0Rj58ZqGUrWyX19rS SB8cqPMjOq4AzCohy1+OiBSOk0Lwm4Y+yhPiHrPAMy5HN/xiepDrbzzd7o1oF/XNxBm+lIvg0ln U6BS70PFEykimLDtiBpHCeUZqYsh3ah/BMQj/MAFJ3NyzrlIb4/ScKzjg X-Gm-Gg: ASbGnctk9JCn8ex8ij2pW2CDybWPQKGlAGsEanfs8nOcMNX0fRinTeA+vQy+bF1Tcae 4MFzNg5zobpjkjiBKI5YJtSXGIdqhV9Z0HlfFuyLNH+jbZp4cMkKI4gqTPLOj9GSIqFb2J+lt9a 9ME7/uCHQi2x0ODcSpJE949S0JJve2pcJUdFmSzVPuIoEja6ej4L7NDV7orG3bi2vyochVoIVp5 U2JFX0SrR7dDYfhJUEI03eWo/LoYdBtDzY22KRk/RNsvGJInwbybgYVQ5yZReqkK+f6KPvWAcWm Gl975eT4MFUs4SwM6QRO1RKqZg33e2uzpbVkddT7aA== X-Google-Smtp-Source: AGHT+IFT9z8xExnBGrBIs/nbWeGa9KAS49MzQWzdLLBKJpPmOqPGa3jkN1Go8xwSXnsdExIv8kTX0syEMvTf X-Received: by 2002:a05:6e02:398e:b0:3cf:ce7c:b8b7 with SMTP id e9e14a558f8ab-3d280809327mr51249185ab.10.1739732469956; Sun, 16 Feb 2025 11:01:09 -0800 (PST) Received: from postal.iol.unh.edu (postal.iol.unh.edu. [2606:4100:3880:1234::84]) by smtp-relay.gmail.com with ESMTPS id 8926c6da1cb9f-4ee960cab21sm87732173.70.2025.02.16.11.01.09 (version=TLS1_2 cipher=ECDHE-ECDSA-AES128-GCM-SHA256 bits=128/128); Sun, 16 Feb 2025 11:01:09 -0800 (PST) X-Relaying-Domain: iol.unh.edu Date: Sun, 16 Feb 2025 11:01:09 -0800 (PST) Message-ID: <67b235f5.050a0220.153c93.421eSMTPIN_ADDED_MISSING@mx.google.com> Received: from [172.17.0.5] (unknown [172.18.0.217]) by postal.iol.unh.edu (Postfix) with ESMTP id 98F886052471; Sun, 16 Feb 2025 14:01:09 -0500 (EST) Subject: |SUCCESS| pw151532 [PATCH] crypto/openssl: validate incorrect signat From: dpdklab@iol.unh.edu To: Test Report Cc: dpdk-test-reports@iol.unh.edu In-Reply-To: <20250216142822.1508-1-gmuthukrishn@marvell.com> References: <20250216142822.1508-1-gmuthukrishn@marvell.com> Content-Type: text/plain X-BeenThere: test-report@dpdk.org X-Mailman-Version: 2.1.29 Precedence: list List-Id: automatic DPDK test reports List-Unsubscribe: , List-Archive: List-Post: List-Help: List-Subscribe: , Errors-To: test-report-bounces@dpdk.org Test-Label: iol-unit-arm64-testing Test-Status: SUCCESS http://dpdk.org/patch/151532 _Testing PASS_ Submitter: Gowrishankar Muthukrishnan Date: Sunday, February 16 2025 14:28:19 DPDK git baseline: Repo:dpdk Branch: master CommitID:e5176f23ae8b31437c3e5eb875c81f95bf3a9942 151532 --> testing pass Upstream job id: Generic-Unit-Test-DPDK#315412 Test environment and result as below: +-----------------------------+----------------+--------------+---------------------------+------------------------------+ | Environment | dpdk_unit_test | lpm_autotest | cryptodev_sw_zuc_autotest | cryptodev_sw_snow3g_autotest | +=============================+================+==============+===========================+==============================+ | 32-bit Ubuntu 22.04.4 (ARM) | PASS | SKIPPED | SKIPPED | SKIPPED | +-----------------------------+----------------+--------------+---------------------------+------------------------------+ | Debian 12 (arm) | PASS | SKIPPED | PASS | PASS | +-----------------------------+----------------+--------------+---------------------------+------------------------------+ | Fedora 40 (ARM) | PASS | SKIPPED | SKIPPED | SKIPPED | +-----------------------------+----------------+--------------+---------------------------+------------------------------+ | CentOS Stream 10 (ARM) | PASS | SKIPPED | SKIPPED | SKIPPED | +-----------------------------+----------------+--------------+---------------------------+------------------------------+ | RHEL9 (ARM) | PASS | SKIPPED | SKIPPED | SKIPPED | +-----------------------------+----------------+--------------+---------------------------+------------------------------+ | Ubuntu 24.04 (ARM) | PASS | SKIPPED | SKIPPED | SKIPPED | +-----------------------------+----------------+--------------+---------------------------+------------------------------+ | Fedora 41 (ARM Clang) | PASS | SKIPPED | SKIPPED | SKIPPED | +-----------------------------+----------------+--------------+---------------------------+------------------------------+ | CentOS Stream 9 (ARM) | PASS | SKIPPED | SKIPPED | SKIPPED | +-----------------------------+----------------+--------------+---------------------------+------------------------------+ | Ubuntu 20.04 (ARM) | PASS | SKIPPED | SKIPPED | SKIPPED | +-----------------------------+----------------+--------------+---------------------------+------------------------------+ | Fedora 40 (ARM Clang) | PASS | SKIPPED | SKIPPED | SKIPPED | +-----------------------------+----------------+--------------+---------------------------+------------------------------+ | Fedora 41 (ARM) | PASS | SKIPPED | SKIPPED | SKIPPED | +-----------------------------+----------------+--------------+---------------------------+------------------------------+ | Ubuntu 22.04 (ARM) | PASS | SKIPPED | SKIPPED | SKIPPED | +-----------------------------+----------------+--------------+---------------------------+------------------------------+ | Debian 11 (Buster) (ARM) | PASS | SKIPPED | SKIPPED | SKIPPED | +-----------------------------+----------------+--------------+---------------------------+------------------------------+ | Ubuntu 20.04 ARM SVE | SKIPPED | PASS | SKIPPED | SKIPPED | +-----------------------------+----------------+--------------+---------------------------+------------------------------+ 32-bit Ubuntu 22.04.4 (ARM) Kernel: 5.15.83+ aarch64 Compiler: gcc (Ubuntu 11.4.0-1ubuntu1~22.04) 11.4.0 Debian 12 (arm) Kernel: Depends on container host Compiler: gcc (Debian 12.2.0-14) 12.2.0 Fedora 40 (ARM) Kernel: Depends on container host Compiler: gcc 14.2.1 20240912 (Red Hat 14.2.1-3) CentOS Stream 10 (ARM) Kernel: Depends on container host Compiler: gcc 14.2.1 20241104 (Red Hat 14.2.1-6) RHEL9 (ARM) Kernel: Depends on container host Compiler: gcc 11.5.0 20240719 (Red Hat 11.5.0-2) Ubuntu 24.04 (ARM) Kernel: Depends on container host Compiler: gcc (Ubuntu 13.3.0-6ubuntu2~24.04) 13.3.0 Fedora 41 (ARM Clang) Kernel: Depends on container host Compiler: clang 19.1.5 (Fedora 19.1.5-1.fc41) CentOS Stream 9 (ARM) Kernel: Depends on container host Compiler: gcc 11.5.0 20240719 (Red Hat 11.5.0-2) Ubuntu 20.04 (ARM) Kernel: Depends on container host Compiler: gcc (Ubuntu 9.4.0-1ubuntu1~20.04.2) 9.4.0 Fedora 40 (ARM Clang) Kernel: Depends on container host Compiler: clang 18.1.8 (Fedora 18.1.8-1.fc40) Fedora 41 (ARM) Kernel: Depends on container host Compiler: gcc 14.2.1 20240912 (Red Hat 14.2.1-3) Ubuntu 22.04 (ARM) Kernel: Depends on container host Compiler: gcc (Ubuntu 11.4.0-1ubuntu1~22.04) 11.4.0 Debian 11 (Buster) (ARM) Kernel: Depends on container host Compiler: gcc (Debian 10.2.1-6) 10.2.1 20210110 Ubuntu 20.04 ARM SVE Kernel: Depends on container host Compiler: gcc (Ubuntu 10.5.0-1ubuntu1~20.04) 10.5.0 To view detailed results, visit: https://lab.dpdk.org/results/dashboard/patchsets/32588/ UNH-IOL DPDK Community Lab To manage your email subscriptions, visit: https://lab.dpdk.org/results/dashboard/preferences/subscriptions/