From mboxrd@z Thu Jan 1 00:00:00 1970 Return-Path: Received: from mails.dpdk.org (mails.dpdk.org [217.70.189.124]) by inbox.dpdk.org (Postfix) with ESMTP id A31504623E for ; Sun, 16 Feb 2025 20:09:14 +0100 (CET) Received: from mails.dpdk.org (localhost [127.0.0.1]) by mails.dpdk.org (Postfix) with ESMTP id 9ADDF400EF; Sun, 16 Feb 2025 20:09:14 +0100 (CET) Received: from mail-il1-f227.google.com (mail-il1-f227.google.com [209.85.166.227]) by mails.dpdk.org (Postfix) with ESMTP id 4F5DF400D6 for ; Sun, 16 Feb 2025 20:09:13 +0100 (CET) Received: by mail-il1-f227.google.com with SMTP id e9e14a558f8ab-3d18f97e98aso26447285ab.3 for ; Sun, 16 Feb 2025 11:09:13 -0800 (PST) DKIM-Signature: v=1; a=rsa-sha256; c=relaxed/relaxed; d=iol.unh.edu; s=unh-iol; t=1739732952; x=1740337752; darn=dpdk.org; h=references:in-reply-to:cc:to:from:subject:message-id:date:from:to :cc:subject:date:message-id:reply-to; bh=RlpBztlj6npVmRVwLqfGxMWfzH9cnfZTmoI6khBdfl8=; b=EyMWU+tsIHrTmYNV5k4oP338cykjWxV3blT+hm6pIwd3TBJi3Y/fbO+ycOxtL95CNR f0FQDAxF3GAXBYaiiTMMuXFd/awzyInbDnDgejrBNwRxsgyGhAAHhfNk2VaUwQUZRZao eB+F3hwLh9wE1PnBFxQBUM/+IHs//jkPJBlU4= X-Google-DKIM-Signature: v=1; a=rsa-sha256; c=relaxed/relaxed; d=1e100.net; s=20230601; t=1739732952; x=1740337752; h=references:in-reply-to:cc:to:from:subject:message-id:date :x-gm-message-state:from:to:cc:subject:date:message-id:reply-to; bh=RlpBztlj6npVmRVwLqfGxMWfzH9cnfZTmoI6khBdfl8=; b=NIJNQWldcVWBDBVCHi0wpv2DWyBFHEJNVeL+rmrWqkIbEobDwL+FjIl0bnoXBlywAI 5XMnJQKu1LhCZTzwVvsz2FC1L3MwKGCehrBM3eHQSPXGpiVZnQymmznowWs9T34y11N/ eVHy5+pDRwlzFwbvx2VF1+OCvxXxNE2Q7j8dTjFIxCkqjS4VLXsO4Z02Nh1mj8xLkJLs 5ZZ+GcOAuKsIVjheyx+xm3hAuPUbyiiweQqro4YcGno/61wmcNN+JoNNxdiqsnqjl94N C17caqYMU3CrdQ525vw7qRT5B8tzlPdqlWXVAuf6IIM4vcX1o8FC68GfCNdkrSeGMSSD lO8g== X-Gm-Message-State: AOJu0Yy16MQoL6amPFwBeVbWMHFQQgH3AlJELhdj4RSwFesHkgIvEfLj pNlhO03HdKn3dWaKMtmHMlN6XLmDNKjfXgZnhMPJGwyCjvntG7Rjg+rVIrdJYpubOXsbb5UDzYp +2JbGy/Rl+RiS+YBujRARBNZcc8pjk9zffOquDF++YVqhfjHy9wuks17W X-Gm-Gg: ASbGncsOWVqEDyCsMbkW3r8mcKGfzCmVUUh+aQGiNYugeA6T2sXNcPHjRakvf1U9mEs bmEsBake1XpVGu3But0r+mX8iw+D29MZFS2nMWwPTqfJ2ZrR05bug8m1TA7+bC8+uyLaIN/MZcy N6S+VGbByAlY5KFjGPN0OMYcxlrdb5sQQmSMUcVlNxzqEQ8liWKAmuGtCW1maOhVtUc5sqB5WM2 gXQlnb9uF3UhTNVhz9ozIuOztScCPZumf2jL9I0TOtkdQz5WHBYo+DredXTqDYAaa26NEDzrHKh RwxGCuKJInDjA53TV+Wo5+3D1HwBBGobmTsQ1gxNMw== X-Google-Smtp-Source: AGHT+IECYb72VKuyEcDJc+3XvCUc3ZZXvy13fnAfFG4k+HIX2nXQWj2WAc5tVp+7axPopHvsreH46AUKsFB4 X-Received: by 2002:a05:6e02:1b09:b0:3cf:c745:4fa8 with SMTP id e9e14a558f8ab-3d2808fa5a6mr70374765ab.18.1739732952633; Sun, 16 Feb 2025 11:09:12 -0800 (PST) Received: from postal.iol.unh.edu (postal.iol.unh.edu. [2606:4100:3880:1234::84]) by smtp-relay.gmail.com with ESMTPS id e9e14a558f8ab-3d287db8798sm2068035ab.68.2025.02.16.11.09.12 (version=TLS1_2 cipher=ECDHE-ECDSA-AES128-GCM-SHA256 bits=128/128); Sun, 16 Feb 2025 11:09:12 -0800 (PST) X-Relaying-Domain: iol.unh.edu Date: Sun, 16 Feb 2025 11:09:12 -0800 (PST) Message-ID: <67b237d8.050a0220.20d826.a207SMTPIN_ADDED_MISSING@mx.google.com> Received: from [172.17.0.3] (unknown [172.18.0.217]) by postal.iol.unh.edu (Postfix) with ESMTP id 01A8F6052471; Sun, 16 Feb 2025 14:09:12 -0500 (EST) Subject: |SUCCESS| pw151533 [PATCH] [1/1] pcapng: fix null dereference in rte From: dpdklab@iol.unh.edu To: Test Report Cc: dpdk-test-reports@iol.unh.edu In-Reply-To: <20250216160833.3216001-2-ariel.otilibili@6wind.com> References: <20250216160833.3216001-2-ariel.otilibili@6wind.com> Content-Type: text/plain X-BeenThere: test-report@dpdk.org X-Mailman-Version: 2.1.29 Precedence: list List-Id: automatic DPDK test reports List-Unsubscribe: , List-Archive: List-Post: List-Help: List-Subscribe: , Errors-To: test-report-bounces@dpdk.org Test-Label: iol-compile-arm64-testing Test-Status: SUCCESS http://dpdk.org/patch/151533 _Testing PASS_ Submitter: Ariel Otilibili Date: Sunday, February 16 2025 16:08:33 DPDK git baseline: Repo:dpdk Branch: master CommitID:e5176f23ae8b31437c3e5eb875c81f95bf3a9942 151533 --> testing pass Upstream job id: Generic-DPDK-Compile-Meson#362127 Test environment and result as below: +----------------------------------------+--------------------+ | Environment | dpdk_meson_compile | +========================================+====================+ | RHEL9 (ARM) | PASS | +----------------------------------------+--------------------+ | Ubuntu 20.04 ARM GCC Cross Compile | PASS | +----------------------------------------+--------------------+ | Debian 12 with MUSDK | PASS | +----------------------------------------+--------------------+ | Ubuntu 20.04 ARM SVE | PASS | +----------------------------------------+--------------------+ | Fedora 40 (ARM) | PASS | +----------------------------------------+--------------------+ | Fedora 41 (ARM Clang) | PASS | +----------------------------------------+--------------------+ | Fedora 40 (ARM Clang) | PASS | +----------------------------------------+--------------------+ | Fedora 41 (ARM) | PASS | +----------------------------------------+--------------------+ | Ubuntu 20.04 (ARM) | PASS | +----------------------------------------+--------------------+ | Ubuntu 22.04 (ARM) | PASS | +----------------------------------------+--------------------+ | Ubuntu 24.04 (ARM) | PASS | +----------------------------------------+--------------------+ | CentOS Stream 9 (ARM) | PASS | +----------------------------------------+--------------------+ | Debian 11 (Buster) (ARM) | PASS | +----------------------------------------+--------------------+ | Ubuntu 20.04 ARM Clang Cross Compile | PASS | +----------------------------------------+--------------------+ | CentOS Stream 10 (ARM) | PASS | +----------------------------------------+--------------------+ | Debian 12 (arm) | PASS | +----------------------------------------+--------------------+ | Ubuntu 20.04 aarch32 GCC Cross Compile | PASS | +----------------------------------------+--------------------+ RHEL9 (ARM) Kernel: Depends on container host Compiler: gcc 11.5.0 20240719 (Red Hat 11.5.0-2) Ubuntu 20.04 ARM GCC Cross Compile Kernel: Depends on container host Compiler: aarch64-linux-gnu-gcc (Ubuntu 9.4.0-1ubuntu1~20.04.2) 9.4.0 Debian 12 with MUSDK Kernel: Depends on container host Compiler: gcc (Debian 12.2.0-14) 12.2.0 Ubuntu 20.04 ARM SVE Kernel: Depends on container host Compiler: gcc (Ubuntu 10.5.0-1ubuntu1~20.04) 10.5.0 Fedora 40 (ARM) Kernel: Depends on container host Compiler: gcc 14.2.1 20240912 (Red Hat 14.2.1-3) Fedora 41 (ARM Clang) Kernel: Depends on container host Compiler: clang 19.1.5 (Fedora 19.1.5-1.fc41) Fedora 40 (ARM Clang) Kernel: Depends on container host Compiler: clang 18.1.8 (Fedora 18.1.8-1.fc40) Fedora 41 (ARM) Kernel: Depends on container host Compiler: gcc 14.2.1 20240912 (Red Hat 14.2.1-3) Ubuntu 20.04 (ARM) Kernel: Depends on container host Compiler: gcc (Ubuntu 9.4.0-1ubuntu1~20.04.2) 9.4.0 Ubuntu 22.04 (ARM) Kernel: Depends on container host Compiler: gcc (Ubuntu 11.4.0-1ubuntu1~22.04) 11.4.0 Ubuntu 24.04 (ARM) Kernel: Depends on container host Compiler: gcc (Ubuntu 13.3.0-6ubuntu2~24.04) 13.3.0 CentOS Stream 9 (ARM) Kernel: Depends on container host Compiler: gcc 11.5.0 20240719 (Red Hat 11.5.0-2) Debian 11 (Buster) (ARM) Kernel: Depends on container host Compiler: gcc (Debian 10.2.1-6) 10.2.1 20210110 Ubuntu 20.04 ARM Clang Cross Compile Kernel: Depends on container host Compiler: clang 10.0.0-4ubuntu1 CentOS Stream 10 (ARM) Kernel: Depends on container host Compiler: gcc 14.2.1 20241104 (Red Hat 14.2.1-6) Debian 12 (arm) Kernel: Depends on container host Compiler: gcc (Debian 12.2.0-14) 12.2.0 Ubuntu 20.04 aarch32 GCC Cross Compile Kernel: Depends on container host Compiler: gcc 9.4.0 To view detailed results, visit: https://lab.dpdk.org/results/dashboard/patchsets/32589/ UNH-IOL DPDK Community Lab To manage your email subscriptions, visit: https://lab.dpdk.org/results/dashboard/preferences/subscriptions/