From mboxrd@z Thu Jan 1 00:00:00 1970 Return-Path: Received: from mails.dpdk.org (mails.dpdk.org [217.70.189.124]) by inbox.dpdk.org (Postfix) with ESMTP id 71CE84623E for ; Sun, 16 Feb 2025 20:16:45 +0100 (CET) Received: from mails.dpdk.org (localhost [127.0.0.1]) by mails.dpdk.org (Postfix) with ESMTP id 47263400EF; Sun, 16 Feb 2025 20:16:45 +0100 (CET) Received: from mail-yw1-f226.google.com (mail-yw1-f226.google.com [209.85.128.226]) by mails.dpdk.org (Postfix) with ESMTP id 1566B400D6 for ; Sun, 16 Feb 2025 20:16:44 +0100 (CET) Received: by mail-yw1-f226.google.com with SMTP id 00721157ae682-6f4b266d333so26408767b3.2 for ; Sun, 16 Feb 2025 11:16:44 -0800 (PST) DKIM-Signature: v=1; a=rsa-sha256; c=relaxed/relaxed; d=iol.unh.edu; s=unh-iol; t=1739733403; x=1740338203; darn=dpdk.org; h=references:in-reply-to:cc:to:from:subject:message-id:date:from:to :cc:subject:date:message-id:reply-to; bh=rL1m2oVY536cCVamuayuVF3jAadE9sEnfxwjzh/kGyw=; b=eB1CK5h4uIOgJx+NgWpk/BHJtR/RPH/AkWPo6/qoA7tA2nc5+EzVYAYEpDp6lhbPW5 2SnzIv2bDN9vatdEJNc4QWnTIVlfTzZoOQLwv7JIK/Obsr2i171KR93LuuUiOoYP1HVh MCUnkacbmazZ1JYxuC2Etp1LtM1x5mIGCbn/8= X-Google-DKIM-Signature: v=1; a=rsa-sha256; c=relaxed/relaxed; d=1e100.net; s=20230601; t=1739733403; x=1740338203; h=references:in-reply-to:cc:to:from:subject:message-id:date :x-gm-message-state:from:to:cc:subject:date:message-id:reply-to; bh=rL1m2oVY536cCVamuayuVF3jAadE9sEnfxwjzh/kGyw=; b=WfIPI/0s2LS5zfrx6I260fh0olD8yzLtxkRgt978lxTfwKaSjllLhOuBMbCHakZdYk tzqDs07sI2vAmZE4SrXPM8N6gFCQgRCbGb+2dg38XDEAcfKtQdgQtxcRvHPufxl+p2te IVQhYqeNCP6u2XXxgtfUULSeu93EcMe3wLqkJgNDiZI1VAmcmT/oF2w3KxDEJy/lpmwl De50QznR/iw/C7S3YJWsuAHnRFIR66VbWrToun9mFImXQP+ntmDIoZG12zL/euz5vKVt KlfAjtzGoZziweK7cHmF211eCosZJDCwceUOIVIj4wuljmQjeqaZmSIqd6DbY6tXTtIO NwwQ== X-Gm-Message-State: AOJu0YyHrKJZrmbWIO34fvRyqUEPobmY8k/A25Oe+FiXwl7c8j1FBXXi 6zreS+CIlANdNgaVSi4SjUOb2owXMM6DoxtchZ6SaGz3vIc65p7/RjUxTSaZN0uipqjiIc9ZMcb OL/zeus0w9ddlzmuvwZxS6toyFiwYLAiPbmgn52pH X-Gm-Gg: ASbGncvfc4Tq4hP70Atc7wANH3SWocLf58Jj+rilfzuqKxkFBkxbA9zMZ6Cy0jwMzXI C7/h4GdqMoQhKAHQSOB4sQxm/b89+YBUrvtFPHZhifQjdqUEkOALQJqgIBeuBR2GhHYz1gjeycC 2XVvSXpDD3EfLHGFmbOtwqB26r8B0d1bjrYa6TCXMiUL2j+KVbFBWMXkLoKuQ7hADlZyDAovCTM kf8RrKC52aKPjXwIIt6YjbeHjnSclAjGK3aQ4tQykZN2rhIz+9FmCSwFVX0qPeFty0LlVO0JMtA i3J2Fis2wh6fNP4pXry37KJq3yVzYw== X-Google-Smtp-Source: AGHT+IFb3QjrxWd1xOZr1QmFPwvBYhuMQQRpkfEW4yMabXzLklsAKVmerQCExhN4cwTBxn6b8CsOlsj1ehl7 X-Received: by 2002:a05:690c:6e11:b0:6f9:8916:3b66 with SMTP id 00721157ae682-6fb5829ba0emr57158537b3.12.1739733403327; Sun, 16 Feb 2025 11:16:43 -0800 (PST) Received: from postal.iol.unh.edu (postal.iol.unh.edu. [132.177.123.84]) by smtp-relay.gmail.com with ESMTPS id 3f1490d57ef6-e5dadea476asm423114276.9.2025.02.16.11.16.43 (version=TLS1_2 cipher=ECDHE-ECDSA-AES128-GCM-SHA256 bits=128/128); Sun, 16 Feb 2025 11:16:43 -0800 (PST) X-Relaying-Domain: iol.unh.edu Date: Sun, 16 Feb 2025 11:16:43 -0800 (PST) Message-ID: <67b2399b.250a0220.29c3b.5cd3SMTPIN_ADDED_MISSING@mx.google.com> Received: from [172.21.0.6] (unknown [172.18.0.240]) by postal.iol.unh.edu (Postfix) with ESMTP id DFF6D6052471; Sun, 16 Feb 2025 14:16:42 -0500 (EST) Subject: |SUCCESS| pw151532 [PATCH] crypto/openssl: validate incorrect signat From: dpdklab@iol.unh.edu To: Test Report Cc: dpdk-test-reports@iol.unh.edu In-Reply-To: <20250216142822.1508-1-gmuthukrishn@marvell.com> References: <20250216142822.1508-1-gmuthukrishn@marvell.com> Content-Type: text/plain X-BeenThere: test-report@dpdk.org X-Mailman-Version: 2.1.29 Precedence: list List-Id: automatic DPDK test reports List-Unsubscribe: , List-Archive: List-Post: List-Help: List-Subscribe: , Errors-To: test-report-bounces@dpdk.org Test-Label: iol-unit-amd64-testing Test-Status: SUCCESS http://dpdk.org/patch/151532 _Testing PASS_ Submitter: Gowrishankar Muthukrishnan Date: Sunday, February 16 2025 14:28:19 DPDK git baseline: Repo:dpdk Branch: master CommitID:e5176f23ae8b31437c3e5eb875c81f95bf3a9942 151532 --> testing pass Upstream job id: Generic-VM-Unit-Test-DPDK#27249 Test environment and result as below: +---------------------+----------------+ | Environment | dpdk_unit_test | +=====================+================+ | CentOS Stream 10 | PASS | +---------------------+----------------+ | CentOS Stream 9 | PASS | +---------------------+----------------+ | Debian Bullseye | PASS | +---------------------+----------------+ | Fedora 41 (Clang) | PASS | +---------------------+----------------+ | Ubuntu 22.04 | PASS | +---------------------+----------------+ | Fedora 40 (Clang) | PASS | +---------------------+----------------+ | Fedora 40 | PASS | +---------------------+----------------+ | RHEL9 | PASS | +---------------------+----------------+ | Fedora 41 | PASS | +---------------------+----------------+ | RHEL8 | PASS | +---------------------+----------------+ | Debian 12 | PASS | +---------------------+----------------+ | Ubuntu 20.04 | PASS | +---------------------+----------------+ | Ubuntu 24.04 | PASS | +---------------------+----------------+ | Windows Server 2022 | PASS | +---------------------+----------------+ CentOS Stream 10 Kernel: Depends on container host Compiler: gcc 14.2.1 20241104 (Red Hat 14.2.1-6) CentOS Stream 9 Kernel: Depends on container host Compiler: gcc 11.5.0 20240719 (Red Hat 11.5.0-2) Debian Bullseye Kernel: Depends on container host Compiler: gcc (Debian 10.2.1-6) 10.2.1 20210110 Fedora 41 (Clang) Kernel: Depends on container host Compiler: clang 19.1.5 (Fedora 19.1.5-1.fc41) Ubuntu 22.04 Kernel: Depends on container host Compiler: gcc (Ubuntu 11.4.0-1ubuntu1~22.04) 11.4.0 Fedora 40 (Clang) Kernel: Depends on container host Compiler: clang 18.1.8 (Fedora 18.1.8-1.fc40) Fedora 40 Kernel: Depends on container host Compiler: gcc 14.2.1 20240912 (Red Hat 14.2.1-3) RHEL9 Kernel: Depends on container host Compiler: gcc 11.5.0 20240719 (Red Hat 11.5.0-2) Fedora 41 Kernel: Depends on container host Compiler: gcc 14.2.1 20240912 (Red Hat 14.2.1-3) RHEL8 Kernel: Depends on container host Compiler: gcc 8.5.0 20210514 (Red Hat 8.5.0-22) Debian 12 Kernel: Depends on container host Compiler: gcc (Debian 12.2.0-14) 12.2.0 Ubuntu 20.04 Kernel: Depends on container host Compiler: gcc (Ubuntu 9.4.0-1ubuntu1~20.04.2) 9.4.0 Ubuntu 24.04 Kernel: Depends on container host Compiler: gcc (Ubuntu 13.3.0-6ubuntu2~24.04) 13.3.0 Windows Server 2022 Kernel: 10.0.20348.2031 Compiler: clang 15.0.7, gcc 14.1.0 (MinGW), and MSVC VS 19.39.33521 To view detailed results, visit: https://lab.dpdk.org/results/dashboard/patchsets/32588/ UNH-IOL DPDK Community Lab To manage your email subscriptions, visit: https://lab.dpdk.org/results/dashboard/preferences/subscriptions/