From mboxrd@z Thu Jan 1 00:00:00 1970 Return-Path: Received: from mails.dpdk.org (mails.dpdk.org [217.70.189.124]) by inbox.dpdk.org (Postfix) with ESMTP id 21EE14623E for ; Sun, 16 Feb 2025 20:35:00 +0100 (CET) Received: from mails.dpdk.org (localhost [127.0.0.1]) by mails.dpdk.org (Postfix) with ESMTP id F2A7D400EF; Sun, 16 Feb 2025 20:34:59 +0100 (CET) Received: from mail-pl1-f226.google.com (mail-pl1-f226.google.com [209.85.214.226]) by mails.dpdk.org (Postfix) with ESMTP id 5263D400D6 for ; Sun, 16 Feb 2025 20:34:58 +0100 (CET) Received: by mail-pl1-f226.google.com with SMTP id d9443c01a7336-220c8f38febso65694635ad.2 for ; Sun, 16 Feb 2025 11:34:58 -0800 (PST) DKIM-Signature: v=1; a=rsa-sha256; c=relaxed/relaxed; d=iol.unh.edu; s=unh-iol; t=1739734497; x=1740339297; darn=dpdk.org; h=references:in-reply-to:cc:to:from:subject:message-id:date:from:to :cc:subject:date:message-id:reply-to; bh=WRvlDS8Cq33G/ORQV5t2hNIzTc2YDGrlghMnipAvcAg=; b=F1i5LiUCGWkTuL7EBa2UTfRN7z/sQ+6Jp8J5HMaMbqPxH7/bbJF1OHKA/0qyntXXYE boQ/suJ1gNkUu5tt2dYD6wsEZHi5/byVZWOxxzY9HUfZFqMtZy9n32Sg9djz5NSlPYZb ZAVBaIhDq67jh2tn+bOiyDdiGd1bPItxgMqDg= X-Google-DKIM-Signature: v=1; a=rsa-sha256; c=relaxed/relaxed; d=1e100.net; s=20230601; t=1739734497; x=1740339297; h=references:in-reply-to:cc:to:from:subject:message-id:date :x-gm-message-state:from:to:cc:subject:date:message-id:reply-to; bh=WRvlDS8Cq33G/ORQV5t2hNIzTc2YDGrlghMnipAvcAg=; b=SwdE7NaLomsyQTysZai2p82qVwYYo6fb8jd9t8MdQ6wu4PidaRksiQoE3zB2rbNeeV jbWOtMOdMxoJQ8ZILlpVJBge1Fe6sUBEEcmuGfY2ZppCcHuUd+Cg/+ZcEmwzjLP9kBNL QGEHSqmy9CO8u72MrqB5GxA0DQicIgPyBS8Dqb9Oy+XwcQ+f0jWHjAWzBnFyfkKPXgLL eYcbVIQgIn+Q/PVLGIUDWNpbV4ln97rr1sZ12AXTEerdH9KFwZA4MuMRhuN6RN8OMh8u 26EKe3Qa3HsjGpT5GVal/2BaX+tpPCp/94q4d2kW41ROtzOK0iYsj1kM7ZHKQ0Ay+jUe QaGw== X-Gm-Message-State: AOJu0YxIUDjR9CTB83yBSohO8i82lWHbEVljrH3nBsuTTngj7WhALoLR BNi9Mp3Lxr50pV8EhNLqcR+fkIwrMbALw/7DJMfsEUyP00TZO3ebq5pXwW5c1oNg8RtwsJ0aUrP b16BllE8qoR40oRLQx3QW4MKlQzJZuKs2E+a7lC3jwkwXQzM31vkFIX9L X-Gm-Gg: ASbGnctoQqYHQuqfqNzlPHhTnBQbWegNuEmANqMFstoMIzjtP8GzfwmGM6vdKyoMzCH N2a4M5+LRHu4yw13Jf9lMiRIECbehk5g44iKhrdzAH6r0jAvgitrohwEvCwjNdnflsIxc1zsXG9 oITK2mrHPCwJYn8PW4hOQ0r811p9fmXgDFD/wazEzDapuNVYpcQ9k8hPXZbNUbYZ2cWiDuNCtim KRi5cbIB/Qyl4YtOsKd85Nbb0sSUZKHZxBDq2JEn1R4gCB63axeqfPX/q9zE+7V711Gw3RLqxRI mKwRRDNDo+3pScT5sfyDPkq+p7pEHRVdOnnFR5Dd3A== X-Google-Smtp-Source: AGHT+IGTVyaYoOfxbtUCSy2Aya+XKsE8xK/j10H5hLchbkLYgYM0xONVx5cTezGJBViHB5aQjTslA/7n4nv7 X-Received: by 2002:a17:902:e841:b0:220:ca39:d453 with SMTP id d9443c01a7336-2210401a692mr117759325ad.17.1739734497342; Sun, 16 Feb 2025 11:34:57 -0800 (PST) Received: from postal.iol.unh.edu (postal.iol.unh.edu. [2606:4100:3880:1234::84]) by smtp-relay.gmail.com with ESMTPS id 98e67ed59e1d1-2fc13a9d8bcsm443625a91.2.2025.02.16.11.34.57 (version=TLS1_2 cipher=ECDHE-ECDSA-AES128-GCM-SHA256 bits=128/128); Sun, 16 Feb 2025 11:34:57 -0800 (PST) X-Relaying-Domain: iol.unh.edu Date: Sun, 16 Feb 2025 11:34:57 -0800 (PST) Message-ID: <67b23de1.170a0220.8667e.6a98SMTPIN_ADDED_MISSING@mx.google.com> Received: from [172.21.0.5] (unknown [172.18.0.240]) by postal.iol.unh.edu (Postfix) with ESMTP id 667596052471; Sun, 16 Feb 2025 14:34:56 -0500 (EST) Subject: |SUCCESS| pw151532 [PATCH] crypto/openssl: validate incorrect signat From: dpdklab@iol.unh.edu To: Test Report Cc: dpdk-test-reports@iol.unh.edu In-Reply-To: <20250216142822.1508-1-gmuthukrishn@marvell.com> References: <20250216142822.1508-1-gmuthukrishn@marvell.com> Content-Type: text/plain X-BeenThere: test-report@dpdk.org X-Mailman-Version: 2.1.29 Precedence: list List-Id: automatic DPDK test reports List-Unsubscribe: , List-Archive: List-Post: List-Help: List-Subscribe: , Errors-To: test-report-bounces@dpdk.org Test-Label: iol-sample-apps-testing Test-Status: SUCCESS http://dpdk.org/patch/151532 _Testing PASS_ Submitter: Gowrishankar Muthukrishnan Date: Sunday, February 16 2025 14:28:19 DPDK git baseline: Repo:dpdk Branch: master CommitID:e5176f23ae8b31437c3e5eb875c81f95bf3a9942 151532 --> testing pass Upstream job id: ACVP-FIPS-testing#8930 Test environment and result as below: +--------------------+----------------------+----------------------+ | Environment | compressdev_zlib_pmd | dpdk_fips_validation | +====================+======================+======================+ | Ubuntu 22.04 (ARM) | PASS | SKIPPED | +--------------------+----------------------+----------------------+ | Ubuntu 22.04 | PASS | SKIPPED | +--------------------+----------------------+----------------------+ | Ubuntu 20.04 | SKIPPED | PASS | +--------------------+----------------------+----------------------+ Ubuntu 22.04 (ARM) Kernel: 5.15.0-97-generic Compiler: gcc gcc (Ubuntu 11.4.0-1ubuntu1~22.04) 11.4.0 Ubuntu 22.04 Kernel: 5.15.0-100-generic Compiler: gcc gcc (Ubuntu 11.4.0-1ubuntu1~22.04) 11.4.0 Ubuntu 20.04 Kernel: Depends on container host Compiler: gcc (Ubuntu 9.4.0-1ubuntu1~20.04.2) 9.4.0 To view detailed results, visit: https://lab.dpdk.org/results/dashboard/patchsets/32588/ UNH-IOL DPDK Community Lab To manage your email subscriptions, visit: https://lab.dpdk.org/results/dashboard/preferences/subscriptions/