From mboxrd@z Thu Jan 1 00:00:00 1970 Return-Path: Received: from mails.dpdk.org (mails.dpdk.org [217.70.189.124]) by inbox.dpdk.org (Postfix) with ESMTP id 4F7124623E for ; Sun, 16 Feb 2025 20:48:03 +0100 (CET) Received: from mails.dpdk.org (localhost [127.0.0.1]) by mails.dpdk.org (Postfix) with ESMTP id 48BE0400EF; Sun, 16 Feb 2025 20:48:03 +0100 (CET) Received: from mail-ot1-f98.google.com (mail-ot1-f98.google.com [209.85.210.98]) by mails.dpdk.org (Postfix) with ESMTP id 27E62400D6 for ; Sun, 16 Feb 2025 20:48:01 +0100 (CET) Received: by mail-ot1-f98.google.com with SMTP id 46e09a7af769-72703b0fe2fso1794396a34.1 for ; Sun, 16 Feb 2025 11:48:01 -0800 (PST) DKIM-Signature: v=1; a=rsa-sha256; c=relaxed/relaxed; d=iol.unh.edu; s=unh-iol; t=1739735280; x=1740340080; darn=dpdk.org; h=cc:to:from:subject:message-id:date:from:to:cc:subject:date :message-id:reply-to; bh=HZL3Dqh+rf4afDOtg+O+NuHDcvpINSax0Cgi4BvpTxM=; b=RqVMoALwD8N9lMxxm3HCvvKkLvOiY+xuf1ZNctlzCOt2wCGhSvuYDeTpC9uT5KmEPJ emXumenphIw2uocjx5lds5guf+laA5ZNku7ntXFR5OmmnRzVy03zeYJmNv0MCKbUdxoi KitCOPkp9BXSAwFieC1R79O0IA1Wo3DKcaM14= X-Google-DKIM-Signature: v=1; a=rsa-sha256; c=relaxed/relaxed; d=1e100.net; s=20230601; t=1739735280; x=1740340080; h=cc:to:from:subject:message-id:date:x-gm-message-state:from:to:cc :subject:date:message-id:reply-to; bh=HZL3Dqh+rf4afDOtg+O+NuHDcvpINSax0Cgi4BvpTxM=; b=wQNBzk4bXW5nGuS08owH3qqll4/XZUllFA6vQG5NGclW1u+4rrbImpDm1ku1jIH7Zx 0bpuihxzBZ2b3vCyNG6c7+rFh0IQ5rEHbaHmRtW7Dmnyn9x0QODzdLAnoG/ikY4V9mpb CGJvzPN1nfXT4ITZls5Y7ySgRuq7b7U5HD586gZl4na6s2sMnBwYMd0UWFfJGixCIpxj v54SIo69Vy58e28trPAepAtjweMDYnQlcgmPuEyy3uG2YoIvmuKgFe8MH481qFREMSKp 2A14bB3da1bOQcPhRSkh+uyJqcPEFB22ZZkB7NKA6UnjYz2uG+nOAp7SWn72R5958GOm k/NQ== X-Gm-Message-State: AOJu0Yw9x1uZYARLEbsnuXdgFraJEy+23Malc9NL4MmGaE/QLQBypoAp STKDDNtnQeQUSP1b0GCnOW/Ixt2o3mVzzN7MA39r20Fkn6YD3sdf28YdTeov4Zp0NjlYNNQi/9d MuwdLLL96GklltHYVgvYn6G/uQZkPF/EJ X-Gm-Gg: ASbGncs6qjOI3whkr5Q9nwqxVxMT35mMF337KEcc/6KR7QjV3lG8mEK1WG01/2Fy7z8 0dgPOipAltsBHk2ObLZugULImPUP6oRX5cuCNXg5fdMf9fezOu0nuBCrDnCG4r0E/XfaijGbzUy df9vU+nun73u27j8LewQBcD2ATRwBsD4dS3LNr7GKTCHlf0n/0qtdKY2AdGc26Zg/VAEe1n8SDX NRNY0BtkEdRBz/uxHND7qKR2PmzYGcJAJvjrRygcwlX16MiH+dM06ulozkBxAmVU9V2uzlDoet2 MvZoxuxkmJL/W+k57GXBtfNQh70PGQ== X-Google-Smtp-Source: AGHT+IH++3UtfWiKAa0yqFA89BBxLSL5FvQJr+nb43SODhmwexNw48ZH5YQf05kmqcZMNV0a1DHcLqaxgfCf X-Received: by 2002:a05:6830:350b:b0:727:1003:2566 with SMTP id 46e09a7af769-727120632cdmr4890834a34.14.1739735280379; Sun, 16 Feb 2025 11:48:00 -0800 (PST) Received: from postal.iol.unh.edu (postal.iol.unh.edu. [132.177.123.84]) by smtp-relay.gmail.com with ESMTPS id 006d021491bc7-5fcd2b61410sm8568eaf.6.2025.02.16.11.48.00 (version=TLS1_2 cipher=ECDHE-ECDSA-AES128-GCM-SHA256 bits=128/128); Sun, 16 Feb 2025 11:48:00 -0800 (PST) X-Relaying-Domain: iol.unh.edu Date: Sun, 16 Feb 2025 11:48:00 -0800 (PST) Message-ID: <67b240f0.050a0220.3724ef.05b8SMTPIN_ADDED_MISSING@mx.google.com> Received: from [172.21.0.9] (unknown [172.18.0.240]) by postal.iol.unh.edu (Postfix) with ESMTP id 813636052471; Sun, 16 Feb 2025 14:47:59 -0500 (EST) Subject: |SUCCESS| [GIT MASTER] 5a7e0e1cfe70bc32fc87ef7141fac01bc27ae73f From: dpdklab@iol.unh.edu To: Test Report Cc: dpdk-test-reports@iol.unh.edu, Xueming Li , Christian Ehrhardt , Kevin Traynor , Luca Boccassi Content-Type: text/plain X-BeenThere: test-report@dpdk.org X-Mailman-Version: 2.1.29 Precedence: list List-Id: automatic DPDK test reports List-Unsubscribe: , List-Archive: List-Post: List-Help: List-Subscribe: , Errors-To: test-report-bounces@dpdk.org _Testing PASS_ Branch: 23.11-staging 5a7e0e1cfe70bc32fc87ef7141fac01bc27ae73f --> testing pass Upstream job id: Generic-DPDK-Compile-Meson#362094 Test environment and result as below: +------------------------------------+--------------------+ | Environment | dpdk_meson_compile | +====================================+====================+ | RHEL9 (ARM) | PASS | +------------------------------------+--------------------+ | Ubuntu 20.04 ARM GCC Cross Compile | PASS | +------------------------------------+--------------------+ | Ubuntu 20.04 ARM SVE | PASS | +------------------------------------+--------------------+ | Debian 12 with MUSDK | PASS | +------------------------------------+--------------------+ | Fedora 40 (ARM Clang) | PASS | +------------------------------------+--------------------+ | Fedora 40 (ARM) | PASS | +------------------------------------+--------------------+ | Fedora 41 (ARM Clang) | PASS | +------------------------------------+--------------------+ | Fedora 41 (ARM) | PASS | +------------------------------------+--------------------+ | Ubuntu 20.04 (ARM) | PASS | +------------------------------------+--------------------+ | Ubuntu 22.04 (ARM) | PASS | +------------------------------------+--------------------+ | CentOS Stream 9 (ARM) | PASS | +------------------------------------+--------------------+ | Ubuntu 24.04 (ARM) | PASS | +------------------------------------+--------------------+ | CentOS Stream 10 (ARM) | PASS | +------------------------------------+--------------------+ | Debian 11 (Buster) (ARM) | PASS | +------------------------------------+--------------------+ | Debian 12 (arm) | PASS | +------------------------------------+--------------------+ RHEL9 (ARM) Kernel: Depends on container host Compiler: gcc 11.5.0 20240719 (Red Hat 11.5.0-2) Ubuntu 20.04 ARM GCC Cross Compile Kernel: Depends on container host Compiler: aarch64-linux-gnu-gcc (Ubuntu 9.4.0-1ubuntu1~20.04.2) 9.4.0 Ubuntu 20.04 ARM SVE Kernel: Depends on container host Compiler: gcc (Ubuntu 10.5.0-1ubuntu1~20.04) 10.5.0 Debian 12 with MUSDK Kernel: Depends on container host Compiler: gcc (Debian 12.2.0-14) 12.2.0 Fedora 40 (ARM Clang) Kernel: Depends on container host Compiler: clang 18.1.8 (Fedora 18.1.8-1.fc40) Fedora 40 (ARM) Kernel: Depends on container host Compiler: gcc 14.2.1 20240912 (Red Hat 14.2.1-3) Fedora 41 (ARM Clang) Kernel: Depends on container host Compiler: clang 19.1.5 (Fedora 19.1.5-1.fc41) Fedora 41 (ARM) Kernel: Depends on container host Compiler: gcc 14.2.1 20240912 (Red Hat 14.2.1-3) Ubuntu 20.04 (ARM) Kernel: Depends on container host Compiler: gcc (Ubuntu 9.4.0-1ubuntu1~20.04.2) 9.4.0 Ubuntu 22.04 (ARM) Kernel: Depends on container host Compiler: gcc (Ubuntu 11.4.0-1ubuntu1~22.04) 11.4.0 CentOS Stream 9 (ARM) Kernel: Depends on container host Compiler: gcc 11.5.0 20240719 (Red Hat 11.5.0-2) Ubuntu 24.04 (ARM) Kernel: Depends on container host Compiler: gcc (Ubuntu 13.3.0-6ubuntu2~24.04) 13.3.0 CentOS Stream 10 (ARM) Kernel: Depends on container host Compiler: gcc 14.2.1 20241104 (Red Hat 14.2.1-6) Debian 11 (Buster) (ARM) Kernel: Depends on container host Compiler: gcc (Debian 10.2.1-6) 10.2.1 20210110 Debian 12 (arm) Kernel: Depends on container host Compiler: gcc (Debian 12.2.0-14) 12.2.0 To view detailed results, visit: https://lab.dpdk.org/results/dashboard/tarballs/32592/ UNH-IOL DPDK Community Lab To manage your email subscriptions, visit: https://lab.dpdk.org/results/dashboard/preferences/subscriptions/